Back to Build/check report for BioC 3.23:   simplified   long
ABCDEFGHIJKLMNOPQ[R]STUVWXYZ

This page was generated on 2025-11-08 11:32 -0500 (Sat, 08 Nov 2025).

HostnameOSArch (*)R versionInstalled pkgs
nebbiolo1Linux (Ubuntu 24.04.3 LTS)x86_64R Under development (unstable) (2025-10-20 r88955) -- "Unsuffered Consequences" 4821
Click on any hostname to see more info about the system (e.g. compilers)      (*) as reported by 'uname -p', except on Windows and Mac OS X

All results for package RCy3


To the developers/maintainers of the RCy3 package:
- Allow up to 24 hours (and sometimes 48 hours) for your latest push to git@git.bioconductor.org:packages/RCy3.git to reflect on this report. See Troubleshooting Build Report for more information.
- Use the following Renviron settings to reproduce errors and warnings.
- If 'R CMD check' started to fail recently on the Linux builder(s) over a missing dependency, add the missing dependency to 'Suggests:' in your DESCRIPTION file. See Renviron.bioc for more information.

raw results

Package 1713/2323HostnameOS / ArchINSTALLBUILDCHECKBUILD BIN
RCy3 2.31.0  (landing page)
Alex Pico
Snapshot Date: 2025-11-07 13:40 -0500 (Fri, 07 Nov 2025)
git_url: https://git.bioconductor.org/packages/RCy3
git_branch: devel
git_last_commit: f7dcce5
git_last_commit_date: 2025-10-29 10:28:27 -0500 (Wed, 29 Oct 2025)
nebbiolo1Linux (Ubuntu 24.04.3 LTS) / x86_64  OK    OK    OK  UNNEEDED, same version is already published



Results for Bioconductor software packages that depend directly on package RCy3

QUICK STATSOS / ArchINSTALLBUILDCHECKBUILD BIN
nebbiolo1Linux (Ubuntu 24.04.3 LTS) / x86_64
0011
0011
00110
Package 1/11HostnameOS / ArchINSTALLBUILDCHECKBUILD BIN
categoryCompare 1.55.0  (landing page)
Robert M. Flight
git_last_commit: 22bf171
git_last_commit_date: 2025-10-29 10:11:00 -0500
nebbiolo1Linux (Ubuntu 24.04.3 LTS) / x86_64  OK    OK    OK  UNNEEDED, same version is already published
Package 2/11HostnameOS / ArchINSTALLBUILDCHECKBUILD BIN
CeTF 1.23.0  (landing page)
Carlos Alberto Oliveira de Biagi Junior
git_last_commit: d8786fc
git_last_commit_date: 2025-10-29 10:56:07 -0500
nebbiolo1Linux (Ubuntu 24.04.3 LTS) / x86_64  OK    OK    OK  UNNEEDED, same version is already published
Package 3/11HostnameOS / ArchINSTALLBUILDCHECKBUILD BIN
enrichViewNet 1.9.0  (landing page)
Astrid DeschĂȘnes
git_last_commit: a935360
git_last_commit_date: 2025-10-29 11:26:13 -0500
nebbiolo1Linux (Ubuntu 24.04.3 LTS) / x86_64  OK    OK    OK  UNNEEDED, same version is already published
Package 4/11HostnameOS / ArchINSTALLBUILDCHECKBUILD BIN
fedup 1.19.0  (landing page)
Catherine Ross
git_last_commit: 11eedb8
git_last_commit_date: 2025-10-29 11:07:28 -0500
nebbiolo1Linux (Ubuntu 24.04.3 LTS) / x86_64  OK    OK    OK  UNNEEDED, same version is already published
Package 5/11HostnameOS / ArchINSTALLBUILDCHECKBUILD BIN
GeneNetworkBuilder 1.53.0  (landing page)
Jianhong Ou
git_last_commit: 98b73cc
git_last_commit_date: 2025-10-29 10:11:49 -0500
nebbiolo1Linux (Ubuntu 24.04.3 LTS) / x86_64  OK    OK    OK  UNNEEDED, same version is already published
Package 6/11HostnameOS / ArchINSTALLBUILDCHECKBUILD BIN
MetaPhOR 1.13.0  (landing page)
Emily Isenhart
git_last_commit: d88197a
git_last_commit_date: 2025-10-29 11:19:21 -0500
nebbiolo1Linux (Ubuntu 24.04.3 LTS) / x86_64  OK    OK    OK  UNNEEDED, same version is already published
Package 7/11HostnameOS / ArchINSTALLBUILDCHECKBUILD BIN
MOGAMUN 1.21.0  (landing page)
Elva-MarĂ­a Novoa-del-Toro
git_last_commit: 9dca90c
git_last_commit_date: 2025-10-29 11:03:44 -0500
nebbiolo1Linux (Ubuntu 24.04.3 LTS) / x86_64  OK    OK    OK  UNNEEDED, same version is already published
Package 8/11HostnameOS / ArchINSTALLBUILDCHECKBUILD BIN
MSstatsBioNet 1.3.1  (landing page)
Anthony Wu
git_last_commit: 5afd016
git_last_commit_date: 2025-11-05 18:51:59 -0500
nebbiolo1Linux (Ubuntu 24.04.3 LTS) / x86_64  OK    OK    WARNINGS  UNNEEDED, same version is already published
Package 9/11HostnameOS / ArchINSTALLBUILDCHECKBUILD BIN
NCIgraph 1.59.0  (landing page)
Laurent Jacob
git_last_commit: 5a91ea4
git_last_commit_date: 2025-10-29 10:07:17 -0500
nebbiolo1Linux (Ubuntu 24.04.3 LTS) / x86_64  OK    OK    OK  UNNEEDED, same version is already published
Package 10/11HostnameOS / ArchINSTALLBUILDCHECKBUILD BIN
regutools 1.23.0  (landing page)
Joselyn Chavez
git_last_commit: a894ec8
git_last_commit_date: 2025-10-29 10:59:10 -0500
nebbiolo1Linux (Ubuntu 24.04.3 LTS) / x86_64  OK    OK    OK  UNNEEDED, same version is already published
Package 11/11HostnameOS / ArchINSTALLBUILDCHECKBUILD BIN
transomics2cytoscape 1.21.0  (landing page)
Kozo Nishida
git_last_commit: ec6e45e
git_last_commit_date: 2025-10-29 11:01:08 -0500
nebbiolo1Linux (Ubuntu 24.04.3 LTS) / x86_64  OK    OK    OK  UNNEEDED, same version is already published