Back to Multiple platform build/check report for BioC 3.23:   simplified   long
ABCDEFGHIJKLMNOPQ[R]STUVWXYZ

This page was generated on 2025-11-21 11:39 -0500 (Fri, 21 Nov 2025).

HostnameOSArch (*)R versionInstalled pkgs
nebbiolo1Linux (Ubuntu 24.04.3 LTS)x86_64R Under development (unstable) (2025-10-20 r88955) -- "Unsuffered Consequences" 4829
lconwaymacOS 12.7.6 Montereyx86_64R Under development (unstable) (2025-10-21 r88958) -- "Unsuffered Consequences" 4602
kjohnson3macOS 13.7.7 Venturaarm64R Under development (unstable) (2025-11-04 r88984) -- "Unsuffered Consequences" 4566
Click on any hostname to see more info about the system (e.g. compilers)      (*) as reported by 'uname -p', except on Windows and Mac OS X

Package 1681/2327HostnameOS / ArchINSTALLBUILDCHECKBUILD BIN
RAIDS 1.9.0  (landing page)
Pascal Belleau
Snapshot Date: 2025-11-20 13:40 -0500 (Thu, 20 Nov 2025)
git_url: https://git.bioconductor.org/packages/RAIDS
git_branch: devel
git_last_commit: 27cee94
git_last_commit_date: 2025-10-29 11:25:36 -0500 (Wed, 29 Oct 2025)
nebbiolo1Linux (Ubuntu 24.04.3 LTS) / x86_64  OK    OK    OK  NO, package depends on 'GENESIS' which is not available
lconwaymacOS 12.7.6 Monterey / x86_64  OK    OK    OK    OK  NO, package depends on 'GENESIS' which is not available
kjohnson3macOS 13.7.7 Ventura / arm64  OK    OK    OK    OK  NO, package depends on 'GENESIS' which is not available


CHECK results for RAIDS on lconway

To the developers/maintainers of the RAIDS package:
- Allow up to 24 hours (and sometimes 48 hours) for your latest push to git@git.bioconductor.org:packages/RAIDS.git to reflect on this report. See Troubleshooting Build Report for more information.
- Use the following Renviron settings to reproduce errors and warnings.
- If 'R CMD check' started to fail recently on the Linux builder(s) over a missing dependency, add the missing dependency to 'Suggests:' in your DESCRIPTION file. See Renviron.bioc for more information.

raw results


Summary

Package: RAIDS
Version: 1.9.0
Command: /Library/Frameworks/R.framework/Resources/bin/R CMD check --install=check:RAIDS.install-out.txt --library=/Library/Frameworks/R.framework/Resources/library --no-vignettes --timings RAIDS_1.9.0.tar.gz
StartedAt: 2025-11-20 23:28:16 -0500 (Thu, 20 Nov 2025)
EndedAt: 2025-11-20 23:36:40 -0500 (Thu, 20 Nov 2025)
EllapsedTime: 504.6 seconds
RetCode: 0
Status:   OK  
CheckDir: RAIDS.Rcheck
Warnings: 0

Command output

##############################################################################
##############################################################################
###
### Running command:
###
###   /Library/Frameworks/R.framework/Resources/bin/R CMD check --install=check:RAIDS.install-out.txt --library=/Library/Frameworks/R.framework/Resources/library --no-vignettes --timings RAIDS_1.9.0.tar.gz
###
##############################################################################
##############################################################################


* using log directory ‘/Users/biocbuild/bbs-3.23-bioc/meat/RAIDS.Rcheck’
* using R Under development (unstable) (2025-10-21 r88958)
* using platform: x86_64-apple-darwin20
* R was compiled by
    Apple clang version 14.0.0 (clang-1400.0.29.202)
    GNU Fortran (GCC) 14.2.0
* running under: macOS Ventura 13.7.8
* using session charset: UTF-8
* using option ‘--no-vignettes’
* checking for file ‘RAIDS/DESCRIPTION’ ... OK
* checking extension type ... Package
* this is package ‘RAIDS’ version ‘1.9.0’
* package encoding: UTF-8
* checking package namespace information ... OK
* checking package dependencies ... OK
* checking if this is a source package ... OK
* checking if there is a namespace ... OK
* checking for hidden files and directories ... OK
* checking for portable file names ... OK
* checking for sufficient/correct file permissions ... OK
* checking whether package ‘RAIDS’ can be installed ... OK
* checking installed package size ... OK
* checking package directory ... OK
* checking ‘build’ directory ... OK
* checking DESCRIPTION meta-information ... OK
* checking top-level files ... OK
* checking for left-over files ... OK
* checking index information ... OK
* checking package subdirectories ... OK
* checking code files for non-ASCII characters ... OK
* checking R files for syntax errors ... OK
* checking whether the package can be loaded ... OK
* checking whether the package can be loaded with stated dependencies ... OK
* checking whether the package can be unloaded cleanly ... OK
* checking whether the namespace can be loaded with stated dependencies ... OK
* checking whether the namespace can be unloaded cleanly ... OK
* checking dependencies in R code ... OK
* checking S3 generic/method consistency ... OK
* checking replacement functions ... OK
* checking foreign function calls ... OK
* checking R code for possible problems ... OK
* checking Rd files ... OK
* checking Rd metadata ... OK
* checking Rd cross-references ... OK
* checking for missing documentation entries ... OK
* checking for code/documentation mismatches ... OK
* checking Rd \usage sections ... NOTE
Documented arguments not in \usage in Rd file 'wrapperAncestry.Rd':
  ‘pathGeno’

Functions with \usage entries need to have the appropriate \alias
entries, and all their arguments documented.
The \usage entries must correspond to syntactically valid R code.
See chapter ‘Writing R documentation files’ in the ‘Writing R
Extensions’ manual.
* checking Rd contents ... OK
* checking for unstated dependencies in examples ... OK
* checking contents of ‘data’ directory ... OK
* checking data for non-ASCII characters ... OK
* checking data for ASCII and uncompressed saves ... OK
* checking files in ‘vignettes’ ... OK
* checking examples ... OK
Examples with CPU (user + system) or elapsed time > 5s
                                  user system elapsed
computeAncestryFromSyntheticFile 7.613  0.251   7.923
selParaPCAUpQuartile             6.256  0.048   6.335
readSNVBAM                       5.703  0.035   5.772
readSNVVCF                       5.589  0.069   5.686
* checking for unstated dependencies in ‘tests’ ... OK
* checking tests ...
  Running ‘testthat.R’
 OK
* checking for unstated dependencies in vignettes ... OK
* checking package vignettes ... OK
* checking running R code from vignettes ... SKIPPED
* checking re-building of vignette outputs ... SKIPPED
* checking PDF version of manual ... OK
* DONE

Status: 1 NOTE
See
  ‘/Users/biocbuild/bbs-3.23-bioc/meat/RAIDS.Rcheck/00check.log’
for details.


Installation output

RAIDS.Rcheck/00install.out

##############################################################################
##############################################################################
###
### Running command:
###
###   /Library/Frameworks/R.framework/Resources/bin/R CMD INSTALL RAIDS
###
##############################################################################
##############################################################################


* installing to library ‘/Library/Frameworks/R.framework/Versions/4.6-x86_64/Resources/library’
* installing *source* package ‘RAIDS’ ...
** this is package ‘RAIDS’ version ‘1.9.0’
** using staged installation
** R
** data
** inst
** byte-compile and prepare package for lazy loading
** help
*** installing help indices
** building package indices
** installing vignettes
** testing if installed package can be loaded from temporary location
** testing if installed package can be loaded from final location
** testing if installed package keeps a record of temporary installation path
* DONE (RAIDS)

Tests output

RAIDS.Rcheck/tests/testthat.Rout


R Under development (unstable) (2025-10-21 r88958) -- "Unsuffered Consequences"
Copyright (C) 2025 The R Foundation for Statistical Computing
Platform: x86_64-apple-darwin20

R is free software and comes with ABSOLUTELY NO WARRANTY.
You are welcome to redistribute it under certain conditions.
Type 'license()' or 'licence()' for distribution details.

R is a collaborative project with many contributors.
Type 'contributors()' for more information and
'citation()' on how to cite R or R packages in publications.

Type 'demo()' for some demos, 'help()' for on-line help, or
'help.start()' for an HTML browser interface to help.
Type 'q()' to quit R.

> library(testthat)
> library(RAIDS)
Loading required package: gdsfmt
Loading required package: SNPRelate
SNPRelate -- supported by Streaming SIMD Extensions 2 (SSE2)
Loading required package: GENESIS
Loading required package: dplyr

Attaching package: 'dplyr'

The following objects are masked from 'package:stats':

    filter, lag

The following objects are masked from 'package:base':

    intersect, setdiff, setequal, union

Loading required package: Rsamtools
Loading required package: Seqinfo
Loading required package: BiocGenerics
Loading required package: generics

Attaching package: 'generics'

The following object is masked from 'package:dplyr':

    explain

The following objects are masked from 'package:base':

    as.difftime, as.factor, as.ordered, intersect, is.element, setdiff,
    setequal, union


Attaching package: 'BiocGenerics'

The following object is masked from 'package:dplyr':

    combine

The following objects are masked from 'package:stats':

    IQR, mad, sd, var, xtabs

The following objects are masked from 'package:base':

    Filter, Find, Map, Position, Reduce, anyDuplicated, aperm, append,
    as.data.frame, basename, cbind, colnames, dirname, do.call,
    duplicated, eval, evalq, get, grep, grepl, is.unsorted, lapply,
    mapply, match, mget, order, paste, pmax, pmax.int, pmin, pmin.int,
    rank, rbind, rownames, sapply, saveRDS, table, tapply, unique,
    unsplit, which.max, which.min

Loading required package: GenomicRanges
Loading required package: stats4
Loading required package: S4Vectors

Attaching package: 'S4Vectors'

The following objects are masked from 'package:dplyr':

    first, rename

The following object is masked from 'package:utils':

    findMatches

The following objects are masked from 'package:base':

    I, expand.grid, unname

Loading required package: IRanges

Attaching package: 'IRanges'

The following objects are masked from 'package:dplyr':

    collapse, desc, slice

Loading required package: Biostrings
Loading required package: XVector

Attaching package: 'Biostrings'

The following object is masked from 'package:base':

    strsplit

> 
> ## Run all unit tests
> test_check("RAIDS")

Attaching package: 'Matrix'

The following object is masked from 'package:S4Vectors':

    expand

[ FAIL 0 | WARN 0 | SKIP 0 | PASS 478 ]
> 
> proc.time()
   user  system elapsed 
 43.411   2.759  46.655 

Example timings

RAIDS.Rcheck/RAIDS-Ex.timings

nameusersystemelapsed
add1KG2SampleGDS0.0690.0230.103
addBlockFromDetFile0.0030.0030.007
addBlockInGDSAnnot0.0060.0050.011
addGDS1KGLDBlock0.0020.0020.003
addGDSRef0.0030.0030.007
addGDSStudyPruning0.0010.0010.003
addGeneBlockGDSRefAnnot1.2010.1171.348
addGeneBlockRefAnnot0.0030.0030.005
addRef2GDS1KG0.0060.0060.013
addStudy1Kg0.0110.0100.024
addStudyGDSSample0.0080.0050.014
addUpdateLap0.0010.0020.003
addUpdateSegment0.0010.0020.005
appendGDSRefSample0.0080.0040.012
appendGDSSampleOnly0.0020.0010.003
appendGDSgenotype0.0180.0130.035
appendGDSgenotypeMat0.0020.0030.004
calcAFMLRNA0.0050.0040.010
computeAlleleFraction0.0040.0000.004
computeAllelicFractionDNA0.1690.0110.182
computeAllelicFractionRNA0.2710.0080.299
computeAllelicImbDNAChr0.0080.0010.010
computeAncestryFromSynthetic0.0190.0070.027
computeAncestryFromSyntheticFile7.6130.2517.923
computeKNNRefSample0.0140.0060.020
computeKNNRefSynthetic2.7800.1072.905
computeLOHBlocksDNAChr0.0110.0030.013
computePCAMultiSynthetic0.0090.0050.014
computePCARefRMMulti0.2780.0080.286
computePCARefSample0.3580.0050.367
computePoolSyntheticAncestryGr0.5940.0150.615
computeSyntheticConfMat0.0180.0060.025
computeSyntheticROC0.0390.0080.048
createAUROCGraph1.0290.0521.094
createAccuracyGraph0.9220.0090.940
createProfile0.0590.0150.077
createStudy2GDS1KG0.0660.0150.084
demoKnownSuperPop1KG1.5140.0581.578
demoPCA1KG0.0060.0060.013
demoPCASyntheticProfiles1.510.041.56
demoPedigreeEx10.0200.0060.026
estimateAllelicFraction0.0870.0060.094
extractNucleotide0.0000.0010.001
generateGDS1KG0.0150.0120.029
generateGDS1KGgenotypeFromSNPPileup0.0570.0170.079
generateGDSRefSample0.0060.0040.011
generateGDSSNPinfo0.0050.0040.011
generateGDSgenotype0.0150.0100.026
generateGeneBlock0.0020.0010.003
generateMapSnvSel0.0030.0030.006
generatePhase1KG2GDS0.0150.0130.030
generatePhaseRef0.0160.0110.029
generateProfileGDS0.0600.0140.077
getBlockIDs0.0030.0020.004
getRef1KGPop0.0040.0020.006
getRefSuperPop0.0030.0010.005
getTableSNV0.0140.0030.018
groupChr1KGSNV0.0660.1180.222
identifyRelative0.0090.0030.013
identifyRelativeRef0.0060.0030.009
inferAncestry0.0120.0020.015
inferAncestryDNA0.0150.0020.017
inferAncestryGeneAware0.0130.0020.015
matKNNSynthetic0.0450.0080.054
pedSynthetic0.0520.0090.062
prepPed1KG0.0050.0020.007
prepPedSynthetic1KG0.0050.0020.007
prepSynthetic0.0140.0050.020
processBlockChr0.0030.0020.005
processPileupChrBin3.4470.0763.547
profileAncestry0.0200.0060.026
pruning1KGbyChr0.0040.0020.006
pruningSample0.0420.0100.053
readSNVBAM5.7030.0355.772
readSNVFileGeneric0.0040.0010.005
readSNVPileupFile0.0450.0020.048
readSNVVCF5.5890.0695.686
runExomeAncestry0.0170.0050.022
runIBDKING0.0400.0070.049
runLDPruning0.0230.0120.035
runProfileAncestry0.0190.0070.025
runRNAAncestry0.0180.0060.023
runWrapperAncestry0.0200.0050.025
selParaPCAUpQuartile6.2560.0486.335
select1KGPop0.0050.0010.006
select1KGPopForSynthetic0.0050.0010.005
snpPositionDemo0.0040.0050.007
snvListVCF0.0040.0030.007
splitSelectByPop0.0010.0000.002
syntheticGeno0.0320.0070.040
tableBlockAF0.0250.0050.030
testAlleleFractionChange0.0010.0000.002
testEmptyBox0.0020.0010.002
validateAccuracyGraphInternal0.0000.0010.000
validateAdd1KG2SampleGDS0.0020.0010.003
validateAddStudy1Kg0.0020.0010.003
validateCharacterString000
validateComputeAncestryFromSyntheticFile0.0020.0010.003
validateComputeKNNRefSample0.0040.0060.010
validateComputeKNNRefSynthetic0.0060.0080.013
validateComputePCAMultiSynthetic0.0030.0040.009
validateComputePCARefSample0.0010.0000.002
validateComputePoolSyntheticAncestryGr0.0010.0010.002
validateComputeSyntheticRoc0.0110.0060.017
validateCreateAccuracyGraph0.0010.0010.002
validateCreateStudy2GDS1KG0.0020.0010.003
validateDataRefSynParameter0.0000.0000.001
validateEstimateAllelicFraction0.0040.0020.006
validateGDSClass0.0010.0010.001
validateGenerateGDS1KG0.0010.0010.002
validateLogical000
validatePEDStudyParameter0.0010.0000.002
validatePepSynthetic0.0020.0010.002
validatePositiveIntegerVector000
validatePrepPed1KG0.0010.0000.002
validateProfileGDSExist0.0010.0000.002
validatePruningSample0.0020.0010.003
validateRunExomeOrRNAAncestry0.0040.0010.006
validateSingleRatio000
validateStudyDataFrameParameter0.0010.0000.001
validateSyntheticGeno0.0020.0020.003
validatecreateAUROCGraph0.0010.0010.003
validatecreateProfile0.0030.0010.004
wrapperAncestry0.0200.0060.026