| Back to Multiple platform build/check report for BioC 3.23: simplified long |
|
This page was generated on 2025-11-18 11:39 -0500 (Tue, 18 Nov 2025).
| Hostname | OS | Arch (*) | R version | Installed pkgs |
|---|---|---|---|---|
| nebbiolo1 | Linux (Ubuntu 24.04.3 LTS) | x86_64 | R Under development (unstable) (2025-10-20 r88955) -- "Unsuffered Consequences" | 4826 |
| lconway | macOS 12.7.6 Monterey | x86_64 | R Under development (unstable) (2025-10-21 r88958) -- "Unsuffered Consequences" | 4561 |
| kjohnson3 | macOS 13.7.7 Ventura | arm64 | R Under development (unstable) (2025-11-04 r88984) -- "Unsuffered Consequences" | 4562 |
| Click on any hostname to see more info about the system (e.g. compilers) (*) as reported by 'uname -p', except on Windows and Mac OS X | ||||
| Package 1631/2325 | Hostname | OS / Arch | INSTALL | BUILD | CHECK | BUILD BIN | ||||||||
| PRONE 1.5.0 (landing page) Lis Arend
| nebbiolo1 | Linux (Ubuntu 24.04.3 LTS) / x86_64 | OK | OK | OK | |||||||||
| lconway | macOS 12.7.6 Monterey / x86_64 | OK | OK | OK | OK | |||||||||
| kjohnson3 | macOS 13.7.7 Ventura / arm64 | OK | OK | OK | OK | |||||||||
|
To the developers/maintainers of the PRONE package: - Allow up to 24 hours (and sometimes 48 hours) for your latest push to git@git.bioconductor.org:packages/PRONE.git to reflect on this report. See Troubleshooting Build Report for more information. - Use the following Renviron settings to reproduce errors and warnings. - If 'R CMD check' started to fail recently on the Linux builder(s) over a missing dependency, add the missing dependency to 'Suggests:' in your DESCRIPTION file. See Renviron.bioc for more information. |
| Package: PRONE |
| Version: 1.5.0 |
| Command: /Library/Frameworks/R.framework/Resources/bin/R CMD check --install=check:PRONE.install-out.txt --library=/Library/Frameworks/R.framework/Resources/library --no-vignettes --timings PRONE_1.5.0.tar.gz |
| StartedAt: 2025-11-18 04:50:41 -0500 (Tue, 18 Nov 2025) |
| EndedAt: 2025-11-18 04:56:44 -0500 (Tue, 18 Nov 2025) |
| EllapsedTime: 363.1 seconds |
| RetCode: 0 |
| Status: OK |
| CheckDir: PRONE.Rcheck |
| Warnings: 0 |
##############################################################################
##############################################################################
###
### Running command:
###
### /Library/Frameworks/R.framework/Resources/bin/R CMD check --install=check:PRONE.install-out.txt --library=/Library/Frameworks/R.framework/Resources/library --no-vignettes --timings PRONE_1.5.0.tar.gz
###
##############################################################################
##############################################################################
* using log directory ‘/Users/biocbuild/bbs-3.23-bioc/meat/PRONE.Rcheck’
* using R Under development (unstable) (2025-10-21 r88958)
* using platform: x86_64-apple-darwin20
* R was compiled by
Apple clang version 14.0.0 (clang-1400.0.29.202)
GNU Fortran (GCC) 14.2.0
* running under: macOS Ventura 13.7.8
* using session charset: UTF-8
* using option ‘--no-vignettes’
* checking for file ‘PRONE/DESCRIPTION’ ... OK
* checking extension type ... Package
* this is package ‘PRONE’ version ‘1.5.0’
* package encoding: UTF-8
* checking package namespace information ... OK
* checking package dependencies ... INFO
Imports includes 34 non-default packages.
Importing from so many packages makes the package vulnerable to any of
them becoming unavailable. Move as many as possible to Suggests and
use conditionally.
* checking if this is a source package ... OK
* checking if there is a namespace ... OK
* checking for hidden files and directories ... OK
* checking for portable file names ... OK
* checking for sufficient/correct file permissions ... OK
* checking whether package ‘PRONE’ can be installed ... OK
* checking installed package size ... OK
* checking package directory ... OK
* checking ‘build’ directory ... OK
* checking DESCRIPTION meta-information ... OK
* checking top-level files ... OK
* checking for left-over files ... OK
* checking index information ... OK
* checking package subdirectories ... OK
* checking code files for non-ASCII characters ... OK
* checking R files for syntax errors ... OK
* checking whether the package can be loaded ... OK
* checking whether the package can be loaded with stated dependencies ... OK
* checking whether the package can be unloaded cleanly ... OK
* checking whether the namespace can be loaded with stated dependencies ... OK
* checking whether the namespace can be unloaded cleanly ... OK
* checking dependencies in R code ... NOTE
Unexported objects imported by ':::' calls:
‘NormalyzerDE:::calculateAvgMadMem’
‘NormalyzerDE:::calculateAvgReplicateVariation’
‘NormalyzerDE:::calculatePercentageAvgDiffInMat’
‘NormalyzerDE:::calculateReplicateCV’
‘NormalyzerDE:::calculateSummarizedCorrelationVector’
See the note in ?`:::` about the use of this operator.
* checking S3 generic/method consistency ... OK
* checking replacement functions ... OK
* checking foreign function calls ... OK
* checking R code for possible problems ... NOTE
plot_upset_DE: no visible global function definition for
‘packageVersion’
Undefined global functions or variables:
packageVersion
Consider adding
importFrom("utils", "packageVersion")
to your NAMESPACE file.
* checking Rd files ... OK
* checking Rd metadata ... OK
* checking Rd cross-references ... OK
* checking for missing documentation entries ... OK
* checking for code/documentation mismatches ... OK
* checking Rd \usage sections ... OK
* checking Rd contents ... OK
* checking for unstated dependencies in examples ... OK
* checking contents of ‘data’ directory ... OK
* checking data for non-ASCII characters ... OK
* checking data for ASCII and uncompressed saves ... OK
* checking files in ‘vignettes’ ... OK
* checking examples ... OK
Examples with CPU (user + system) or elapsed time > 5s
user system elapsed
plot_boxplots 6.064 0.095 6.211
* checking for unstated dependencies in vignettes ... OK
* checking package vignettes ... OK
* checking running R code from vignettes ... SKIPPED
* checking re-building of vignette outputs ... SKIPPED
* checking PDF version of manual ... OK
* DONE
Status: 2 NOTEs
See
‘/Users/biocbuild/bbs-3.23-bioc/meat/PRONE.Rcheck/00check.log’
for details.
PRONE.Rcheck/00install.out
############################################################################## ############################################################################## ### ### Running command: ### ### /Library/Frameworks/R.framework/Resources/bin/R CMD INSTALL PRONE ### ############################################################################## ############################################################################## * installing to library ‘/Library/Frameworks/R.framework/Versions/4.6-x86_64/Resources/library’ * installing *source* package ‘PRONE’ ... ** this is package ‘PRONE’ version ‘1.5.0’ ** using staged installation ** R ** data ** inst ** byte-compile and prepare package for lazy loading ** help *** installing help indices *** copying figures ** building package indices ** installing vignettes ** testing if installed package can be loaded from temporary location ** testing if installed package can be loaded from final location ** testing if installed package keeps a record of temporary installation path * DONE (PRONE)
PRONE.Rcheck/PRONE-Ex.timings
| name | user | system | elapsed | |
| apply_thresholds | 0.027 | 0.005 | 0.032 | |
| detect_outliers_POMA | 2.073 | 0.092 | 2.182 | |
| eigenMSNorm | 0.703 | 0.062 | 0.770 | |
| export_data | 0.022 | 0.004 | 0.027 | |
| extract_consensus_DE_candidates | 0.085 | 0.008 | 0.093 | |
| filter_out_NA_proteins_by_threshold | 0.229 | 0.006 | 0.236 | |
| filter_out_complete_NA_proteins | 0.055 | 0.004 | 0.059 | |
| filter_out_proteins_by_ID | 0.165 | 0.005 | 0.172 | |
| filter_out_proteins_by_value | 0.180 | 0.006 | 0.188 | |
| get_NA_overview | 0.033 | 0.004 | 0.037 | |
| get_normalization_methods | 0.000 | 0.001 | 0.001 | |
| get_overview_DE | 0.041 | 0.004 | 0.046 | |
| get_proteins_by_value | 0.175 | 0.006 | 0.182 | |
| get_spiked_stats_DE | 0.070 | 0.007 | 0.077 | |
| globalIntNorm | 0.127 | 0.004 | 0.133 | |
| globalMeanNorm | 0.132 | 0.004 | 0.137 | |
| globalMedianNorm | 0.151 | 0.006 | 0.162 | |
| impute_se | 0.836 | 0.019 | 0.860 | |
| irsNorm | 0.057 | 0.004 | 0.061 | |
| limmaNorm | 0.061 | 0.004 | 0.065 | |
| load_data | 0.062 | 0.004 | 0.067 | |
| load_spike_data | 0.053 | 0.003 | 0.057 | |
| loessCycNorm | 0.130 | 0.011 | 0.142 | |
| loessFNorm | 0.083 | 0.003 | 0.086 | |
| meanNorm | 0.040 | 0.003 | 0.044 | |
| medianAbsDevNorm | 0.109 | 0.005 | 0.117 | |
| medianNorm | 0.054 | 0.004 | 0.058 | |
| normalize_se | 3.961 | 0.102 | 4.095 | |
| normalize_se_combination | 4.684 | 0.110 | 4.828 | |
| normalize_se_single | 3.375 | 0.059 | 3.462 | |
| normicsNorm | 3.114 | 0.046 | 3.190 | |
| plot_NA_density | 0.379 | 0.009 | 0.389 | |
| plot_NA_frequency | 0.181 | 0.004 | 0.186 | |
| plot_NA_heatmap | 1.321 | 0.091 | 1.423 | |
| plot_PCA | 1.499 | 0.016 | 1.524 | |
| plot_ROC_AUC_spiked | 1.398 | 0.034 | 1.453 | |
| plot_TP_FP_spiked_bar | 0.389 | 0.012 | 0.405 | |
| plot_TP_FP_spiked_box | 0.515 | 0.013 | 0.535 | |
| plot_TP_FP_spiked_scatter | 0.476 | 0.013 | 0.496 | |
| plot_boxplots | 6.064 | 0.095 | 6.211 | |
| plot_condition_overview | 0.290 | 0.005 | 0.296 | |
| plot_densities | 2.867 | 0.044 | 2.933 | |
| plot_fold_changes_spiked | 0.634 | 0.014 | 0.653 | |
| plot_heatmap | 4.185 | 0.049 | 4.267 | |
| plot_heatmap_DE | 1.332 | 0.021 | 1.359 | |
| plot_histogram_spiked | 0.426 | 0.006 | 0.433 | |
| plot_identified_spiked_proteins | 0.478 | 0.011 | 0.491 | |
| plot_intersection_enrichment | 0.901 | 0.050 | 2.100 | |
| plot_intragroup_PCV | 0.674 | 0.009 | 0.688 | |
| plot_intragroup_PEV | 0.500 | 0.008 | 0.512 | |
| plot_intragroup_PMAD | 0.503 | 0.007 | 0.513 | |
| plot_intragroup_correlation | 0.509 | 0.007 | 0.520 | |
| plot_jaccard_heatmap | 0.342 | 0.007 | 0.354 | |
| plot_logFC_thresholds_spiked | 0.771 | 0.013 | 0.789 | |
| plot_markers_boxplots | 0.932 | 0.011 | 0.952 | |
| plot_nr_prot_samples | 0.312 | 0.006 | 0.323 | |
| plot_overview_DE_bar | 0.447 | 0.006 | 0.454 | |
| plot_overview_DE_tile | 0.254 | 0.004 | 0.261 | |
| plot_profiles_spiked | 0.913 | 0.012 | 0.930 | |
| plot_pvalues_spiked | 0.579 | 0.012 | 0.593 | |
| plot_stats_spiked_heatmap | 0.401 | 0.008 | 0.412 | |
| plot_tot_int_samples | 0.301 | 0.006 | 0.309 | |
| plot_upset | 0.940 | 0.017 | 0.963 | |
| plot_upset_DE | 0.029 | 0.004 | 0.034 | |
| plot_volcano_DE | 4.398 | 0.037 | 4.460 | |
| quantileNorm | 0.040 | 0.004 | 0.043 | |
| readPRONE_example | 0.001 | 0.001 | 0.002 | |
| remove_POMA_outliers | 0.693 | 0.006 | 0.702 | |
| remove_assays_from_SE | 0.043 | 0.003 | 0.047 | |
| remove_reference_samples | 0.046 | 0.003 | 0.049 | |
| remove_samples_manually | 0.034 | 0.003 | 0.036 | |
| rlrMACycNorm | 0.639 | 0.008 | 0.650 | |
| rlrMANorm | 0.110 | 0.005 | 0.115 | |
| rlrNorm | 0.095 | 0.004 | 0.100 | |
| robnormNorm | 0.079 | 0.005 | 0.085 | |
| run_DE | 2.580 | 0.028 | 2.627 | |
| specify_comparisons | 0.023 | 0.003 | 0.026 | |
| subset_SE_by_norm | 0.095 | 0.005 | 0.101 | |
| tmmNorm | 0.178 | 0.013 | 0.193 | |
| vsnNorm | 0.069 | 0.003 | 0.073 | |