Back to Build/check report for BioC 3.23:   simplified   long
ABCDEFGHIJKLMN[O]PQRSTUVWXYZ

This page was generated on 2025-11-08 11:32 -0500 (Sat, 08 Nov 2025).

HostnameOSArch (*)R versionInstalled pkgs
nebbiolo1Linux (Ubuntu 24.04.3 LTS)x86_64R Under development (unstable) (2025-10-20 r88955) -- "Unsuffered Consequences" 4821
Click on any hostname to see more info about the system (e.g. compilers)      (*) as reported by 'uname -p', except on Windows and Mac OS X

Package 1489/2323HostnameOS / ArchINSTALLBUILDCHECKBUILD BIN
OncoSimulR 4.13.0  (landing page)
Ramon Diaz-Uriarte
Snapshot Date: 2025-11-07 13:40 -0500 (Fri, 07 Nov 2025)
git_url: https://git.bioconductor.org/packages/OncoSimulR
git_branch: devel
git_last_commit: d241471
git_last_commit_date: 2025-10-29 10:20:29 -0500 (Wed, 29 Oct 2025)
nebbiolo1Linux (Ubuntu 24.04.3 LTS) / x86_64  OK    OK    OK  UNNEEDED, same version is already published


CHECK results for OncoSimulR on nebbiolo1

To the developers/maintainers of the OncoSimulR package:
- Allow up to 24 hours (and sometimes 48 hours) for your latest push to git@git.bioconductor.org:packages/OncoSimulR.git to reflect on this report. See Troubleshooting Build Report for more information.
- Use the following Renviron settings to reproduce errors and warnings.
- If 'R CMD check' started to fail recently on the Linux builder(s) over a missing dependency, add the missing dependency to 'Suggests:' in your DESCRIPTION file. See Renviron.bioc for more information.

raw results


Summary

Package: OncoSimulR
Version: 4.13.0
Command: /home/biocbuild/bbs-3.23-bioc/R/bin/R CMD check --install=check:OncoSimulR.install-out.txt --library=/home/biocbuild/bbs-3.23-bioc/R/site-library --timings OncoSimulR_4.13.0.tar.gz
StartedAt: 2025-11-08 02:12:31 -0500 (Sat, 08 Nov 2025)
EndedAt: 2025-11-08 02:18:50 -0500 (Sat, 08 Nov 2025)
EllapsedTime: 378.6 seconds
RetCode: 0
Status:   OK  
CheckDir: OncoSimulR.Rcheck
Warnings: 0

Command output

##############################################################################
##############################################################################
###
### Running command:
###
###   /home/biocbuild/bbs-3.23-bioc/R/bin/R CMD check --install=check:OncoSimulR.install-out.txt --library=/home/biocbuild/bbs-3.23-bioc/R/site-library --timings OncoSimulR_4.13.0.tar.gz
###
##############################################################################
##############################################################################


* using log directory ‘/home/biocbuild/bbs-3.23-bioc/meat/OncoSimulR.Rcheck’
* using R Under development (unstable) (2025-10-20 r88955)
* using platform: x86_64-pc-linux-gnu
* R was compiled by
    gcc (Ubuntu 13.3.0-6ubuntu2~24.04) 13.3.0
    GNU Fortran (Ubuntu 13.3.0-6ubuntu2~24.04) 13.3.0
* running under: Ubuntu 24.04.3 LTS
* using session charset: UTF-8
* checking for file ‘OncoSimulR/DESCRIPTION’ ... OK
* checking extension type ... Package
* this is package ‘OncoSimulR’ version ‘4.13.0’
* checking package namespace information ... OK
* checking package dependencies ... OK
* checking if this is a source package ... OK
* checking if there is a namespace ... OK
* checking for hidden files and directories ... NOTE
Found the following hidden files and directories:
  .BBSoptions
These were most likely included in error. See section ‘Package
structure’ in the ‘Writing R Extensions’ manual.
* checking for portable file names ... OK
* checking for sufficient/correct file permissions ... OK
* checking whether package ‘OncoSimulR’ can be installed ... OK
* used C compiler: ‘gcc (Ubuntu 13.3.0-6ubuntu2~24.04) 13.3.0’
* used C++ compiler: ‘g++ (Ubuntu 13.3.0-6ubuntu2~24.04) 13.3.0’
* checking installed package size ... INFO
  installed size is 19.6Mb
  sub-directories of 1Mb or more:
    libs  18.2Mb
* checking package directory ... OK
* checking ‘build’ directory ... OK
* checking DESCRIPTION meta-information ... OK
* checking top-level files ... OK
* checking for left-over files ... OK
* checking index information ... OK
* checking package subdirectories ... OK
* checking code files for non-ASCII characters ... OK
* checking R files for syntax errors ... OK
* checking whether the package can be loaded ... OK
* checking whether the package can be loaded with stated dependencies ... OK
* checking whether the package can be unloaded cleanly ... OK
* checking whether the namespace can be loaded with stated dependencies ... OK
* checking whether the namespace can be unloaded cleanly ... OK
* checking loading without being on the library search path ... OK
* checking whether startup messages can be suppressed ... OK
* checking dependencies in R code ... OK
* checking S3 generic/method consistency ... OK
* checking replacement functions ... OK
* checking foreign function calls ... OK
* checking R code for possible problems ... OK
* checking Rd files ... OK
* checking Rd metadata ... OK
* checking Rd cross-references ... OK
* checking for missing documentation entries ... OK
* checking for code/documentation mismatches ... OK
* checking Rd \usage sections ... OK
* checking Rd contents ... OK
* checking for unstated dependencies in examples ... OK
* checking contents of ‘data’ directory ... OK
* checking data for non-ASCII characters ... OK
* checking data for ASCII and uncompressed saves ... OK
* checking line endings in C/C++/Fortran sources/headers ... OK
* checking line endings in Makefiles ... OK
* checking compilation flags in Makevars ... OK
* checking for GNU extensions in Makefiles ... OK
* checking for portable use of $(BLAS_LIBS) and $(LAPACK_LIBS) ... OK
* checking use of PKG_*FLAGS in Makefiles ... OK
* checking include directives in Makefiles ... OK
* checking compiled code ... INFO
Note: information on .o files is not available
* checking files in ‘vignettes’ ... OK
* checking examples ... OK
* checking for unstated dependencies in ‘tests’ ... OK
* checking tests ...
  Running ‘testthat.R’
 OK
* checking for unstated dependencies in vignettes ... OK
* checking package vignettes ... OK
* checking re-building of vignette outputs ... OK
* checking PDF version of manual ... OK
* DONE

Status: 1 NOTE
See
  ‘/home/biocbuild/bbs-3.23-bioc/meat/OncoSimulR.Rcheck/00check.log’
for details.


Installation output

OncoSimulR.Rcheck/00install.out

##############################################################################
##############################################################################
###
### Running command:
###
###   /home/biocbuild/bbs-3.23-bioc/R/bin/R CMD INSTALL OncoSimulR
###
##############################################################################
##############################################################################


* installing to library ‘/home/biocbuild/bbs-3.23-bioc/R/site-library’
* installing *source* package ‘OncoSimulR’ ...
** this is package ‘OncoSimulR’ version ‘4.13.0’
** using staged installation
** libs
using C compiler: ‘gcc (Ubuntu 13.3.0-6ubuntu2~24.04) 13.3.0’
using C++ compiler: ‘g++ (Ubuntu 13.3.0-6ubuntu2~24.04) 13.3.0’
gcc -std=gnu2x -I"/home/biocbuild/bbs-3.23-bioc/R/include" -DNDEBUG  -I'/home/biocbuild/bbs-3.23-bioc/R/site-library/Rcpp/include' -I/usr/local/include    -fpic  -g -O2  -Wall -Werror=format-security -c FitnessLandscape/gamma.c -o FitnessLandscape/gamma.o
gcc -std=gnu2x -I"/home/biocbuild/bbs-3.23-bioc/R/include" -DNDEBUG  -I'/home/biocbuild/bbs-3.23-bioc/R/site-library/Rcpp/include' -I/usr/local/include    -fpic  -g -O2  -Wall -Werror=format-security -c FitnessLandscape/landscape.c -o FitnessLandscape/landscape.o
gcc -std=gnu2x -I"/home/biocbuild/bbs-3.23-bioc/R/include" -DNDEBUG  -I'/home/biocbuild/bbs-3.23-bioc/R/site-library/Rcpp/include' -I/usr/local/include    -fpic  -g -O2  -Wall -Werror=format-security -c FitnessLandscape/random.c -o FitnessLandscape/random.o
gcc -std=gnu2x -I"/home/biocbuild/bbs-3.23-bioc/R/include" -DNDEBUG  -I'/home/biocbuild/bbs-3.23-bioc/R/site-library/Rcpp/include' -I/usr/local/include    -fpic  -g -O2  -Wall -Werror=format-security -c FitnessLandscape/sort.c -o FitnessLandscape/sort.o
gcc -std=gnu2x -I"/home/biocbuild/bbs-3.23-bioc/R/include" -DNDEBUG  -I'/home/biocbuild/bbs-3.23-bioc/R/site-library/Rcpp/include' -I/usr/local/include    -fpic  -g -O2  -Wall -Werror=format-security -c FitnessLandscape/chain.c -o FitnessLandscape/chain.o
gcc -std=gnu2x -I"/home/biocbuild/bbs-3.23-bioc/R/include" -DNDEBUG  -I'/home/biocbuild/bbs-3.23-bioc/R/site-library/Rcpp/include' -I/usr/local/include    -fpic  -g -O2  -Wall -Werror=format-security -c FitnessLandscape/input.c -o FitnessLandscape/input.o
gcc -std=gnu2x -I"/home/biocbuild/bbs-3.23-bioc/R/include" -DNDEBUG  -I'/home/biocbuild/bbs-3.23-bioc/R/site-library/Rcpp/include' -I/usr/local/include    -fpic  -g -O2  -Wall -Werror=format-security -c FitnessLandscape/genotypes.c -o FitnessLandscape/genotypes.o
gcc -std=gnu2x -I"/home/biocbuild/bbs-3.23-bioc/R/include" -DNDEBUG  -I'/home/biocbuild/bbs-3.23-bioc/R/site-library/Rcpp/include' -I/usr/local/include    -fpic  -g -O2  -Wall -Werror=format-security -c FitnessLandscape/ordered_pairs.c -o FitnessLandscape/ordered_pairs.o
gcc -std=gnu2x -I"/home/biocbuild/bbs-3.23-bioc/R/include" -DNDEBUG  -I'/home/biocbuild/bbs-3.23-bioc/R/site-library/Rcpp/include' -I/usr/local/include    -fpic  -g -O2  -Wall -Werror=format-security -c FitnessLandscape/calculus.c -o FitnessLandscape/calculus.o
gcc -std=gnu2x -I"/home/biocbuild/bbs-3.23-bioc/R/include" -DNDEBUG  -I'/home/biocbuild/bbs-3.23-bioc/R/site-library/Rcpp/include' -I/usr/local/include    -fpic  -g -O2  -Wall -Werror=format-security -c FitnessLandscape/vector.c -o FitnessLandscape/vector.o
gcc -std=gnu2x -I"/home/biocbuild/bbs-3.23-bioc/R/include" -DNDEBUG  -I'/home/biocbuild/bbs-3.23-bioc/R/site-library/Rcpp/include' -I/usr/local/include    -fpic  -g -O2  -Wall -Werror=format-security -c FitnessLandscape/generalized_chain.c -o FitnessLandscape/generalized_chain.o
gcc -std=gnu2x -I"/home/biocbuild/bbs-3.23-bioc/R/include" -DNDEBUG  -I'/home/biocbuild/bbs-3.23-bioc/R/site-library/Rcpp/include' -I/usr/local/include    -fpic  -g -O2  -Wall -Werror=format-security -c FitnessLandscape/LinearAlgebra.c -o FitnessLandscape/LinearAlgebra.o
gcc -std=gnu2x -I"/home/biocbuild/bbs-3.23-bioc/R/include" -DNDEBUG  -I'/home/biocbuild/bbs-3.23-bioc/R/site-library/Rcpp/include' -I/usr/local/include    -fpic  -g -O2  -Wall -Werror=format-security -c FitnessLandscape/summary_statistics.c -o FitnessLandscape/summary_statistics.o
gcc -std=gnu2x -I"/home/biocbuild/bbs-3.23-bioc/R/include" -DNDEBUG  -I'/home/biocbuild/bbs-3.23-bioc/R/site-library/Rcpp/include' -I/usr/local/include    -fpic  -g -O2  -Wall -Werror=format-security -c FitnessLandscape/epistasis_type.c -o FitnessLandscape/epistasis_type.o
gcc -std=gnu2x -I"/home/biocbuild/bbs-3.23-bioc/R/include" -DNDEBUG  -I'/home/biocbuild/bbs-3.23-bioc/R/site-library/Rcpp/include' -I/usr/local/include    -fpic  -g -O2  -Wall -Werror=format-security -c FitnessLandscape/decomposition.c -o FitnessLandscape/decomposition.o
gcc -std=gnu2x -I"/home/biocbuild/bbs-3.23-bioc/R/include" -DNDEBUG  -I'/home/biocbuild/bbs-3.23-bioc/R/site-library/Rcpp/include' -I/usr/local/include    -fpic  -g -O2  -Wall -Werror=format-security -c FitnessLandscape/models.c -o FitnessLandscape/models.o
gcc -std=gnu2x -I"/home/biocbuild/bbs-3.23-bioc/R/include" -DNDEBUG  -I'/home/biocbuild/bbs-3.23-bioc/R/site-library/Rcpp/include' -I/usr/local/include    -fpic  -g -O2  -Wall -Werror=format-security -c FitnessLandscape/verbose.c -o FitnessLandscape/verbose.o
ar -r liblandscape.a FitnessLandscape/gamma.o FitnessLandscape/landscape.o FitnessLandscape/random.o FitnessLandscape/sort.o FitnessLandscape/chain.o FitnessLandscape/input.o FitnessLandscape/genotypes.o FitnessLandscape/ordered_pairs.o FitnessLandscape/calculus.o FitnessLandscape/vector.o FitnessLandscape/generalized_chain.o FitnessLandscape/LinearAlgebra.o FitnessLandscape/summary_statistics.o FitnessLandscape/epistasis_type.o FitnessLandscape/decomposition.o FitnessLandscape/models.o FitnessLandscape/verbose.o ;
ar: creating liblandscape.a
ranlib liblandscape.a;
gcc -std=gnu2x -O -Wall -o fl_statistics -I/FitnessLandscape/. -L. FitnessLandscape/main_fl_statistics.c -llandscape -lm;
gcc -std=gnu2x -O -Wall -o fl_generate -I/FitnessLandscape/. -L. FitnessLandscape/main_fl_generate.c -llandscape -lm;
gcc -std=gnu2x -I"/home/biocbuild/bbs-3.23-bioc/R/include" -DNDEBUG  -I'/home/biocbuild/bbs-3.23-bioc/R/site-library/Rcpp/include' -I/usr/local/include    -fpic  -g -O2  -Wall -Werror=format-security -c OncoSimulR_init.c -o OncoSimulR_init.o
g++ -std=gnu++17 -I"/home/biocbuild/bbs-3.23-bioc/R/include" -DNDEBUG  -I'/home/biocbuild/bbs-3.23-bioc/R/site-library/Rcpp/include' -I/usr/local/include    -fpic  -g -O2  -Wall -Werror=format-security  -c RcppExports.cpp -o RcppExports.o
g++ -std=gnu++17 -I"/home/biocbuild/bbs-3.23-bioc/R/include" -DNDEBUG  -I'/home/biocbuild/bbs-3.23-bioc/R/site-library/Rcpp/include' -I/usr/local/include    -fpic  -g -O2  -Wall -Werror=format-security  -c unity_osimul.cpp -o unity_osimul.o
g++ -std=gnu++17 -shared -L/home/biocbuild/bbs-3.23-bioc/R/lib -L/usr/local/lib -o OncoSimulR.so OncoSimulR_init.o RcppExports.o unity_osimul.o -L/home/biocbuild/bbs-3.23-bioc/R/lib -lR
installing via 'install.libs.R' to /home/biocbuild/bbs-3.23-bioc/R/site-library/00LOCK-OncoSimulR/00new/OncoSimulR
[1] ""
Installing fl_statistics fl_generate to /home/biocbuild/bbs-3.23-bioc/R/site-library/00LOCK-OncoSimulR/00new/OncoSimulR/exec
Installing library OncoSimulR.so to /home/biocbuild/bbs-3.23-bioc/R/site-library/00LOCK-OncoSimulR/00new/OncoSimulR/libs
** R
** data
** inst
** byte-compile and prepare package for lazy loading
** help
*** installing help indices
** building package indices
** installing vignettes
** testing if installed package can be loaded from temporary location
** checking absolute paths in shared objects and dynamic libraries
** testing if installed package can be loaded from final location
** testing if installed package keeps a record of temporary installation path
* DONE (OncoSimulR)

Tests output

OncoSimulR.Rcheck/tests/testthat.Rout


R Under development (unstable) (2025-10-20 r88955) -- "Unsuffered Consequences"
Copyright (C) 2025 The R Foundation for Statistical Computing
Platform: x86_64-pc-linux-gnu

R is free software and comes with ABSOLUTELY NO WARRANTY.
You are welcome to redistribute it under certain conditions.
Type 'license()' or 'licence()' for distribution details.

R is a collaborative project with many contributors.
Type 'contributors()' for more information and
'citation()' on how to cite R or R packages in publications.

Type 'demo()' for some demos, 'help()' for on-line help, or
'help.start()' for an HTML browser interface to help.
Type 'q()' to quit R.

> library(testthat)
> library(OncoSimulR)
This is package OncoSimulR. If you are running it on an aarch64 (arm64) platform with a MacOS note that the package fails some tests in that platform + OS that I have no way of debugging. Please read file README_tests_kjohnson3_aarch64-apple-darwin20.txt in the tests directory. As of 2024-10-09, this platform is unsupported until we can properly debug it.
> 
> test_check("OncoSimulR")

 Starting FDF-letter-fitness-order Sat Nov  8 02:13:50 2025 

exprtk parser error: 

Error[00] Position: 00 Type: [  Syntax Error] Msg: ERR202 - Undefined symbol: 'n_2_3' Expression: n_2_3

exprtk parser error: 

Error[00] Position: 00 Type: [  Syntax Error] Msg: ERR202 - Undefined symbol: 'f_2_3' Expression: f_2_3

 Ending FDF-small-fitness-specs Sat Nov  8 02:13:51 2025 
  Took  0.42 


 Starting LOD_POM at Sat Nov  8 02:13:51 2025 

 Ending LOD_POM at Sat Nov  8 02:14:02 2025 
  Took  10.81 


 Starting test.Z-all-fitness at Sat Nov  8 02:14:02 2025 

 Ending test.Z-all-fitness at Sat Nov  8 02:14:02 2025 
  Took  0.11 


 Starting test.Z-driver-counts at Sat Nov  8 02:14:02 2025 

 Ending test.Z-driver-counts at Sat Nov  8 02:14:02 2025 
  Took  0.12 


 Starting test.Z-fixation at Sat Nov  8 02:14:02 2025 

 Ending test.Z-fixation at Sat Nov  8 02:14:02 2025 
  Took  0.2 


 Starting test.Z-magellan at Sat Nov  8 02:14:02 2025 

 Ended test.Z-magellan at Sat Nov  8 02:14:04 2025 

 Starting test.Z-mutator at Sat Nov  8 02:14:04 2025 

 Ending test.Z-mutator at Sat Nov  8 02:14:04 2025 
  Took  0.31 


 Starting test.Z-mutatorFDF at Sat Nov  8 02:14:04 2025 

 Ending test.Z-mutatorFDF at Sat Nov  8 02:14:04 2025 
  Took  0.1 


 Starting test.Z-oncoSimulIndiv at Sat Nov  8 02:14:04 2025 

 Ending test.Z-oncoSimulIndiv at Sat Nov  8 02:14:04 2025 
  Took  0.33 


 Starting test.Z-oncoSimulIndivConstant at Sat Nov  8 02:14:04 2025 

 Ending test.Z-oncoSimulIndivConstant at Sat Nov  8 02:14:06 2025 
  Took  2.2 


 Starting test.Z-oncoSimulIndivDeath at Sat Nov  8 02:14:07 2025 


 Ending test.Z-oncoSimulIndivDeath at Sat Nov  8 02:14:07 2025 
  Took  0.7 


 Starting test.Z-oncoSimulIndivFDF at Sat Nov  8 02:14:07 2025 

 Hitted wall time. Exiting.
 Hitting wall time is regarded as an error. 

 Ending test.Z-oncoSimulIndivFDF at Sat Nov  8 02:14:08 2025 
  Took  0.3 


 Starting test.Z-rfitness-landscape at Sat Nov  8 02:14:08 2025 

 Ending test.Z-rfitness-landscape at Sat Nov  8 02:14:08 2025 
  Took  0.26 


 Starting Z-sample-only-last tests Sat Nov  8 02:14:08 2025 

 Ending Z-sample-only-last tests Sat Nov  8 02:14:08 2025 
  Took  0 


 Starting Z-total-present-drivers tests Sat Nov  8 02:14:08 2025 

 Ending Z-total-present-drivers tests Sat Nov  8 02:14:08 2025 
  Took  0.72 


 Dummy empty test  Sat Nov  8 02:14:09 2025 

 Starting accessible_genotypes at Sat Nov  8 02:14:09 2025 

 Ending accessible_genotypes at Sat Nov  8 02:14:15 2025 
  Took  6.49 


 Starting all fitness at Sat Nov  8 02:14:15 2025
 Ending all-fitness at Sat Nov  8 02:14:19 2025 
  Took  3.99 


 Starting test.allFitnessEffectsFDF at Sat Nov  8 02:14:19 2025 

 Ending test.allFitnessEffectsFDF at Sat Nov  8 02:14:19 2025 
  Took  0.11 


 Starting test.allFitnessEffectsDeath at Sat Nov  8 02:14:19 2025 

 Ending test.allFitnessEffectsDeath at Sat Nov  8 02:14:19 2025 
  Took  0.33 


 Starting test.allFitnessEffectsFDF at Sat Nov  8 02:14:19 2025 

 Ending test.allFitnessEffectsFDF at Sat Nov  8 02:14:20 2025 
  Took  0.35 


 Starting driverCounts at Sat Nov  8 02:14:20 2025
 Ending driverCounts at Sat Nov  8 02:14:26 2025 
  Took  6.38 


 Starting epist-order-modules at Sat Nov  8 02:14:26 2025
 Ending epist-order-modules at Sat Nov  8 02:14:26 2025 
  Took  0.04 


 Starting test.evaluatingGenotypesDeath at Sat Nov  8 02:14:26 2025 

 Ending test.evaluatingGenotypesDeath at Sat Nov  8 02:14:26 2025 
  Took  0.18 


 Starting test.evaluatingGenotypesFDF at Sat Nov  8 02:14:26 2025 

 Ending test.evaluatingGenotypesFDF at Sat Nov  8 02:14:27 2025 
  Took  0.23 


 Starting exercise-plotting-code at Sat Nov  8 02:14:27 2025
 Ending exercise-plotting-code at Sat Nov  8 02:14:29 2025 
  Took  2.25 


 Starting exercise-rfitness at Sat Nov  8 02:14:29 2025 

 Ending exercise-rfitness at Sat Nov  8 02:14:37 2025 
  Took  7.63 


 Starting to_Magella at Sat Nov  8 02:14:37 2025 

 Ending to_Magella at Sat Nov  8 02:14:37 2025 
  Took  0.04 


 Starting fitness preds at Sat Nov  8 02:14:37 2025 

 Observed vs expected, case III

 done tries 1 

 Ending fitness preds long at Sat Nov  8 02:14:41 2025 
  Took  4.87 


 Starting fixation  at Sat Nov  8 02:14:41 2025 

 Ending fixation  at Sat Nov  8 02:14:53 2025 
  Took  11.29 


 Starting test.flfast-additional.R test at Sat Nov  8 02:14:53 2025
 Ending test.flfast-additional.R test at Sat Nov  8 02:14:54 2025 
  Took  1.41 


 Starting test.flfast-mutator.R test at Sat Nov  8 02:14:54 2025
 Finished test.flfast-mutator.R test at Sat Nov  8 02:14:55 2025 
  Took  1 


 Starting genotFitness at Sat Nov  8 02:14:55 2025 

 Ending genotFitness at Sat Nov  8 02:14:55 2025 
  Took  0.17 


 Starting genot_fitness_to_epistasis at Sat Nov  8 02:14:55 2025 

 Ending genot_fitness_to_epistasis at Sat Nov  8 02:14:55 2025 
  Took  0.05 


 Starting init-mutant tests Sat Nov  8 02:14:55 2025 

exprtk parser error: 

Error[00] Position: 18 Type: [  Syntax Error] Msg: ERR202 - Undefined symbol: 'f_2' Expression: 1.1 + 0.7*((f_1 + f_2) > 0.3)

 Ending init-mutant tests Sat Nov  8 02:15:01 2025 
  Took  5.38 


 Starting interventions tests Sat Nov  8 02:15:01 2025 
[1] "Checking intervention: intOverA"
[1] "Checking intervention: intOverA"
[1] "Checking intervention: intOverA"
[1] "Checking intervention: intOverA"
[1] "Checking intervention: intOverMultiplicatesA"
In intervention:intOverMultiplicatesA with WhatHappens: n_1 = n_1 * 2. You cannot intervene to generate more population.[1] "Checking intervention: intOverA"
[1] "Checking intervention: intOverA"
[1] "Checking intervention: intOverTotPop"
[1] 0.61 0.61 0.61
[1] "Checking intervention: intOverTotPop"
[1] "Checking intervention: intOverA"
[1] "Checking intervention: intOverB"
[1] "Checking intervention: intOverC"
[1] "Checking intervention: intOverD"
Init Mutant with birth == 1.0
Init Mutant with birth == 1.0
[1] "Checking intervention: intOverA"
[1] "Checking intervention: intOverB"
[1] "Checking intervention: intOverC"
[1] "Checking intervention: intOverD"
Init Mutant with birth == 1.0
Init Mutant with birth == 1.0
[1] "Checking user variable: user_var_1"
[1] "Checking rule: rule_1"
[1] "Checking rule: rule_2"
[1] "Checking rule: rule_3"
[1] "Checking intervention: intOverTotPop"
[1] "Checking intervention: intOverTotPop2"
[1] "Checking intervention: intOverTotPop3"
[1] "Checking user variable: user_var_1"
[1] "Checking rule: rule_1"
[1] "Checking rule: rule_2"
[1] "Checking rule: rule_3"
[1] "Checking intervention: intOverTotPop"

 Ending interventions tests Sat Nov  8 02:15:05 2025 
  Took  3.75 


 Starting test.magellan at Sat Nov  8 02:15:05 2025 

 Ending test.magellan at Sat Nov  8 02:15:05 2025 
  Took  0.15 


 Starting test.modules-root-no-root at Sat Nov  8 02:15:05 2025 

 Ending test.modules-root-no-root at Sat Nov  8 02:15:05 2025 
  Took  0.12 


 Starting at mutPropGrowth  Sat Nov  8 02:15:05 2025 

 Ended test.mutPropGrowth:  Sat Nov  8 02:15:10 2025 
  Took  5.48 


 Starting test.mutator-oncoSimulSample.R test at Sat Nov  8 02:15:10 2025 

 Finished test.mutator-oncoSimulSample.R test at Sat Nov  8 02:15:18 2025 
  Took  7.54 seconds 


 Starting test.mutator.R test at Sat Nov  8 02:15:18 2025[1] 1.565437e-07
[1] 3.738547e-14

 Finished test.mutator.R test at Sat Nov  8 02:15:29 2025 
  Took  10.72 


 Starting test.mutatorFDF.R test at Sat Nov  8 02:15:29 2025
 Starting oncoSimulIndiv-miscell tests Sat Nov  8 02:15:29 2025 

 Ending oncoSimulIndiv-miscell tests Sat Nov  8 02:15:33 2025 
  Took  3.5 


 Starting oncoSimulSample-failures tests Sat Nov  8 02:15:33 2025 

 Ending oncoSimulSample-failures tests Sat Nov  8 02:15:37 2025 
  Took  3.86 


 Starting oncoSimulSample-limits tests Sat Nov  8 02:15:37 2025 

 Ending oncoSimulSample-limits tests Sat Nov  8 02:15:37 2025 
  Took  0.06 


 Starting per-gene-mutation rates at Sat Nov  8 02:15:37 2025 

 Ending per-gene-mutation rates at Sat Nov  8 02:15:57 2025 
  Took  20.52 


 Starting plotFitnessLandscape at Sat Nov  8 02:15:57 2025
 Ending plotFitnessLandscape at Sat Nov  8 02:16:00 2025 
  Took  3.13 


 Starting poset-transformations tests Sat Nov  8 02:16:00 2025 

 Ending poset-transformations tests Sat Nov  8 02:16:09 2025 
  Took  9.17 


 Starting sample-prob Sat Nov  8 02:16:09 2025 
[1] 1.235743e-20
[1] 5.795337e-12
[1] 8.881784e-16
[1] 9.992007e-16
[1] 2.804175e-14
[1] 1.204973e-09
[1] 9.211096e-12
[1] 6.381345e-17
[1] 6.479706e-12
[1] 1.394773e-12
[1] 1.347539e-10
[1] 1.092076e-10

 Ending sample-prob tests Sat Nov  8 02:16:16 2025 
 Took  6.09 



 Starting samplePop tests Sat Nov  8 02:16:16 2025 

 Ending samplePop tests Sat Nov  8 02:16:20 2025 
  Took  4.41 


 Starting simuls-runs-examples tests Sat Nov  8 02:16:20 2025 

 Ending simuls-runs-examples tests Sat Nov  8 02:16:25 2025 
  Took  4.58 


 Starting user variable tests Sat Nov  8 02:16:25 2025 
[1] "Checking user variable: user_var_1"
[1] "Checking rule: rule_1"

 Ending user variable tests Sat Nov  8 02:16:25 2025 
  Took  0.08 


 Starting warning-mutPropGrowth tests Sat Nov  8 02:16:25 2025 

 Ending warning-mutPropGrowth tests Sat Nov  8 02:16:25 2025 
  Took  0.24 


 Starting wide2long tests Sat Nov  8 02:16:25 2025 

 Ending wide2long tests Sat Nov  8 02:16:25 2025 
  Took  0.2 

[ FAIL 0 | WARN 19 | SKIP 5 | PASS 8405 ]

══ Skipped tests (5) ═══════════════════════════════════════════════════════════
• empty test (5): 'test.FDF-letter-fitness-order.R:376:1',
  'test.ZZ-dummy-skip-warn-test.R:8:1', 'test.ZZ-dummy-skip-warn-test.R:12:1',
  'test.fixation.R:4:1', 'test.init-mutant.R:1099:1'

[ FAIL 0 | WARN 19 | SKIP 5 | PASS 8405 ]
> 
> proc.time()
   user  system elapsed 
172.382  31.190 159.027 

Example timings

OncoSimulR.Rcheck/OncoSimulR-Ex.timings

nameusersystemelapsed
OncoSimulWide2Long0.1250.0090.139
POM0.5750.0480.458
allFitnessEffects2.0440.0602.104
benchmarks0.0070.0040.010
createInterventions0.2890.0000.289
createUserVars0.4260.0110.437
evalAllGenotypes0.1750.0350.211
example-missing-drivers0.2110.0180.229
examplePosets0.2350.0010.236
examplesFitnessEffects0.0720.0020.074
freq-dep-simul-examples0.0090.0000.009
mcfLs000
oncoSimulIndiv0.8880.1240.955
plot.fitnessEffects0.2330.0230.255
plot.oncosimul0.4180.0140.432
plotClonePhylog1.2450.0611.306
plotFitnessLandscape1.3780.1061.485
plotPoset0.0910.0040.096
poset0.0970.0060.103
rfitness0.7090.0060.716
samplePop0.0480.0730.079
simOGraph0.0570.0080.065
to_Magellan0.1670.0250.192
vignette_pre_computed0.0060.0000.007