Back to Multiple platform build/check report for BioC 3.23:   simplified   long
ABCDEFGHIJKLMN[O]PQRSTUVWXYZ

This page was generated on 2025-11-15 11:34 -0500 (Sat, 15 Nov 2025).

HostnameOSArch (*)R versionInstalled pkgs
nebbiolo1Linux (Ubuntu 24.04.3 LTS)x86_64R Under development (unstable) (2025-10-20 r88955) -- "Unsuffered Consequences" 4826
kjohnson3macOS 13.7.7 Venturaarm64R Under development (unstable) (2025-11-04 r88984) -- "Unsuffered Consequences" 4561
Click on any hostname to see more info about the system (e.g. compilers)      (*) as reported by 'uname -p', except on Windows and Mac OS X

Package 1512/2325HostnameOS / ArchINSTALLBUILDCHECKBUILD BIN
OUTRIDER 1.29.0  (landing page)
Christian Mertes
Snapshot Date: 2025-11-14 13:40 -0500 (Fri, 14 Nov 2025)
git_url: https://git.bioconductor.org/packages/OUTRIDER
git_branch: devel
git_last_commit: 8caa8cb
git_last_commit_date: 2025-10-29 10:46:21 -0500 (Wed, 29 Oct 2025)
nebbiolo1Linux (Ubuntu 24.04.3 LTS) / x86_64  OK    OK    ERROR  
kjohnson3macOS 13.7.7 Ventura / arm64  OK    OK    ERROR    OK  


CHECK results for OUTRIDER on nebbiolo1

To the developers/maintainers of the OUTRIDER package:
- Allow up to 24 hours (and sometimes 48 hours) for your latest push to git@git.bioconductor.org:packages/OUTRIDER.git to reflect on this report. See Troubleshooting Build Report for more information.
- Use the following Renviron settings to reproduce errors and warnings.
- If 'R CMD check' started to fail recently on the Linux builder(s) over a missing dependency, add the missing dependency to 'Suggests:' in your DESCRIPTION file. See Renviron.bioc for more information.

raw results


Summary

Package: OUTRIDER
Version: 1.29.0
Command: /home/biocbuild/bbs-3.23-bioc/R/bin/R CMD check --install=check:OUTRIDER.install-out.txt --library=/home/biocbuild/bbs-3.23-bioc/R/site-library --timings OUTRIDER_1.29.0.tar.gz
StartedAt: 2025-11-15 02:26:24 -0500 (Sat, 15 Nov 2025)
EndedAt: 2025-11-15 02:41:43 -0500 (Sat, 15 Nov 2025)
EllapsedTime: 919.6 seconds
RetCode: 1
Status:   ERROR  
CheckDir: OUTRIDER.Rcheck
Warnings: NA

Command output

##############################################################################
##############################################################################
###
### Running command:
###
###   /home/biocbuild/bbs-3.23-bioc/R/bin/R CMD check --install=check:OUTRIDER.install-out.txt --library=/home/biocbuild/bbs-3.23-bioc/R/site-library --timings OUTRIDER_1.29.0.tar.gz
###
##############################################################################
##############################################################################


* using log directory ‘/home/biocbuild/bbs-3.23-bioc/meat/OUTRIDER.Rcheck’
* using R Under development (unstable) (2025-10-20 r88955)
* using platform: x86_64-pc-linux-gnu
* R was compiled by
    gcc (Ubuntu 13.3.0-6ubuntu2~24.04) 13.3.0
    GNU Fortran (Ubuntu 13.3.0-6ubuntu2~24.04) 13.3.0
* running under: Ubuntu 24.04.3 LTS
* using session charset: UTF-8
* checking for file ‘OUTRIDER/DESCRIPTION’ ... OK
* checking extension type ... Package
* this is package ‘OUTRIDER’ version ‘1.29.0’
* package encoding: UTF-8
* checking package namespace information ... OK
* checking package dependencies ... INFO
Imports includes 23 non-default packages.
Importing from so many packages makes the package vulnerable to any of
them becoming unavailable.  Move as many as possible to Suggests and
use conditionally.
* checking if this is a source package ... OK
* checking if there is a namespace ... OK
* checking for hidden files and directories ... OK
* checking for portable file names ... OK
* checking for sufficient/correct file permissions ... OK
* checking whether package ‘OUTRIDER’ can be installed ... OK
* used C++ compiler: ‘g++ (Ubuntu 13.3.0-6ubuntu2~24.04) 13.3.0’
* checking installed package size ... OK
* checking package directory ... OK
* checking ‘build’ directory ... OK
* checking DESCRIPTION meta-information ... OK
* checking top-level files ... OK
* checking for left-over files ... OK
* checking index information ... OK
* checking package subdirectories ... OK
* checking code files for non-ASCII characters ... OK
* checking R files for syntax errors ... OK
* checking whether the package can be loaded ... OK
* checking whether the package can be loaded with stated dependencies ... OK
* checking whether the package can be unloaded cleanly ... OK
* checking whether the namespace can be loaded with stated dependencies ... OK
* checking whether the namespace can be unloaded cleanly ... OK
* checking loading without being on the library search path ... OK
* checking dependencies in R code ... NOTE
Unexported object imported by a ':::' call: 'ggbio:::.buildFacetsFromArgs'
  See the note in ?`:::` about the use of this operator.
There are ::: calls to the package's namespace in its code. A package
  almost never needs to use ::: for its own objects:
  'checkOutriderDataSet'
* checking S3 generic/method consistency ... OK
* checking replacement functions ... OK
* checking foreign function calls ... OK
* checking R code for possible problems ... NOTE
estimateBestQ: no visible binding for global variable ‘oht’
plotEncDimSearch.OUTRIDER: no visible binding for global variable ‘oht’
plotEncDimSearch.OUTRIDER: no visible binding for global variable
  ‘singular_values’
plotEncDimSearch,OutriderDataSet: no visible binding for global
  variable ‘oht’
plotEncDimSearch,OutriderDataSet: no visible binding for global
  variable ‘singular_values’
Undefined global functions or variables:
  oht singular_values
* checking Rd files ... OK
* checking Rd metadata ... OK
* checking Rd cross-references ... NOTE
Non-topic package-anchored link(s) in Rd file 'getter_setter_functions.Rd':
  ‘[DESeq2]{estimateDispersions}’

Non-topic package-anchored link(s) in Rd file 'sizeFactors.Rd':
  ‘[DESeq2]{estimateSizeFactors}’

See section 'Cross-references' in the 'Writing R Extensions' manual.
* checking for missing documentation entries ... OK
* checking for code/documentation mismatches ... OK
* checking Rd \usage sections ... OK
* checking Rd contents ... OK
* checking for unstated dependencies in examples ... OK
* checking line endings in C/C++/Fortran sources/headers ... OK
* checking line endings in Makefiles ... OK
* checking compilation flags in Makevars ... OK
* checking for GNU extensions in Makefiles ... OK
* checking for portable use of $(BLAS_LIBS) and $(LAPACK_LIBS) ... OK
* checking use of PKG_*FLAGS in Makefiles ... OK
* checking compiled code ... INFO
Note: information on .o files is not available
* checking sizes of PDF files under ‘inst/doc’ ...* checking files in ‘vignettes’ ... OK
* checking examples ... OK
Examples with CPU (user + system) or elapsed time > 5s
                user system elapsed
plotFunctions 25.786  0.942  27.752
OUTRIDER      12.059  3.093  13.470
estimateBestQ 12.016  0.872  12.898
* checking for unstated dependencies in ‘tests’ ... OK
* checking tests ...
  Running ‘testthat.R’
 ERROR
Running the tests in ‘tests/testthat.R’ failed.
Last 13 lines of output:
  ── Error ('test_methods.R:35:5'): result method ────────────────────────────────
  Error in `expect(nrow(results(ods, round = TRUE)), 3)`: `ok` must be `TRUE` or `FALSE`, not the number 1.
  Backtrace:
      ▆
   1. └─testthat::expect(ok = nrow(results(ods, round = TRUE))) at test_methods.R:35:5
   2.   └─testthat:::check_bool(ok)
   3.     └─testthat:::stop_input_type(...)
   4.       └─rlang::abort(message, ..., call = call, arg = arg)
  
  [ FAIL 1 | WARN 12 | SKIP 2 | PASS 130 ]
  Error:
  ! Test failures.
  Warning message:
  call dbDisconnect() when finished working with a connection 
  Execution halted
* checking for unstated dependencies in vignettes ... OK
* checking package vignettes ... OK
* checking re-building of vignette outputs ... OK
* checking PDF version of manual ... OK
* DONE

Status: 1 ERROR, 3 NOTEs
See
  ‘/home/biocbuild/bbs-3.23-bioc/meat/OUTRIDER.Rcheck/00check.log’
for details.


Installation output

OUTRIDER.Rcheck/00install.out

##############################################################################
##############################################################################
###
### Running command:
###
###   /home/biocbuild/bbs-3.23-bioc/R/bin/R CMD INSTALL OUTRIDER
###
##############################################################################
##############################################################################


* installing to library ‘/home/biocbuild/bbs-3.23-bioc/R/site-library’
* installing *source* package ‘OUTRIDER’ ...
** this is package ‘OUTRIDER’ version ‘1.29.0’
** using staged installation
** libs
using C++ compiler: ‘g++ (Ubuntu 13.3.0-6ubuntu2~24.04) 13.3.0’
g++ -std=gnu++17 -I"/home/biocbuild/bbs-3.23-bioc/R/include" -DNDEBUG  -I'/home/biocbuild/bbs-3.23-bioc/R/site-library/Rcpp/include' -I'/home/biocbuild/bbs-3.23-bioc/R/site-library/RcppArmadillo/include' -I/usr/local/include   -fopenmp -DARMA_DONT_USE_OPENMP -fpic  -g -O2  -Wall -Werror=format-security  -c RcppExports.cpp -o RcppExports.o
g++ -std=gnu++17 -I"/home/biocbuild/bbs-3.23-bioc/R/include" -DNDEBUG  -I'/home/biocbuild/bbs-3.23-bioc/R/site-library/Rcpp/include' -I'/home/biocbuild/bbs-3.23-bioc/R/site-library/RcppArmadillo/include' -I/usr/local/include   -fopenmp -DARMA_DONT_USE_OPENMP -fpic  -g -O2  -Wall -Werror=format-security  -c loss_n_gradient_functions.cpp -o loss_n_gradient_functions.o
g++ -std=gnu++17 -shared -L/home/biocbuild/bbs-3.23-bioc/R/lib -L/usr/local/lib -o OUTRIDER.so RcppExports.o loss_n_gradient_functions.o -fopenmp -llapack -L/home/biocbuild/bbs-3.23-bioc/R/lib -lRblas -lgfortran -lm -lquadmath -L/home/biocbuild/bbs-3.23-bioc/R/lib -lR
installing to /home/biocbuild/bbs-3.23-bioc/R/site-library/00LOCK-OUTRIDER/00new/OUTRIDER/libs
** R
** inst
** byte-compile and prepare package for lazy loading
** help
*** installing help indices
** building package indices
** installing vignettes
** testing if installed package can be loaded from temporary location
** checking absolute paths in shared objects and dynamic libraries
** testing if installed package can be loaded from final location
** testing if installed package keeps a record of temporary installation path
* DONE (OUTRIDER)

Tests output

OUTRIDER.Rcheck/tests/testthat.Rout.fail


R Under development (unstable) (2025-10-20 r88955) -- "Unsuffered Consequences"
Copyright (C) 2025 The R Foundation for Statistical Computing
Platform: x86_64-pc-linux-gnu

R is free software and comes with ABSOLUTELY NO WARRANTY.
You are welcome to redistribute it under certain conditions.
Type 'license()' or 'licence()' for distribution details.

R is a collaborative project with many contributors.
Type 'contributors()' for more information and
'citation()' on how to cite R or R packages in publications.

Type 'demo()' for some demos, 'help()' for on-line help, or
'help.start()' for an HTML browser interface to help.
Type 'q()' to quit R.

> library(testthat)
> library(OUTRIDER)
Loading required package: BiocParallel
Loading required package: GenomicFeatures
Loading required package: BiocGenerics
Loading required package: generics

Attaching package: 'generics'

The following objects are masked from 'package:base':

    as.difftime, as.factor, as.ordered, intersect, is.element, setdiff,
    setequal, union


Attaching package: 'BiocGenerics'

The following objects are masked from 'package:stats':

    IQR, mad, sd, var, xtabs

The following objects are masked from 'package:base':

    Filter, Find, Map, Position, Reduce, anyDuplicated, aperm, append,
    as.data.frame, basename, cbind, colnames, dirname, do.call,
    duplicated, eval, evalq, get, grep, grepl, is.unsorted, lapply,
    mapply, match, mget, order, paste, pmax, pmax.int, pmin, pmin.int,
    rank, rbind, rownames, sapply, saveRDS, table, tapply, unique,
    unsplit, which.max, which.min

Loading required package: S4Vectors
Loading required package: stats4

Attaching package: 'S4Vectors'

The following object is masked from 'package:utils':

    findMatches

The following objects are masked from 'package:base':

    I, expand.grid, unname

Loading required package: IRanges
Loading required package: Seqinfo
Loading required package: GenomicRanges
Loading required package: AnnotationDbi
Loading required package: Biobase
Welcome to Bioconductor

    Vignettes contain introductory material; view with
    'browseVignettes()'. To cite Bioconductor, see
    'citation("Biobase")', and for packages 'citation("pkgname")'.

Loading required package: SummarizedExperiment
Loading required package: MatrixGenerics
Loading required package: matrixStats

Attaching package: 'matrixStats'

The following objects are masked from 'package:Biobase':

    anyMissing, rowMedians


Attaching package: 'MatrixGenerics'

The following objects are masked from 'package:matrixStats':

    colAlls, colAnyNAs, colAnys, colAvgsPerRowSet, colCollapse,
    colCounts, colCummaxs, colCummins, colCumprods, colCumsums,
    colDiffs, colIQRDiffs, colIQRs, colLogSumExps, colMadDiffs,
    colMads, colMaxs, colMeans2, colMedians, colMins, colOrderStats,
    colProds, colQuantiles, colRanges, colRanks, colSdDiffs, colSds,
    colSums2, colTabulates, colVarDiffs, colVars, colWeightedMads,
    colWeightedMeans, colWeightedMedians, colWeightedSds,
    colWeightedVars, rowAlls, rowAnyNAs, rowAnys, rowAvgsPerColSet,
    rowCollapse, rowCounts, rowCummaxs, rowCummins, rowCumprods,
    rowCumsums, rowDiffs, rowIQRDiffs, rowIQRs, rowLogSumExps,
    rowMadDiffs, rowMads, rowMaxs, rowMeans2, rowMedians, rowMins,
    rowOrderStats, rowProds, rowQuantiles, rowRanges, rowRanks,
    rowSdDiffs, rowSds, rowSums2, rowTabulates, rowVarDiffs, rowVars,
    rowWeightedMads, rowWeightedMeans, rowWeightedMedians,
    rowWeightedSds, rowWeightedVars

The following object is masked from 'package:Biobase':

    rowMedians

> 
> register(SerialParam())
> 
> test_check("OUTRIDER")
[1] "Sat Nov 15 02:36:28 2025: Initial PCA loss: 6.11303337361128"
[1] "Sat Nov 15 02:36:30 2025: Iteration: 1 loss: 4.44525702422317"
[1] "Sat Nov 15 02:36:31 2025: Iteration: 2 loss: 4.37086739703776"
[1] "Sat Nov 15 02:36:31 2025: Iteration: 3 loss: 4.33384677825141"
[1] "Sat Nov 15 02:36:32 2025: Iteration: 4 loss: 4.31726445694004"
[1] "Sat Nov 15 02:36:34 2025: Iteration: 5 loss: 4.30580763299235"
[1] "Sat Nov 15 02:36:36 2025: Iteration: 6 loss: 4.30118248639908"
Time difference of 6.800232 secs
[1] "Sat Nov 15 02:36:36 2025: 6 Final nb-AE loss: 4.30118248639908"
[1] "Sat Nov 15 02:36:38 2025: Initial PCA loss: 6.11303337361128"
[1] "Sat Nov 15 02:36:41 2025: Iteration: 1 loss: 4.44525702422317"
[1] "Sat Nov 15 02:36:42 2025: Iteration: 2 loss: 4.37086739703776"
[1] "Sat Nov 15 02:36:43 2025: Iteration: 3 loss: 4.33384677825141"
[1] "Sat Nov 15 02:36:44 2025: Iteration: 4 loss: 4.31726445694004"
[1] "Sat Nov 15 02:36:44 2025: Iteration: 5 loss: 4.30580763299235"
[1] "Sat Nov 15 02:36:45 2025: Iteration: 6 loss: 4.30118248639908"
Time difference of 4.682779 secs
[1] "Sat Nov 15 02:36:45 2025: 6 Final nb-AE loss: 4.30118248639908"
class: OutriderDataSet
class: RangedSummarizedExperiment 
dim: 100 50 
metadata(1): version
assays(1): counts
rownames(100): ENSG00000223972.4 ENSG00000227232.4 ...
  ENSG00000107404.13 ENSG00000162576.12
rowData names(0):
colnames(50): GTEX.UPK5.0426.SM.3GAEK GTEX.WFG7.2026.SM.3GIL7 ...
  GTEX.11UD2.2526.SM.5CVNU GTEX.13O61.1426.SM.5KM3D
colData names(1): sampleID
[1] "Sat Nov 15 02:36:50 2025: Initial PCA loss: 4.48146701056661"
[1] "Sat Nov 15 02:36:52 2025: Iteration: 1 loss: 4.13001859560092"
[1] "Sat Nov 15 02:36:52 2025: Iteration: 2 loss: 4.1130906611568"
Time difference of 1.213457 secs
[1] "Sat Nov 15 02:36:52 2025: 2 Final nb-AE loss: 4.1130906611568"
[1] "Evaluation loss: 0.695303514512107 for q=3"
[1] "Sat Nov 15 02:36:53 2025: Initial PCA loss: 4.44307485379541"
[1] "Sat Nov 15 02:36:54 2025: Iteration: 1 loss: 4.04953341152255"
[1] "Sat Nov 15 02:36:55 2025: Iteration: 2 loss: 4.02520127517318"
Time difference of 1.202563 secs
[1] "Sat Nov 15 02:36:55 2025: 2 Final nb-AE loss: 4.02520127517318"
[1] "Evaluation loss: 0.609214673959242 for q=4"
[1] "Sat Nov 15 02:36:55 2025: Initial PCA loss: 4.4177650779057"
[1] "Sat Nov 15 02:36:56 2025: Iteration: 1 loss: 3.98981093863397"
[1] "Sat Nov 15 02:36:57 2025: Iteration: 2 loss: 3.97760547252239"
Time difference of 1.233082 secs
[1] "Sat Nov 15 02:36:57 2025: 2 Final nb-AE loss: 3.97760547252239"
[1] "Evaluation loss: 0.621693043811582 for q=5"
Optimal encoding dimension: 4 
Optimal encoding dimension: 50 
Optimal encoding dimension: 20 
Optimal encoding dimension: 2 
Optimal encoding dimension: 4 
Error in x$.self$finalize() : attempt to apply non-function
[1] "Sat Nov 15 02:37:24 2025: Initial PCA loss: 7.16457134714849"
[1] "Sat Nov 15 02:37:26 2025: Iteration: 1 loss: 6.82914112812595"
[1] "Sat Nov 15 02:37:27 2025: Iteration: 2 loss: 6.82749097859465"
Time difference of 1.498778 secs
[1] "Sat Nov 15 02:37:27 2025: 2 Final nb-AE loss: 6.82749097859465"
Saving _problems/test_methods-35.R
[ FAIL 1 | WARN 12 | SKIP 2 | PASS 130 ]

══ Skipped tests (2) ═══════════════════════════════════════════════════════════
• empty test (2): ,

══ Failed tests ════════════════════════════════════════════════════════════════
── Error ('test_methods.R:35:5'): result method ────────────────────────────────
Error in `expect(nrow(results(ods, round = TRUE)), 3)`: `ok` must be `TRUE` or `FALSE`, not the number 1.
Backtrace:
    ▆
 1. └─testthat::expect(ok = nrow(results(ods, round = TRUE))) at test_methods.R:35:5
 2.   └─testthat:::check_bool(ok)
 3.     └─testthat:::stop_input_type(...)
 4.       └─rlang::abort(message, ..., call = call, arg = arg)

[ FAIL 1 | WARN 12 | SKIP 2 | PASS 130 ]
Error:
! Test failures.
Warning message:
call dbDisconnect() when finished working with a connection 
Execution halted

Example timings

OUTRIDER.Rcheck/OUTRIDER-Ex.timings

nameusersystemelapsed
OUTRIDER12.059 3.09313.470
OutriderDataSet-class0.7450.0290.776
aberrant1.7380.7911.711
computeGeneLength1.3600.1031.464
computeLatentSpace0.7330.0290.762
computePvalues1.9912.2342.518
computeZscores0.8240.0700.894
controlForConfounders1.0310.0261.057
counts0.5510.0240.576
estimateBestQ12.016 0.87212.898
filterExpression3.0280.1203.902
fit2.0180.1062.723
fpkm1.6440.0921.782
getter_setter_functions4.0310.1014.133
makeExampleOutriderDataSet3.0860.0933.187
normalizationFactors0.8850.0131.012
plotFunctions25.786 0.94227.752
results3.5890.3454.061
sampleExclusionMask0.3900.0080.398
sizeFactors0.5970.0150.613