Back to Build/check report for BioC 3.23:   simplified   long
ABCDEFGHIJKL[M]NOPQRSTUVWXYZ

This page was generated on 2025-11-13 11:32 -0500 (Thu, 13 Nov 2025).

HostnameOSArch (*)R versionInstalled pkgs
kjohnson3macOS 13.7.7 Venturaarm64R Under development (unstable) (2025-11-04 r88984) -- "Unsuffered Consequences" 4013
Click on any hostname to see more info about the system (e.g. compilers)      (*) as reported by 'uname -p', except on Windows and Mac OS X

Package 1391/2325HostnameOS / ArchINSTALLBUILDCHECKBUILD BIN
MultiAssayExperiment 1.37.1  (landing page)
Marcel Ramos
Snapshot Date: 2025-11-12 13:40 -0500 (Wed, 12 Nov 2025)
git_url: https://git.bioconductor.org/packages/MultiAssayExperiment
git_branch: devel
git_last_commit: 908499d
git_last_commit_date: 2025-11-04 13:59:26 -0500 (Tue, 04 Nov 2025)
kjohnson3macOS 13.7.7 Ventura / arm64  OK    ERROR  skippedskipped


BUILD results for MultiAssayExperiment on kjohnson3

To the developers/maintainers of the MultiAssayExperiment package:
- Allow up to 24 hours (and sometimes 48 hours) for your latest push to git@git.bioconductor.org:packages/MultiAssayExperiment.git to reflect on this report. See Troubleshooting Build Report for more information.
- Use the following Renviron settings to reproduce errors and warnings.
- If 'R CMD check' started to fail recently on the Linux builder(s) over a missing dependency, add the missing dependency to 'Suggests:' in your DESCRIPTION file. See Renviron.bioc for more information.

raw results


Summary

Package: MultiAssayExperiment
Version: 1.37.1
Command: /Library/Frameworks/R.framework/Resources/bin/R CMD build --keep-empty-dirs --no-resave-data MultiAssayExperiment
StartedAt: 2025-11-12 16:48:06 -0500 (Wed, 12 Nov 2025)
EndedAt: 2025-11-12 16:48:33 -0500 (Wed, 12 Nov 2025)
EllapsedTime: 26.4 seconds
RetCode: 1
Status:   ERROR  
PackageFile: None
PackageFileSize: NA

Command output

##############################################################################
##############################################################################
###
### Running command:
###
###   /Library/Frameworks/R.framework/Resources/bin/R CMD build --keep-empty-dirs --no-resave-data MultiAssayExperiment
###
##############################################################################
##############################################################################


* checking for file ‘MultiAssayExperiment/DESCRIPTION’ ... OK
* preparing ‘MultiAssayExperiment’:
* checking DESCRIPTION meta-information ... OK
* installing the package (it is needed to build vignettes)
* creating vignettes ... ERROR
--- re-building ‘MultiAssayExperiment.Rmd’ using rmarkdown
--- finished re-building ‘MultiAssayExperiment.Rmd’

--- re-building ‘MultiAssayExperiment_cheatsheet.Rmd’ using rmarkdown
--- finished re-building ‘MultiAssayExperiment_cheatsheet.Rmd’

--- re-building ‘QuickStartMultiAssay.Rmd’ using rmarkdown
2025-11-12 16:48:29.798 R[57061:2737118] XType: Using static font registry.
--- finished re-building ‘QuickStartMultiAssay.Rmd’

--- re-building ‘UsingHDF5Array.Rmd’ using rmarkdown

Quitting from UsingHDF5Array.Rmd:19-23 [load_packages]
~~~~~~~~~~~~~~~~~~~~~~~~~~~~~~~~~~~~~~~~~~~~~~~~~~~~~~~~~~~~~~~~~~~~~~~~~~~~~~~~
<error/rlang_error>
Error in `library()`:
! there is no package called 'HDF5Array'
---
Backtrace:
    ▆
 1. └─base::library(HDF5Array)
~~~~~~~~~~~~~~~~~~~~~~~~~~~~~~~~~~~~~~~~~~~~~~~~~~~~~~~~~~~~~~~~~~~~~~~~~~~~~~~~

Error: processing vignette 'UsingHDF5Array.Rmd' failed with diagnostics:
there is no package called 'HDF5Array'
--- failed re-building ‘UsingHDF5Array.Rmd’

SUMMARY: processing the following file failed:
  ‘UsingHDF5Array.Rmd’

Error: Vignette re-building failed.
Execution halted