Back to Multiple platform build/check report for BioC 3.23:   simplified   long
ABCDEFGHIJKL[M]NOPQRSTUVWXYZ

This page was generated on 2025-11-24 11:38 -0500 (Mon, 24 Nov 2025).

HostnameOSArch (*)R versionInstalled pkgs
nebbiolo1Linux (Ubuntu 24.04.3 LTS)x86_64R Under development (unstable) (2025-10-20 r88955) -- "Unsuffered Consequences" 4829
lconwaymacOS 12.7.6 Montereyx86_64R Under development (unstable) (2025-10-21 r88958) -- "Unsuffered Consequences" 4605
kjohnson3macOS 13.7.7 Venturaarm64R Under development (unstable) (2025-11-04 r88984) -- "Unsuffered Consequences" 4568
Click on any hostname to see more info about the system (e.g. compilers)      (*) as reported by 'uname -p', except on Windows and Mac OS X

Package 1361/2327HostnameOS / ArchINSTALLBUILDCHECKBUILD BIN
MsBackendRawFileReader 1.17.0  (landing page)
Christian Panse
Snapshot Date: 2025-11-23 13:40 -0500 (Sun, 23 Nov 2025)
git_url: https://git.bioconductor.org/packages/MsBackendRawFileReader
git_branch: devel
git_last_commit: c509d56
git_last_commit_date: 2025-10-29 11:12:57 -0500 (Wed, 29 Oct 2025)
nebbiolo1Linux (Ubuntu 24.04.3 LTS) / x86_64  OK    OK    OK  UNNEEDED, same version is already published
lconwaymacOS 12.7.6 Monterey / x86_64  OK    OK    OK    OK  NO, package depends on 'MsCoreUtils' which is only available as a source package that needs compilation
kjohnson3macOS 13.7.7 Ventura / arm64  OK    OK    OK    OK  NO, package depends on 'MsCoreUtils' which is only available as a source package that needs compilation


CHECK results for MsBackendRawFileReader on lconway

To the developers/maintainers of the MsBackendRawFileReader package:
- Allow up to 24 hours (and sometimes 48 hours) for your latest push to git@git.bioconductor.org:packages/MsBackendRawFileReader.git to reflect on this report. See Troubleshooting Build Report for more information.
- Use the following Renviron settings to reproduce errors and warnings.
- If 'R CMD check' started to fail recently on the Linux builder(s) over a missing dependency, add the missing dependency to 'Suggests:' in your DESCRIPTION file. See Renviron.bioc for more information.

raw results


Summary

Package: MsBackendRawFileReader
Version: 1.17.0
Command: /Library/Frameworks/R.framework/Resources/bin/R CMD check --install=check:MsBackendRawFileReader.install-out.txt --library=/Library/Frameworks/R.framework/Resources/library --no-vignettes --timings MsBackendRawFileReader_1.17.0.tar.gz
StartedAt: 2025-11-23 22:39:04 -0500 (Sun, 23 Nov 2025)
EndedAt: 2025-11-23 22:42:55 -0500 (Sun, 23 Nov 2025)
EllapsedTime: 230.3 seconds
RetCode: 0
Status:   OK  
CheckDir: MsBackendRawFileReader.Rcheck
Warnings: 0

Command output

##############################################################################
##############################################################################
###
### Running command:
###
###   /Library/Frameworks/R.framework/Resources/bin/R CMD check --install=check:MsBackendRawFileReader.install-out.txt --library=/Library/Frameworks/R.framework/Resources/library --no-vignettes --timings MsBackendRawFileReader_1.17.0.tar.gz
###
##############################################################################
##############################################################################


* using log directory ‘/Users/biocbuild/bbs-3.23-bioc/meat/MsBackendRawFileReader.Rcheck’
* using R Under development (unstable) (2025-10-21 r88958)
* using platform: x86_64-apple-darwin20
* R was compiled by
    Apple clang version 14.0.0 (clang-1400.0.29.202)
    GNU Fortran (GCC) 14.2.0
* running under: macOS Ventura 13.7.8
* using session charset: UTF-8
* using option ‘--no-vignettes’
* checking for file ‘MsBackendRawFileReader/DESCRIPTION’ ... OK
* checking extension type ... Package
* this is package ‘MsBackendRawFileReader’ version ‘1.17.0’
* package encoding: UTF-8
* checking package namespace information ... OK
* checking package dependencies ... OK
* checking if this is a source package ... OK
* checking if there is a namespace ... OK
* checking for hidden files and directories ... OK
* checking for portable file names ... OK
* checking for sufficient/correct file permissions ... OK
* checking whether package ‘MsBackendRawFileReader’ can be installed ... OK
* checking installed package size ... OK
* checking package directory ... OK
* checking ‘build’ directory ... OK
* checking DESCRIPTION meta-information ... OK
* checking top-level files ... OK
* checking for left-over files ... OK
* checking index information ... OK
* checking package subdirectories ... OK
* checking code files for non-ASCII characters ... OK
* checking R files for syntax errors ... OK
* checking whether the package can be loaded ... OK
* checking whether the package can be loaded with stated dependencies ... OK
* checking whether the package can be unloaded cleanly ... OK
* checking whether the namespace can be loaded with stated dependencies ... OK
* checking whether the namespace can be unloaded cleanly ... OK
* checking whether startup messages can be suppressed ... OK
* checking dependencies in R code ... OK
* checking S3 generic/method consistency ... OK
* checking replacement functions ... OK
* checking foreign function calls ... OK
* checking R code for possible problems ... OK
* checking Rd files ... OK
* checking Rd metadata ... OK
* checking Rd cross-references ... OK
* checking for missing documentation entries ... OK
* checking for code/documentation mismatches ... OK
* checking Rd \usage sections ... OK
* checking Rd contents ... OK
* checking for unstated dependencies in examples ... OK
* checking files in ‘vignettes’ ... OK
* checking examples ... OK
Examples with CPU (user + system) or elapsed time > 5s
                               user system elapsed
ioBenchmark                  27.667 12.089  16.550
MsBackendRawFileReader        7.557  3.179  11.128
MsBackendRawFileReader-class  3.541  1.165   5.072
* checking for unstated dependencies in ‘tests’ ... OK
* checking tests ...
  Running ‘testthat.R’
 OK
* checking for unstated dependencies in vignettes ... OK
* checking package vignettes ... OK
* checking running R code from vignettes ... SKIPPED
* checking re-building of vignette outputs ... SKIPPED
* checking PDF version of manual ... OK
* DONE

Status: OK


Installation output

MsBackendRawFileReader.Rcheck/00install.out

##############################################################################
##############################################################################
###
### Running command:
###
###   /Library/Frameworks/R.framework/Resources/bin/R CMD INSTALL MsBackendRawFileReader
###
##############################################################################
##############################################################################


* installing to library ‘/Library/Frameworks/R.framework/Versions/4.6-x86_64/Resources/library’
* installing *source* package ‘MsBackendRawFileReader’ ...
** this is package ‘MsBackendRawFileReader’ version ‘1.17.0’
** using staged installation
** R
** inst
** byte-compile and prepare package for lazy loading
** help
*** installing help indices
** building package indices
** installing vignettes
** testing if installed package can be loaded from temporary location
** testing if installed package can be loaded from final location
** testing if installed package keeps a record of temporary installation path
* DONE (MsBackendRawFileReader)

Tests output

MsBackendRawFileReader.Rcheck/tests/testthat.Rout


R Under development (unstable) (2025-10-21 r88958) -- "Unsuffered Consequences"
Copyright (C) 2025 The R Foundation for Statistical Computing
Platform: x86_64-apple-darwin20

R is free software and comes with ABSOLUTELY NO WARRANTY.
You are welcome to redistribute it under certain conditions.
Type 'license()' or 'licence()' for distribution details.

R is a collaborative project with many contributors.
Type 'contributors()' for more information and
'citation()' on how to cite R or R packages in publications.

Type 'demo()' for some demos, 'help()' for on-line help, or
'help.start()' for an HTML browser interface to help.
Type 'q()' to quit R.

> library("testthat")
> library("MsBackendRawFileReader")
Loading required package: Spectra
Loading required package: S4Vectors
Loading required package: stats4
Loading required package: BiocGenerics
Loading required package: generics

Attaching package: 'generics'

The following objects are masked from 'package:base':

    as.difftime, as.factor, as.ordered, intersect, is.element, setdiff,
    setequal, union


Attaching package: 'BiocGenerics'

The following objects are masked from 'package:stats':

    IQR, mad, sd, var, xtabs

The following objects are masked from 'package:base':

    Filter, Find, Map, Position, Reduce, anyDuplicated, aperm, append,
    as.data.frame, basename, cbind, colnames, dirname, do.call,
    duplicated, eval, evalq, get, grep, grepl, is.unsorted, lapply,
    mapply, match, mget, order, paste, pmax, pmax.int, pmin, pmin.int,
    rank, rbind, rownames, sapply, saveRDS, table, tapply, unique,
    unsplit, which.max, which.min


Attaching package: 'S4Vectors'

The following object is masked from 'package:utils':

    findMatches

The following objects are masked from 'package:base':

    I, expand.grid, unname

Loading required package: BiocParallel
> library("Spectra")
> 
> 
> sample_raw_file <- file.path(system.file(package = "rawrr"),
+                                 'extdata', 'sample.raw')
> 
> sample_mzXML_file <- file.path(path.package(package = 'MsBackendRawFileReader'),
+                                 'extdata', 'sample.mzXML')
> 
> 
> sample_raw <-  backendInitialize(MsBackendRawFileReader::MsBackendRawFileReader(), files = sample_raw_file)
> 
> 
> #sample_mzr <-  backendInitialize(MsBackendMzR(), files = sample_mzXML_file)
> 
> 
> mgf_file <- file.path(system.file(package = "MsBackendRawFileReader"),
+                              'extdata', '3159619b11ed_4590_9594.mgf')
> 
> 
> rv <- lapply(1:2, function(x){
+   file.copy(from = sample_raw_file, to = tempfile(fileext='.raw'))})
> 
> 
> register(SnowParam(workers = 1, type = "SOCK") , default = TRUE); 
> sample_raw_2 <- backendInitialize(MsBackendRawFileReader(),
+     files = file.path(tempdir(),
+          list.files(path = tempdir(), pattern = 'raw$')))
> 
> 
> test_check("MsBackendRawFileReader")
[ FAIL 0 | WARN 1 | SKIP 2 | PASS 21 ]

══ Skipped tests (2) ═══════════════════════════════════════════════════════════
• isFALSE(file.exists(sample_mzXML_file)) is TRUE (1):
  'test_MsBackendMzR_MsBackendRawFileReader.R:1:1'
• isFALSE(require(MsBackendRawMgf)) is TRUE (1): 'test_top_n_mgf.R:1:1'

[ FAIL 0 | WARN 1 | SKIP 2 | PASS 21 ]
> 
> 
> be <- Spectra::backendInitialize(MsBackendRawFileReader::MsBackendRawFileReader(),
+                                  files = c(sample_raw_file))
> 
> ## Run the MsBackend spectra variable test suite
> 
> test_suite <- system.file("test_backends", "test_MsBackend",
+                           package = "Spectra")
> 
> #res <- test_file(paste0(test_suite, "/test_spectra_variables.R"),
> #                 reporter = check_reporter(), stop_on_failure = TRUE)
> 
> 
> ## Run the whole suite.
> res <- test_dir(test_suite, stop_on_failure = TRUE)
✔ | F W  S  OK | Context

⠏ |          0 | peaks_variables                                                
⠙ |          2 | peaks_variables                                                
⠸ |          4 | peaks_variables                                                
✔ |          4 | peaks_variables [4.6s]

⠏ |          0 | spectra_subsetting                                             
⠋ |          1 | spectra_subsetting                                             
⠹ |         13 | spectra_subsetting                                             
⠼ |         25 | spectra_subsetting                                             
⠼ |         35 | spectra_subsetting                                             
⠴ |         46 | spectra_subsetting                                             
⠇ |         59 | spectra_subsetting                                             
⠏ |         70 | spectra_subsetting                                             
⠙ |         82 | spectra_subsetting                                             
⠸ |         94 | spectra_subsetting                                             
⠴ |        106 | spectra_subsetting                                             
⠇ |        119 | spectra_subsetting                                             
⠹ |        133 | spectra_subsetting                                             
⠼ |        145 | spectra_subsetting                                             
⠦ |        157 | spectra_subsetting                                             
⠇ |        169 | spectra_subsetting                                             
⠋ |        181 | spectra_subsetting                                             
⠹ |        193 | spectra_subsetting                                             
⠼ |        205 | spectra_subsetting                                             
⠦ |        217 | spectra_subsetting                                             
⠇ |        229 | spectra_subsetting                                             
⠙ |        242 | spectra_subsetting                                             
⠹ |        253 | spectra_subsetting                                             
⠼ |        265 | spectra_subsetting                                             
⠧ |        278 | spectra_subsetting                                             
⠏ |        290 | spectra_subsetting                                             
⠙ |        302 | spectra_subsetting                                             
⠸ |        314 | spectra_subsetting                                             
⠴ |        326 | spectra_subsetting                                             
⠦ |        337 | spectra_subsetting                                             
⠇ |        349 | spectra_subsetting                                             
⠋ |        361 | spectra_subsetting                                             
⠙ |        372 | spectra_subsetting                                             
⠹ |        383 | spectra_subsetting                                             
⠦ |        397 | spectra_subsetting                                             
⠇ |        409 | spectra_subsetting                                             
⠹ |        423 | spectra_subsetting                                             
⠼ |        435 | spectra_subsetting                                             
⠼ |        445 | spectra_subsetting                                             
⠦ |        457 | spectra_subsetting                                             
⠇ |        469 | spectra_subsetting                                             
⠋ |        481 | spectra_subsetting                                             
⠹ |        493 | spectra_subsetting                                             
⠼ |        505 | spectra_subsetting                                             
⠦ |        517 | spectra_subsetting                                             
⠇ |        529 | spectra_subsetting                                             
⠋ |        541 | spectra_subsetting                                             
⠙ |        552 | spectra_subsetting                                             
⠙ |        562 | spectra_subsetting                                             
⠸ |        574 | spectra_subsetting                                             
⠴ |        586 | spectra_subsetting                                             
⠧ |        598 | spectra_subsetting                                             
⠏ |        610 | spectra_subsetting                                             
⠙ |        622 | spectra_subsetting                                             
⠸ |        634 | spectra_subsetting                                             
⠴ |        646 | spectra_subsetting                                             
⠧ |        658 | spectra_subsetting                                             
⠏ |        670 | spectra_subsetting                                             
⠸ |        684 | spectra_subsetting                                             
⠼ |        695 | spectra_subsetting                                             
⠦ |        707 | spectra_subsetting                                             
⠏ |        720 | spectra_subsetting                                             
⠏ |        730 | spectra_subsetting                                             
⠙ |        742 | spectra_subsetting                                             
⠦ |        757 | spectra_subsetting                                             
⠇ |        769 | spectra_subsetting                                             
⠙ |        782 | spectra_subsetting                                             
⠴ |        796 | spectra_subsetting                                             
⠧ |        808 | spectra_subsetting                                             
⠏ |        820 | spectra_subsetting                                             
⠙ |        832 | spectra_subsetting                                             
⠸ |        844 | spectra_subsetting                                             
⠴ |        856 | spectra_subsetting                                             
⠧ |        868 | spectra_subsetting                                             
⠏ |        880 | spectra_subsetting                                             
⠙ |        892 | spectra_subsetting                                             
⠸ |        904 | spectra_subsetting                                             
⠴ |        916 | spectra_subsetting                                             
⠧ |        928 | spectra_subsetting                                             
⠏ |        940 | spectra_subsetting                                             
⠙ |        952 | spectra_subsetting                                             
⠸ |        964 | spectra_subsetting                                             
⠴ |        976 | spectra_subsetting                                             
⠧ |        988 | spectra_subsetting                                             
⠏ |        1000 | spectra_subsetting                                            
⠙ |        1012 | spectra_subsetting                                            
⠸ |        1024 | spectra_subsetting                                            
⠴ |        1036 | spectra_subsetting                                            
⠧ |        1048 | spectra_subsetting                                            
⠏ |        1060 | spectra_subsetting                                            
⠙ |        1072 | spectra_subsetting                                            
⠼ |        1085 | spectra_subsetting                                            
⠴ |        1096 | spectra_subsetting                                            
⠧ |        1108 | spectra_subsetting                                            
⠏ |        1120 | spectra_subsetting                                            
⠙ |        1132 | spectra_subsetting                                            
⠸ |        1144 | spectra_subsetting                                            
⠴ |        1156 | spectra_subsetting                                            
⠼ |        1165 | spectra_subsetting                                            
⠸ |        1174 | spectra_subsetting                                            
⠴ |        1186 | spectra_subsetting                                            
⠧ |        1198 | spectra_subsetting                                            
⠇ |        1209 | spectra_subsetting                                            
⠧ |        1218 | spectra_subsetting                                            
⠧ |        1228 | spectra_subsetting                                            
⠏ |        1240 | spectra_subsetting                                            
⠇ |        1249 | spectra_subsetting                                            
⠇ |        1259 | spectra_subsetting                                            
⠧ |        1268 | spectra_subsetting                                            
⠴ |        1276 | spectra_subsetting                                            
⠧ |        1288 | spectra_subsetting                                            
⠋ |        1301 | spectra_subsetting                                            
⠙ |        1312 | spectra_subsetting                                            
⠋ |        1321 | spectra_subsetting                                            
⠹ |        1333 | spectra_subsetting                                            
⠼ |        1345 | spectra_subsetting                                            
⠦ |        1357 | spectra_subsetting                                            
⠇ |        1369 | spectra_subsetting                                            
⠋ |        1381 | spectra_subsetting                                            
⠙ |        1392 | spectra_subsetting                                            
⠙ |        1402 | spectra_subsetting                                            
⠸ |        1414 | spectra_subsetting                                            
⠴ |        1426 | spectra_subsetting                                            
⠧ |        1438 | spectra_subsetting                                            
⠏ |        1450 | spectra_subsetting                                            
⠙ |        1462 | spectra_subsetting                                            
⠸ |        1474 | spectra_subsetting                                            
⠴ |        1486 | spectra_subsetting                                            
⠧ |        1498 | spectra_subsetting                                            
⠏ |        1510 | spectra_subsetting                                            
⠹ |        1523 | spectra_subsetting                                            
⠙ |        1532 | spectra_subsetting                                            
⠹ |        1543 | spectra_subsetting                                            
⠼ |        1555 | spectra_subsetting                                            
⠦ |        1567 | spectra_subsetting                                            
⠇ |        1579 | spectra_subsetting                                            
⠋ |        1591 | spectra_subsetting                                            
⠹ |        1603 | spectra_subsetting                                            
⠼ |        1615 | spectra_subsetting                                            
⠦ |        1627 | spectra_subsetting                                            
⠇ |        1639 | spectra_subsetting                                            
⠏ |        1650 | spectra_subsetting                                            
⠋ |        1661 | spectra_subsetting                                            
⠙ |        1672 | spectra_subsetting                                            
⠙ |        1682 | spectra_subsetting                                            
⠹ |        1693 | spectra_subsetting                                            
⠼ |        1705 | spectra_subsetting                                            
⠴ |        1716 | spectra_subsetting                                            
⠼ |        1725 | spectra_subsetting                                            
⠧ |        1728 | spectra_subsetting                                            
⠏ |        1730 | spectra_subsetting                                            
⠙ |        1732 | spectra_subsetting                                            
⠸ |        1734 | spectra_subsetting                                            
⠴ |        1736 | spectra_subsetting                                            
⠧ |        1738 | spectra_subsetting                                            
⠏ |        1740 | spectra_subsetting                                            
⠙ |        1742 | spectra_subsetting                                            
⠸ |        1744 | spectra_subsetting                                            
⠦ |        1747 | spectra_subsetting                                            
⠏ |        1750 | spectra_subsetting                                            
⠙ |        1752 | spectra_subsetting                                            
⠸ |        1754 | spectra_subsetting                                            
⠴ |        1756 | spectra_subsetting                                            
⠧ |        1758 | spectra_subsetting                                            
⠏ |        1760 | spectra_subsetting                                            
⠙ |        1762 | spectra_subsetting                                            
⠸ |        1764 | spectra_subsetting                                            
⠴ |        1766 | spectra_subsetting                                            
⠧ |        1768 | spectra_subsetting                                            
⠏ |        1770 | spectra_subsetting                                            
⠙ |        1772 | spectra_subsetting                                            
⠸ |        1774 | spectra_subsetting                                            
⠴ |        1776 | spectra_subsetting                                            
⠧ |        1778 | spectra_subsetting                                            
⠏ |        1780 | spectra_subsetting                                            
⠙ |        1782 | spectra_subsetting                                            
⠸ |        1784 | spectra_subsetting                                            
⠴ |        1786 | spectra_subsetting                                            
⠧ |        1788 | spectra_subsetting                                            
⠏ |        1790 | spectra_subsetting                                            
⠙ |        1792 | spectra_subsetting                                            
⠸ |        1794 | spectra_subsetting                                            
⠴ |        1796 | spectra_subsetting                                            
⠧ |        1798 | spectra_subsetting                                            
⠏ |        1800 | spectra_subsetting                                            
⠙ |        1802 | spectra_subsetting                                            
⠸ |        1804 | spectra_subsetting                                            
⠴ |        1806 | spectra_subsetting                                            
⠧ |        1808 | spectra_subsetting                                            
⠏ |        1810 | spectra_subsetting                                            
⠙ |        1812 | spectra_subsetting                                            
⠸ |        1814 | spectra_subsetting                                            
⠴ |        1816 | spectra_subsetting                                            
⠧ |        1818 | spectra_subsetting                                            
⠏ |        1820 | spectra_subsetting                                            
⠙ |        1822 | spectra_subsetting                                            
⠸ |        1824 | spectra_subsetting                                            
⠴ |        1826 | spectra_subsetting                                            
⠧ |        1828 | spectra_subsetting                                            
⠏ |        1830 | spectra_subsetting                                            
⠙ |        1832 | spectra_subsetting                                            
⠸ |        1834 | spectra_subsetting                                            
⠴ |        1836 | spectra_subsetting                                            
⠧ |        1838 | spectra_subsetting                                            
⠏ |        1840 | spectra_subsetting                                            
⠙ |        1842 | spectra_subsetting                                            
⠸ |        1844 | spectra_subsetting                                            
⠦ |        1847 | spectra_subsetting                                            
⠇ |        1849 | spectra_subsetting                                            
⠋ |        1851 | spectra_subsetting                                            
⠹ |        1853 | spectra_subsetting                                            
⠼ |        1855 | spectra_subsetting                                            
⠦ |        1857 | spectra_subsetting                                            
⠇ |        1859 | spectra_subsetting                                            
⠋ |        1861 | spectra_subsetting                                            
⠹ |        1863 | spectra_subsetting                                            
⠴ |        1866 | spectra_subsetting                                            
⠇ |        1869 | spectra_subsetting                                            
⠋ |        1871 | spectra_subsetting                                            
⠸ |        1874 | spectra_subsetting                                            
⠴ |        1876 | spectra_subsetting                                            
⠧ |        1878 | spectra_subsetting                                            
⠏ |        1880 | spectra_subsetting                                            
⠙ |        1882 | spectra_subsetting                                            
⠸ |        1884 | spectra_subsetting                                            
⠴ |        1886 | spectra_subsetting                                            
⠧ |        1888 | spectra_subsetting                                            
⠏ |        1890 | spectra_subsetting                                            
⠙ |        1892 | spectra_subsetting                                            
⠸ |        1894 | spectra_subsetting                                            
⠴ |        1896 | spectra_subsetting                                            
⠧ |        1898 | spectra_subsetting                                            
⠏ |        1900 | spectra_subsetting                                            
⠙ |        1902 | spectra_subsetting                                            
⠼ |        1905 | spectra_subsetting                                            
⠦ |        1907 | spectra_subsetting                                            
⠏ |        1910 | spectra_subsetting                                            
⠙ |        1912 | spectra_subsetting                                            
⠼ |        1915 | spectra_subsetting                                            
⠦ |        1917 | spectra_subsetting                                            
⠇ |        1919 | spectra_subsetting                                            
⠋ |        1921 | spectra_subsetting                                            
⠹ |        1923 | spectra_subsetting                                            
⠼ |        1925 | spectra_subsetting                                            
⠦ |        1927 | spectra_subsetting                                            
⠇ |        1929 | spectra_subsetting                                            
⠙ |        1932 | spectra_subsetting                                            
⠸ |        1934 | spectra_subsetting                                            
⠦ |        1937 | spectra_subsetting                                            
⠇ |        1939 | spectra_subsetting                                            
⠙ |        1942 | spectra_subsetting                                            
⠸ |        1944 | spectra_subsetting                                            
⠦ |        1947 | spectra_subsetting                                            
⠏ |        1950 | spectra_subsetting                                            
⠙ |        1952 | spectra_subsetting                                            
⠸ |        1954 | spectra_subsetting                                            
⠴ |        1956 | spectra_subsetting                                            
⠧ |        1958 | spectra_subsetting                                            
⠏ |        1960 | spectra_subsetting                                            
⠙ |        1962 | spectra_subsetting                                            
⠸ |        1964 | spectra_subsetting                                            
⠴ |        1966 | spectra_subsetting                                            
⠧ |        1968 | spectra_subsetting                                            
⠏ |        1970 | spectra_subsetting                                            
⠹ |        1973 | spectra_subsetting                                            
⠼ |        1975 | spectra_subsetting                                            
⠦ |        1977 | spectra_subsetting                                            
⠇ |        1979 | spectra_subsetting                                            
⠋ |        1981 | spectra_subsetting                                            
⠹ |        1983 | spectra_subsetting                                            
⠼ |        1985 | spectra_subsetting                                            
⠦ |        1987 | spectra_subsetting                                            
⠇ |        1989 | spectra_subsetting                                            
⠙ |        1992 | spectra_subsetting                                            
⠸ |        1994 | spectra_subsetting                                            
⠴ |        1996 | spectra_subsetting                                            
⠧ |        1998 | spectra_subsetting                                            
⠏ |        2000 | spectra_subsetting                                            
⠙ |        2002 | spectra_subsetting                                            
⠸ |        2004 | spectra_subsetting                                            
⠴ |        2006 | spectra_subsetting                                            
⠇ |        2009 | spectra_subsetting                                            
⠋ |        2011 | spectra_subsetting                                            
⠸ |        2014 | spectra_subsetting                                            
⠴ |        2016 | spectra_subsetting                                            
⠧ |        2018 | spectra_subsetting                                            
⠏ |        2020 | spectra_subsetting                                            
⠹ |        2023 | spectra_subsetting                                            
⠼ |        2025 | spectra_subsetting                                            
⠧ |        2028 | spectra_subsetting                                            
⠋ |        2031 | spectra_subsetting                                            
⠸ |        2034 | spectra_subsetting                                            
⠦ |        2037 | spectra_subsetting                                            
⠏ |        2040 | spectra_subsetting                                            
⠙ |        2042 | spectra_subsetting                                            
⠸ |        2044 | spectra_subsetting                                            
⠴ |        2046 | spectra_subsetting                                            
⠧ |        2048 | spectra_subsetting                                            
⠏ |        2050 | spectra_subsetting                                            
⠙ |        2052 | spectra_subsetting                                            
⠸ |        2054 | spectra_subsetting                                            
⠴ |        2056 | spectra_subsetting                                            
⠧ |        2058 | spectra_subsetting                                            
⠏ |        2060 | spectra_subsetting                                            
⠙ |        2062 | spectra_subsetting                                            
⠸ |        2064 | spectra_subsetting                                            
⠴ |        2066 | spectra_subsetting                                            
⠧ |        2068 | spectra_subsetting                                            
⠏ |        2070 | spectra_subsetting                                            
⠙ |        2072 | spectra_subsetting                                            
⠸ |        2074 | spectra_subsetting                                            
⠴ |        2076 | spectra_subsetting                                            
⠧ |        2078 | spectra_subsetting                                            
⠏ |        2080 | spectra_subsetting                                            
⠙ |        2082 | spectra_subsetting                                            
⠸ |        2084 | spectra_subsetting                                            
⠴ |        2086 | spectra_subsetting                                            
⠧ |        2088 | spectra_subsetting                                            
⠏ |        2090 | spectra_subsetting                                            
⠙ |        2092 | spectra_subsetting                                            
⠸ |        2094 | spectra_subsetting                                            
⠴ |        2096 | spectra_subsetting                                            
⠧ |        2098 | spectra_subsetting                                            
⠏ |        2100 | spectra_subsetting                                            
⠙ |        2102 | spectra_subsetting                                            
⠼ |        2105 | spectra_subsetting                                            
⠦ |        2107 | spectra_subsetting                                            
⠇ |        2109 | spectra_subsetting                                            
⠋ |        2111 | spectra_subsetting                                            
⠹ |        2113 | spectra_subsetting                                            
⠼ |        2115 | spectra_subsetting                                            
⠦ |        2117 | spectra_subsetting                                            
⠇ |        2119 | spectra_subsetting                                            
⠋ |        2121 | spectra_subsetting                                            
⠹ |        2123 | spectra_subsetting                                            
⠼ |        2125 | spectra_subsetting                                            
⠧ |        2128 | spectra_subsetting                                            
⠏ |        2130 | spectra_subsetting                                            
⠙ |        2132 | spectra_subsetting                                            
⠸ |        2134 | spectra_subsetting                                            
⠴ |        2136 | spectra_subsetting                                            
⠧ |        2138 | spectra_subsetting                                            
⠋ |        2141 | spectra_subsetting                                            
⠸ |        2144 | spectra_subsetting                                            
⠴ |        2146 | spectra_subsetting                                            
⠧ |        2148 | spectra_subsetting                                            
⠏ |        2150 | spectra_subsetting                                            
⠙ |        2152 | spectra_subsetting                                            
⠸ |        2154 | spectra_subsetting                                            
⠴ |        2156 | spectra_subsetting                                            
⠧ |        2158 | spectra_subsetting                                            
⠏ |        2160 | spectra_subsetting                                            
⠙ |        2162 | spectra_subsetting                                            
⠸ |        2164 | spectra_subsetting                                            
⠴ |        2166 | spectra_subsetting                                            
⠇ |        2169 | spectra_subsetting                                            
⠋ |        2171 | spectra_subsetting                                            
⠸ |        2174 | spectra_subsetting                                            
⠴ |        2176 | spectra_subsetting                                            
⠇ |        2179 | spectra_subsetting                                            
⠙ |        2182 | spectra_subsetting                                            
⠸ |        2184 | spectra_subsetting                                            
⠴ |        2186 | spectra_subsetting                                            
⠧ |        2188 | spectra_subsetting                                            
⠏ |        2190 | spectra_subsetting                                            
⠙ |        2192 | spectra_subsetting                                            
⠸ |        2194 | spectra_subsetting                                            
⠴ |        2196 | spectra_subsetting                                            
⠧ |        2198 | spectra_subsetting                                            
⠋ |        2201 | spectra_subsetting                                            
⠹ |        2203 | spectra_subsetting                                            
⠼ |        2205 | spectra_subsetting                                            
⠦ |        2207 | spectra_subsetting                                            
⠇ |        2209 | spectra_subsetting                                            
⠋ |        2211 | spectra_subsetting                                            
⠹ |        2213 | spectra_subsetting                                            
⠼ |        2215 | spectra_subsetting                                            
⠧ |        2218 | spectra_subsetting                                            
⠏ |        2220 | spectra_subsetting                                            
⠹ |        2223 | spectra_subsetting                                            
⠼ |        2225 | spectra_subsetting                                            
⠧ |        2228 | spectra_subsetting                                            
⠏ |        2230 | spectra_subsetting                                            
⠹ |        2233 | spectra_subsetting                                            
⠼ |        2235 | spectra_subsetting                                            
⠦ |        2237 | spectra_subsetting                                            
⠇ |        2239 | spectra_subsetting                                            
⠙ |        2242 | spectra_subsetting                                            
⠸ |        2244 | spectra_subsetting                                            
⠴ |        2246 | spectra_subsetting                                            
⠧ |        2248 | spectra_subsetting                                            
⠋ |        2251 | spectra_subsetting                                            
⠹ |        2253 | spectra_subsetting                                            
⠼ |        2255 | spectra_subsetting                                            
⠦ |        2257 | spectra_subsetting                                            
⠇ |        2259 | spectra_subsetting                                            
⠋ |        2261 | spectra_subsetting                                            
⠹ |        2263 | spectra_subsetting                                            
⠼ |        2265 | spectra_subsetting                                            
⠦ |        2267 | spectra_subsetting                                            
⠇ |        2269 | spectra_subsetting                                            
⠋ |        2271 | spectra_subsetting                                            
⠹ |        2273 | spectra_subsetting                                            
⠼ |        2275 | spectra_subsetting                                            
⠧ |        2278 | spectra_subsetting                                            
⠏ |        2280 | spectra_subsetting                                            
⠙ |        2282 | spectra_subsetting                                            
⠼ |        2285 | spectra_subsetting                                            
⠧ |        2288 | spectra_subsetting                                            
⠋ |        2291 | spectra_subsetting                                            
⠹ |        2293 | spectra_subsetting                                            
⠼ |        2295 | spectra_subsetting                                            
⠦ |        2297 | spectra_subsetting                                            
⠇ |        2299 | spectra_subsetting                                            
⠹ |        2303 | spectra_subsetting                                            
⠏ |        2310 | spectra_subsetting                                            
⠦ |        2317 | spectra_subsetting                                            
⠙ |        2322 | spectra_subsetting                                            
⠇ |        2329 | spectra_subsetting                                            
⠸ |        2334 | spectra_subsetting                                            
✔ |        2342 | spectra_subsetting [49.3s]

⠏ |          0 | spectra_variables                                              
⠙ |         12 | spectra_variables                                              
⠸ |         14 | spectra_variables                                              
⠴ |         16 | spectra_variables                                              
⠦ |         27 | spectra_variables                                              
⠇ |         29 | spectra_variables                                              
⠋ |         31 | spectra_variables                                              
⠹ |         43 | spectra_variables                                              
⠸ |         54 | spectra_variables                                              
✔ |      1  62 | spectra_variables [17.6s]

══ Results ═════════════════════════════════════════════════════════════════════
Duration: 71.4 s

── Skipped tests (1) ───────────────────────────────────────────────────────────
• empty test (1): 'test_spectra_variables.R:262:1'

[ FAIL 0 | WARN 0 | SKIP 1 | PASS 2408 ]
> 
> proc.time()
   user  system elapsed 
 93.259  13.669 109.608 

Example timings

MsBackendRawFileReader.Rcheck/MsBackendRawFileReader-Ex.timings

nameusersystemelapsed
MsBackendRawFileReader-class3.5411.1655.072
MsBackendRawFileReader 7.557 3.17911.128
hidden_aliases2.5311.0793.681
ioBenchmark27.66712.08916.550