| Back to Build/check report for BioC 3.23: simplified long |
|
This page was generated on 2025-11-08 11:32 -0500 (Sat, 08 Nov 2025).
| Hostname | OS | Arch (*) | R version | Installed pkgs |
|---|---|---|---|---|
| nebbiolo1 | Linux (Ubuntu 24.04.3 LTS) | x86_64 | R Under development (unstable) (2025-10-20 r88955) -- "Unsuffered Consequences" | 4821 |
| Click on any hostname to see more info about the system (e.g. compilers) (*) as reported by 'uname -p', except on Windows and Mac OS X | ||||
| Package 1335/2323 | Hostname | OS / Arch | INSTALL | BUILD | CHECK | BUILD BIN | ||||||||
| MOSClip 1.5.0 (landing page) Paolo Martini
| nebbiolo1 | Linux (Ubuntu 24.04.3 LTS) / x86_64 | OK | OK | OK | |||||||||
|
To the developers/maintainers of the MOSClip package: - Allow up to 24 hours (and sometimes 48 hours) for your latest push to git@git.bioconductor.org:packages/MOSClip.git to reflect on this report. See Troubleshooting Build Report for more information. - Use the following Renviron settings to reproduce errors and warnings. - If 'R CMD check' started to fail recently on the Linux builder(s) over a missing dependency, add the missing dependency to 'Suggests:' in your DESCRIPTION file. See Renviron.bioc for more information. |
| Package: MOSClip |
| Version: 1.5.0 |
| Command: /home/biocbuild/bbs-3.23-bioc/R/bin/R CMD check --install=check:MOSClip.install-out.txt --library=/home/biocbuild/bbs-3.23-bioc/R/site-library --timings MOSClip_1.5.0.tar.gz |
| StartedAt: 2025-11-08 01:36:56 -0500 (Sat, 08 Nov 2025) |
| EndedAt: 2025-11-08 01:45:22 -0500 (Sat, 08 Nov 2025) |
| EllapsedTime: 505.7 seconds |
| RetCode: 0 |
| Status: OK |
| CheckDir: MOSClip.Rcheck |
| Warnings: 0 |
##############################################################################
##############################################################################
###
### Running command:
###
### /home/biocbuild/bbs-3.23-bioc/R/bin/R CMD check --install=check:MOSClip.install-out.txt --library=/home/biocbuild/bbs-3.23-bioc/R/site-library --timings MOSClip_1.5.0.tar.gz
###
##############################################################################
##############################################################################
* using log directory ‘/home/biocbuild/bbs-3.23-bioc/meat/MOSClip.Rcheck’
* using R Under development (unstable) (2025-10-20 r88955)
* using platform: x86_64-pc-linux-gnu
* R was compiled by
gcc (Ubuntu 13.3.0-6ubuntu2~24.04) 13.3.0
GNU Fortran (Ubuntu 13.3.0-6ubuntu2~24.04) 13.3.0
* running under: Ubuntu 24.04.3 LTS
* using session charset: UTF-8
* checking for file ‘MOSClip/DESCRIPTION’ ... OK
* this is package ‘MOSClip’ version ‘1.5.0’
* package encoding: UTF-8
* checking package namespace information ... OK
* checking package dependencies ... INFO
Imports includes 27 non-default packages.
Importing from so many packages makes the package vulnerable to any of
them becoming unavailable. Move as many as possible to Suggests and
use conditionally.
* checking if this is a source package ... OK
* checking if there is a namespace ... OK
* checking for hidden files and directories ... OK
* checking for portable file names ... OK
* checking for sufficient/correct file permissions ... OK
* checking whether package ‘MOSClip’ can be installed ... OK
* checking installed package size ... OK
* checking package directory ... OK
* checking ‘build’ directory ... OK
* checking DESCRIPTION meta-information ... OK
* checking top-level files ... OK
* checking for left-over files ... OK
* checking index information ... OK
* checking package subdirectories ... OK
* checking code files for non-ASCII characters ... OK
* checking R files for syntax errors ... OK
* checking whether the package can be loaded ... OK
* checking whether the package can be loaded with stated dependencies ... OK
* checking whether the package can be unloaded cleanly ... OK
* checking whether the namespace can be loaded with stated dependencies ... OK
* checking whether the namespace can be unloaded cleanly ... OK
* checking loading without being on the library search path ... OK
* checking dependencies in R code ... OK
* checking S3 generic/method consistency ... OK
* checking replacement functions ... OK
* checking foreign function calls ... OK
* checking R code for possible problems ... OK
* checking Rd files ... OK
* checking Rd metadata ... OK
* checking Rd cross-references ... NOTE
Found the following Rd file(s) with Rd \link{} targets missing package
anchors:
makeOmics.Rd: ExperimentList, DataFrame-class
Please provide package anchors for all Rd \link{} targets not in the
package itself and the base packages.
* checking for missing documentation entries ... OK
* checking for code/documentation mismatches ... OK
* checking Rd \usage sections ... OK
* checking Rd contents ... OK
* checking for unstated dependencies in examples ... OK
* checking contents of ‘data’ directory ... OK
* checking data for non-ASCII characters ... OK
* checking data for ASCII and uncompressed saves ... OK
* checking files in ‘vignettes’ ... OK
* checking examples ... OK
Examples with CPU (user + system) or elapsed time > 5s
user system elapsed
evaluateResampling 6.125 0.357 6.483
annotePathwayToFather 5.494 0.126 5.621
* checking for unstated dependencies in ‘tests’ ... OK
* checking tests ...
Running ‘testthat.R’
OK
* checking for unstated dependencies in vignettes ... OK
* checking package vignettes ... OK
* checking re-building of vignette outputs ... OK
* checking PDF version of manual ... OK
* DONE
Status: 1 NOTE
See
‘/home/biocbuild/bbs-3.23-bioc/meat/MOSClip.Rcheck/00check.log’
for details.
MOSClip.Rcheck/00install.out
############################################################################## ############################################################################## ### ### Running command: ### ### /home/biocbuild/bbs-3.23-bioc/R/bin/R CMD INSTALL MOSClip ### ############################################################################## ############################################################################## * installing to library ‘/home/biocbuild/bbs-3.23-bioc/R/site-library’ * installing *source* package ‘MOSClip’ ... ** this is package ‘MOSClip’ version ‘1.5.0’ ** using staged installation ** R ** data ** inst ** byte-compile and prepare package for lazy loading ** help *** installing help indices *** copying figures ** building package indices ** installing vignettes ** testing if installed package can be loaded from temporary location ** testing if installed package can be loaded from final location ** testing if installed package keeps a record of temporary installation path * DONE (MOSClip)
MOSClip.Rcheck/tests/testthat.Rout
R Under development (unstable) (2025-10-20 r88955) -- "Unsuffered Consequences"
Copyright (C) 2025 The R Foundation for Statistical Computing
Platform: x86_64-pc-linux-gnu
R is free software and comes with ABSOLUTELY NO WARRANTY.
You are welcome to redistribute it under certain conditions.
Type 'license()' or 'licence()' for distribution details.
R is a collaborative project with many contributors.
Type 'contributors()' for more information and
'citation()' on how to cite R or R packages in publications.
Type 'demo()' for some demos, 'help()' for on-line help, or
'help.start()' for an HTML browser interface to help.
Type 'q()' to quit R.
> library(testthat)
> library(MOSClip)
>
> test_check("MOSClip")
[ FAIL 0 | WARN 2 | SKIP 0 | PASS 198 ]
[ FAIL 0 | WARN 2 | SKIP 0 | PASS 198 ]
>
> proc.time()
user system elapsed
75.151 2.080 77.222
MOSClip.Rcheck/MOSClip-Ex.timings
| name | user | system | elapsed | |
| annotePathwayToFather | 5.494 | 0.126 | 5.621 | |
| availableOmicMethods | 0.000 | 0.000 | 0.001 | |
| computeFreqs | 0.002 | 0.000 | 0.003 | |
| computeOmicsIntersections | 0.003 | 0.001 | 0.004 | |
| downloadPathwayRelationFromReactome | 0.051 | 0.039 | 0.089 | |
| evaluateResampling | 6.125 | 0.357 | 6.483 | |
| makeOmics | 0.197 | 0.002 | 0.199 | |
| minOrNA | 0 | 0 | 0 | |
| multiOmicsSurvivalModuleTest | 1.553 | 0.071 | 1.625 | |
| multiOmicsSurvivalPathwayTest | 0.358 | 0.037 | 0.394 | |
| multiOmicsTwoClassModuleTest | 1.548 | 0.045 | 1.593 | |
| multiOmicsTwoClassPathwayTest | 0.304 | 0.010 | 0.313 | |
| multiPathwayModuleReport | 3.585 | 0.177 | 3.762 | |
| multiPathwayReport | 0.594 | 0.033 | 0.627 | |
| plotFrequencies | 0.453 | 0.025 | 0.478 | |
| plotModuleHeat | 4.287 | 0.128 | 4.417 | |
| plotModuleInGraph | 2.019 | 0.042 | 2.061 | |
| plotModuleKM | 3.296 | 0.148 | 3.444 | |
| plotModuleReport | 4.707 | 0.056 | 4.763 | |
| plotMultiPathwayReport | 1.294 | 0.041 | 1.335 | |
| plotPathwayHeat | 1.854 | 0.117 | 1.972 | |
| plotPathwayKM | 1.559 | 0.023 | 1.582 | |
| resampling-Survival | 4.463 | 0.022 | 4.484 | |
| resampling-TwoClass | 4.382 | 0.064 | 4.456 | |
| runSupertest | 0.102 | 0.003 | 0.105 | |
| showMOSpalette | 0.011 | 0.002 | 0.013 | |
| showModule | 1.482 | 0.043 | 1.525 | |
| showOmics | 0.045 | 0.002 | 0.047 | |
| showPathway | 0.315 | 0.046 | 0.361 | |
| stripModulesFromPathways | 0 | 0 | 0 | |
| summarizeOmicsResByMinPvalue | 0.001 | 0.000 | 0.000 | |