| Back to Build/check report for BioC 3.23: simplified long |
|
This page was generated on 2025-11-13 11:32 -0500 (Thu, 13 Nov 2025).
| Hostname | OS | Arch (*) | R version | Installed pkgs |
|---|---|---|---|---|
| kjohnson3 | macOS 13.7.7 Ventura | arm64 | R Under development (unstable) (2025-11-04 r88984) -- "Unsuffered Consequences" | 4013 |
| Click on any hostname to see more info about the system (e.g. compilers) (*) as reported by 'uname -p', except on Windows and Mac OS X | ||||
| Package 1156/2325 | Hostname | OS / Arch | INSTALL | BUILD | CHECK | BUILD BIN | ||||||||
| MACSr 1.19.0 (landing page) Qiang Hu
| kjohnson3 | macOS 13.7.7 Ventura / arm64 | OK | OK | OK | OK | ||||||||
|
To the developers/maintainers of the MACSr package: - Allow up to 24 hours (and sometimes 48 hours) for your latest push to git@git.bioconductor.org:packages/MACSr.git to reflect on this report. See Troubleshooting Build Report for more information. - Use the following Renviron settings to reproduce errors and warnings. - If 'R CMD check' started to fail recently on the Linux builder(s) over a missing dependency, add the missing dependency to 'Suggests:' in your DESCRIPTION file. See Renviron.bioc for more information. |
| Package: MACSr |
| Version: 1.19.0 |
| Command: rm -rf MACSr.buildbin-libdir && mkdir MACSr.buildbin-libdir && /Users/biocbuild/BBS/utils/build-universal.sh MACSr_1.19.0.tar.gz /Library/Frameworks/R.framework/Resources/bin/R MACSr.buildbin-libdir |
| StartedAt: 2025-11-12 21:01:38 -0500 (Wed, 12 Nov 2025) |
| EndedAt: 2025-11-12 21:01:48 -0500 (Wed, 12 Nov 2025) |
| EllapsedTime: 10.2 seconds |
| RetCode: 0 |
| Status: OK |
| PackageFile: MACSr_1.19.0.tgz |
| PackageFileSize: 5.329 MiB |
############################################################################## ############################################################################## ### ### Running command: ### ### rm -rf MACSr.buildbin-libdir && mkdir MACSr.buildbin-libdir && /Users/biocbuild/BBS/utils/build-universal.sh MACSr_1.19.0.tar.gz /Library/Frameworks/R.framework/Resources/bin/R MACSr.buildbin-libdir ### ############################################################################## ############################################################################## >>>>>>> >>>>>>> INSTALLATION WITH 'R CMD INSTALL --preclean --no-multiarch --library=MACSr.buildbin-libdir MACSr_1.19.0.tar.gz' >>>>>>> * installing *source* package ‘MACSr’ ... ** this is package ‘MACSr’ version ‘1.19.0’ ** using non-staged installation via StagedInstall field ** R ** inst ** byte-compile and prepare package for lazy loading ** help *** installing help indices ** building package indices ** installing vignettes ** testing if installed package can be loaded * DONE (MACSr)