Back to Build/check report for BioC 3.23:   simplified   long
ABCDEFGHIJK[L]MNOPQRSTUVWXYZ

This page was generated on 2025-11-13 11:32 -0500 (Thu, 13 Nov 2025).

HostnameOSArch (*)R versionInstalled pkgs
kjohnson3macOS 13.7.7 Venturaarm64R Under development (unstable) (2025-11-04 r88984) -- "Unsuffered Consequences" 4013
Click on any hostname to see more info about the system (e.g. compilers)      (*) as reported by 'uname -p', except on Windows and Mac OS X

Package 1126/2325HostnameOS / ArchINSTALLBUILDCHECKBUILD BIN
LinkHD 1.25.0  (landing page)
"Laura M Zingaretti"
Snapshot Date: 2025-11-12 13:40 -0500 (Wed, 12 Nov 2025)
git_url: https://git.bioconductor.org/packages/LinkHD
git_branch: devel
git_last_commit: ceb49e3
git_last_commit_date: 2025-10-29 10:55:08 -0500 (Wed, 29 Oct 2025)
kjohnson3macOS 13.7.7 Ventura / arm64  OK    OK    OK    OK  YES


CHECK results for LinkHD on kjohnson3

To the developers/maintainers of the LinkHD package:
- Allow up to 24 hours (and sometimes 48 hours) for your latest push to git@git.bioconductor.org:packages/LinkHD.git to reflect on this report. See Troubleshooting Build Report for more information.
- Use the following Renviron settings to reproduce errors and warnings.
- If 'R CMD check' started to fail recently on the Linux builder(s) over a missing dependency, add the missing dependency to 'Suggests:' in your DESCRIPTION file. See Renviron.bioc for more information.

raw results


Summary

Package: LinkHD
Version: 1.25.0
Command: /Library/Frameworks/R.framework/Resources/bin/R CMD check --install=check:LinkHD.install-out.txt --library=/Library/Frameworks/R.framework/Resources/library --no-vignettes --timings LinkHD_1.25.0.tar.gz
StartedAt: 2025-11-12 19:17:19 -0500 (Wed, 12 Nov 2025)
EndedAt: 2025-11-12 19:18:48 -0500 (Wed, 12 Nov 2025)
EllapsedTime: 89.3 seconds
RetCode: 0
Status:   OK  
CheckDir: LinkHD.Rcheck
Warnings: 0

Command output

##############################################################################
##############################################################################
###
### Running command:
###
###   /Library/Frameworks/R.framework/Resources/bin/R CMD check --install=check:LinkHD.install-out.txt --library=/Library/Frameworks/R.framework/Resources/library --no-vignettes --timings LinkHD_1.25.0.tar.gz
###
##############################################################################
##############################################################################


* using log directory ‘/Users/biocbuild/bbs-3.23-bioc/meat/LinkHD.Rcheck’
* using R Under development (unstable) (2025-11-04 r88984)
* using platform: aarch64-apple-darwin20
* R was compiled by
    Apple clang version 16.0.0 (clang-1600.0.26.6)
    GNU Fortran (GCC) 14.2.0
* running under: macOS Ventura 13.7.8
* using session charset: UTF-8
* using option ‘--no-vignettes’
* checking for file ‘LinkHD/DESCRIPTION’ ... OK
* checking extension type ... Package
* this is package ‘LinkHD’ version ‘1.25.0’
* package encoding: UTF-8
* checking package namespace information ... OK
* checking package dependencies ... OK
* checking if this is a source package ... OK
* checking if there is a namespace ... OK
* checking for hidden files and directories ... OK
* checking for portable file names ... OK
* checking for sufficient/correct file permissions ... OK
* checking whether package ‘LinkHD’ can be installed ... OK
* checking installed package size ... OK
* checking package directory ... OK
* checking ‘build’ directory ... OK
* checking DESCRIPTION meta-information ... OK
* checking top-level files ... OK
* checking for left-over files ... OK
* checking index information ... OK
* checking package subdirectories ... OK
* checking code files for non-ASCII characters ... OK
* checking R files for syntax errors ... OK
* checking whether the package can be loaded ... OK
* checking whether the package can be loaded with stated dependencies ... OK
* checking whether the package can be unloaded cleanly ... OK
* checking whether the namespace can be loaded with stated dependencies ... OK
* checking whether the namespace can be unloaded cleanly ... OK
* checking dependencies in R code ... OK
* checking S3 generic/method consistency ... OK
* checking replacement functions ... OK
* checking foreign function calls ... OK
* checking R code for possible problems ... OK
* checking Rd files ... NOTE
checkRd: (-1) VarSelection.Rd:40: Lost braces; missing escapes or markup?
    40 | a general linear regression into the $X$ matrix (${Y_hat}=X(X'X)^(-1)X'Y$) and the matrix $X(X'X)^(-1)X'$ is the projection matrix
       |                                                   ^
* checking Rd metadata ... OK
* checking Rd cross-references ... OK
* checking for missing documentation entries ... OK
* checking for code/documentation mismatches ... OK
* checking Rd \usage sections ... OK
* checking Rd contents ... OK
* checking for unstated dependencies in examples ... OK
* checking contents of ‘data’ directory ... OK
* checking data for non-ASCII characters ... OK
* checking LazyData ... OK
* checking data for ASCII and uncompressed saves ... OK
* checking files in ‘vignettes’ ... OK
* checking examples ... OK
* checking for unstated dependencies in vignettes ... OK
* checking package vignettes ... OK
* checking running R code from vignettes ... SKIPPED
* checking re-building of vignette outputs ... SKIPPED
* checking PDF version of manual ... OK
* DONE

Status: 1 NOTE
See
  ‘/Users/biocbuild/bbs-3.23-bioc/meat/LinkHD.Rcheck/00check.log’
for details.


Installation output

LinkHD.Rcheck/00install.out

##############################################################################
##############################################################################
###
### Running command:
###
###   /Library/Frameworks/R.framework/Resources/bin/R CMD INSTALL LinkHD
###
##############################################################################
##############################################################################


* installing to library ‘/Library/Frameworks/R.framework/Versions/4.6-arm64/Resources/library’
* installing *source* package ‘LinkHD’ ...
** this is package ‘LinkHD’ version ‘1.25.0’
** using staged installation
** R
** data
*** moving datasets to lazyload DB
** byte-compile and prepare package for lazy loading
** help
*** installing help indices
** building package indices
** installing vignettes
** testing if installed package can be loaded from temporary location
** testing if installed package can be loaded from final location
** testing if installed package keeps a record of temporary installation path
* DONE (LinkHD)

Tests output


Example timings

LinkHD.Rcheck/LinkHD-Ex.timings

nameusersystemelapsed
Compromise_matrix-methods0.4600.0500.528
DataProcessing0.0030.0010.004
DistStatis-Class0.0000.0000.001
DistStatis-CompromisePlot0.2060.0110.219
DistStatis-CorrelationPlot0.3070.0150.354
DistStatis-GlobalPlot0.2880.0080.313
Euclid_Im-methods0.1160.0050.122
Inertia_RV-methods0.1110.0040.117
Inertia_comp-methods0.1100.0060.119
LinkData-LinkData0.1160.0080.128
OTU2Taxa-OTU2Taxa0.8120.0090.892
RQO-methods0.4310.0050.452
Read_Data000
Ruminotypes0.0010.0000.001
Taraoceans0.0000.0010.000
Trajectories-methods0.2350.1250.372
VarSelection-Class000
VarSelection0.5050.0190.553
VarTable-methods0.5090.0100.534
Var_coordinates-methods0.5150.0190.583
Variables-methods0.4990.0130.524
compromise_coords-methods0.1160.0080.125
correl-methods0.1120.0100.123
dAB-dAB0.2290.0090.238
sign_values-methods0.5060.0100.544