| Back to Build/check report for BioC 3.23: simplified long |
|
This page was generated on 2025-11-13 11:32 -0500 (Thu, 13 Nov 2025).
| Hostname | OS | Arch (*) | R version | Installed pkgs |
|---|---|---|---|---|
| kjohnson3 | macOS 13.7.7 Ventura | arm64 | R Under development (unstable) (2025-11-04 r88984) -- "Unsuffered Consequences" | 4013 |
| Click on any hostname to see more info about the system (e.g. compilers) (*) as reported by 'uname -p', except on Windows and Mac OS X | ||||
| Package 821/2325 | Hostname | OS / Arch | INSTALL | BUILD | CHECK | BUILD BIN | ||||||||
| GeneStructureTools 1.31.0 (landing page) Beth Signal
| kjohnson3 | macOS 13.7.7 Ventura / arm64 | OK | OK | OK | OK | ||||||||
|
To the developers/maintainers of the GeneStructureTools package: - Allow up to 24 hours (and sometimes 48 hours) for your latest push to git@git.bioconductor.org:packages/GeneStructureTools.git to reflect on this report. See Troubleshooting Build Report for more information. - Use the following Renviron settings to reproduce errors and warnings. - If 'R CMD check' started to fail recently on the Linux builder(s) over a missing dependency, add the missing dependency to 'Suggests:' in your DESCRIPTION file. See Renviron.bioc for more information. |
| Package: GeneStructureTools |
| Version: 1.31.0 |
| Command: /Library/Frameworks/R.framework/Resources/bin/R CMD check --install=check:GeneStructureTools.install-out.txt --library=/Library/Frameworks/R.framework/Resources/library --no-vignettes --timings GeneStructureTools_1.31.0.tar.gz |
| StartedAt: 2025-11-12 18:53:49 -0500 (Wed, 12 Nov 2025) |
| EndedAt: 2025-11-12 18:56:37 -0500 (Wed, 12 Nov 2025) |
| EllapsedTime: 168.0 seconds |
| RetCode: 0 |
| Status: OK |
| CheckDir: GeneStructureTools.Rcheck |
| Warnings: 0 |
##############################################################################
##############################################################################
###
### Running command:
###
### /Library/Frameworks/R.framework/Resources/bin/R CMD check --install=check:GeneStructureTools.install-out.txt --library=/Library/Frameworks/R.framework/Resources/library --no-vignettes --timings GeneStructureTools_1.31.0.tar.gz
###
##############################################################################
##############################################################################
* using log directory ‘/Users/biocbuild/bbs-3.23-bioc/meat/GeneStructureTools.Rcheck’
* using R Under development (unstable) (2025-11-04 r88984)
* using platform: aarch64-apple-darwin20
* R was compiled by
Apple clang version 16.0.0 (clang-1600.0.26.6)
GNU Fortran (GCC) 14.2.0
* running under: macOS Ventura 13.7.8
* using session charset: UTF-8
* using option ‘--no-vignettes’
* checking for file ‘GeneStructureTools/DESCRIPTION’ ... OK
* checking extension type ... Package
* this is package ‘GeneStructureTools’ version ‘1.31.0’
* package encoding: UTF-8
* checking package namespace information ... OK
* checking package dependencies ... OK
* checking if this is a source package ... OK
* checking if there is a namespace ... OK
* checking for hidden files and directories ... OK
* checking for portable file names ... OK
* checking for sufficient/correct file permissions ... OK
* checking whether package ‘GeneStructureTools’ can be installed ... OK
* checking installed package size ... OK
* checking package directory ... OK
* checking ‘build’ directory ... OK
* checking DESCRIPTION meta-information ... OK
* checking top-level files ... OK
* checking for left-over files ... OK
* checking index information ... OK
* checking package subdirectories ... OK
* checking code files for non-ASCII characters ... OK
* checking R files for syntax errors ... OK
* checking whether the package can be loaded ... OK
* checking whether the package can be loaded with stated dependencies ... OK
* checking whether the package can be unloaded cleanly ... OK
* checking whether the namespace can be loaded with stated dependencies ... OK
* checking whether the namespace can be unloaded cleanly ... OK
* checking dependencies in R code ... OK
* checking S3 generic/method consistency ... OK
* checking replacement functions ... OK
* checking foreign function calls ... OK
* checking R code for possible problems ... OK
* checking Rd files ... OK
* checking Rd metadata ... OK
* checking Rd cross-references ... OK
* checking for missing documentation entries ... OK
* checking for code/documentation mismatches ... OK
* checking Rd \usage sections ... OK
* checking Rd contents ... OK
* checking for unstated dependencies in examples ... OK
* checking files in ‘vignettes’ ... OK
* checking examples ... OK
Examples with CPU (user + system) or elapsed time > 5s
user system elapsed
leafcutterTranscriptChangeSummary 7.06 0.235 7.515
* checking for unstated dependencies in vignettes ... OK
* checking package vignettes ... OK
* checking running R code from vignettes ... SKIPPED
* checking re-building of vignette outputs ... SKIPPED
* checking PDF version of manual ... OK
* DONE
Status: OK
GeneStructureTools.Rcheck/00install.out
############################################################################## ############################################################################## ### ### Running command: ### ### /Library/Frameworks/R.framework/Resources/bin/R CMD INSTALL GeneStructureTools ### ############################################################################## ############################################################################## * installing to library ‘/Library/Frameworks/R.framework/Versions/4.6-arm64/Resources/library’ * installing *source* package ‘GeneStructureTools’ ... ** this is package ‘GeneStructureTools’ version ‘1.31.0’ ** using staged installation ** R ** inst ** byte-compile and prepare package for lazy loading ** help *** installing help indices ** building package indices ** installing vignettes ** testing if installed package can be loaded from temporary location ** testing if installed package can be loaded from final location ** testing if installed package keeps a record of temporary installation path * DONE (GeneStructureTools)
GeneStructureTools.Rcheck/GeneStructureTools-Ex.timings
| name | user | system | elapsed | |
| DEXSeqIdsToGeneIds | 0.001 | 0.000 | 0.002 | |
| UTR2UTR53 | 0.804 | 0.038 | 0.895 | |
| addBroadTypes | 0.079 | 0.003 | 0.082 | |
| addIntronInTranscript | 1.114 | 0.077 | 1.279 | |
| alternativeIntronUsage | 1.297 | 0.012 | 1.371 | |
| annotateGeneModel | 0.278 | 0.005 | 0.293 | |
| attrChangeAltSpliced | 0.407 | 0.043 | 0.477 | |
| coordinates-methods | 0.029 | 0.036 | 0.085 | |
| diffSplicingResults-methods | 0.031 | 0.043 | 0.093 | |
| exonsToTranscripts | 0.101 | 0.003 | 0.112 | |
| filterGtfOverlap | 0.095 | 0.004 | 0.106 | |
| filterWhippetEvents | 0.033 | 0.048 | 0.095 | |
| findDEXexonType | 0.770 | 0.006 | 0.795 | |
| findExonContainingTranscripts | 0.163 | 0.048 | 0.237 | |
| findIntronContainingTranscripts | 0.242 | 0.047 | 0.312 | |
| findJunctionPairs | 0.425 | 0.034 | 0.472 | |
| formatWhippetEvents | 0.006 | 0.006 | 0.016 | |
| getOrfs | 0.237 | 0.007 | 0.252 | |
| getUOrfs | 0.195 | 0.006 | 0.205 | |
| junctions-methods | 0.029 | 0.041 | 0.097 | |
| leafcutterTranscriptChangeSummary | 7.060 | 0.235 | 7.515 | |
| makeGeneModel | 0.087 | 0.003 | 0.091 | |
| maxLocation | 0.001 | 0.000 | 0.001 | |
| orfDiff | 1.062 | 0.052 | 1.149 | |
| orfSimilarity | 0 | 0 | 0 | |
| overlapTypes | 0.695 | 0.016 | 0.737 | |
| readCounts-methods | 0.027 | 0.038 | 0.095 | |
| readWhippetDIFFfiles | 0.003 | 0.006 | 0.011 | |
| readWhippetDataSet | 0.034 | 0.038 | 0.093 | |
| readWhippetJNCfiles | 0.014 | 0.018 | 0.039 | |
| readWhippetPSIfiles | 0.009 | 0.017 | 0.034 | |
| removeDuplicateTranscripts | 0.104 | 0.003 | 0.110 | |
| removeSameExon | 0.089 | 0.003 | 0.094 | |
| removeVersion | 0.000 | 0.000 | 0.001 | |
| reorderExonNumbers | 0.072 | 0.003 | 0.082 | |
| replaceJunction | 1.204 | 0.044 | 1.328 | |
| skipExonInTranscript | 0.454 | 0.063 | 0.575 | |
| summariseExonTypes | 0.762 | 0.006 | 0.813 | |
| transcriptChangeSummary | 0.500 | 0.044 | 0.601 | |
| whippetTranscriptChangeSummary | 3.811 | 0.088 | 4.026 | |