| Back to Build/check report for BioC 3.23: simplified long |
|
This page was generated on 2025-10-23 11:30 -0400 (Thu, 23 Oct 2025).
| Hostname | OS | Arch (*) | R version | Installed pkgs |
|---|---|---|---|---|
| nebbiolo1 | Linux (Ubuntu 24.04.3 LTS) | x86_64 | R Under development (unstable) (2025-10-20 r88955) -- "Unsuffered Consequences" | 3809 |
| Click on any hostname to see more info about the system (e.g. compilers) (*) as reported by 'uname -p', except on Windows and Mac OS X | ||||
| Package 563/2355 | Hostname | OS / Arch | INSTALL | BUILD | CHECK | BUILD BIN | ||||||||
Arne Smits
| nebbiolo1 | Linux (Ubuntu 24.04.3 LTS) / x86_64 | OK | OK | OK | |||||||||
|
To the developers/maintainers of the DEP package: - Allow up to 24 hours (and sometimes 48 hours) for your latest push to git@git.bioconductor.org:packages/DEP.git to reflect on this report. See Troubleshooting Build Report for more information. - Use the following Renviron settings to reproduce errors and warnings. - If 'R CMD check' started to fail recently on the Linux builder(s) over a missing dependency, add the missing dependency to 'Suggests:' in your DESCRIPTION file. See Renviron.bioc for more information. |
| Package: DEP |
| Version: 1.31.2 |
| Command: /home/biocbuild/bbs-3.23-bioc/R/bin/R CMD check --install=check:DEP.install-out.txt --library=/home/biocbuild/bbs-3.23-bioc/R/site-library --timings DEP_1.31.2.tar.gz |
| StartedAt: 2025-10-23 01:59:54 -0000 (Thu, 23 Oct 2025) |
| EndedAt: 2025-10-23 02:08:23 -0000 (Thu, 23 Oct 2025) |
| EllapsedTime: 508.8 seconds |
| RetCode: 0 |
| Status: OK |
| CheckDir: DEP.Rcheck |
| Warnings: 0 |
##############################################################################
##############################################################################
###
### Running command:
###
### /home/biocbuild/bbs-3.23-bioc/R/bin/R CMD check --install=check:DEP.install-out.txt --library=/home/biocbuild/bbs-3.23-bioc/R/site-library --timings DEP_1.31.2.tar.gz
###
##############################################################################
##############################################################################
* using log directory ‘/home/biocbuild/bbs-3.23-bioc/meat/DEP.Rcheck’
* using R Under development (unstable) (2025-10-20 r88955)
* using platform: x86_64-pc-linux-gnu
* R was compiled by
gcc (Ubuntu 13.3.0-6ubuntu2~24.04) 13.3.0
GNU Fortran (Ubuntu 13.3.0-6ubuntu2~24.04) 13.3.0
* running under: Ubuntu 24.04.3 LTS
* using session charset: UTF-8
* checking for file ‘DEP/DESCRIPTION’ ... OK
* this is package ‘DEP’ version ‘1.31.2’
* package encoding: UTF-8
* checking package namespace information ... OK
* checking package dependencies ... INFO
Imports includes 23 non-default packages.
Importing from so many packages makes the package vulnerable to any of
them becoming unavailable. Move as many as possible to Suggests and
use conditionally.
* checking if this is a source package ... OK
* checking if there is a namespace ... OK
* checking for hidden files and directories ... OK
* checking for portable file names ... OK
* checking for sufficient/correct file permissions ... OK
* checking whether package ‘DEP’ can be installed ... OK
* checking installed package size ... OK
* checking package directory ... OK
* checking ‘build’ directory ... OK
* checking DESCRIPTION meta-information ... OK
* checking top-level files ... OK
* checking for left-over files ... OK
* checking index information ... OK
* checking package subdirectories ... OK
* checking code files for non-ASCII characters ... OK
* checking R files for syntax errors ... OK
* checking whether the package can be loaded ... OK
* checking whether the package can be loaded with stated dependencies ... OK
* checking whether the package can be unloaded cleanly ... OK
* checking whether the namespace can be loaded with stated dependencies ... OK
* checking whether the namespace can be unloaded cleanly ... OK
* checking loading without being on the library search path ... OK
* checking whether startup messages can be suppressed ... OK
* checking dependencies in R code ... OK
* checking S3 generic/method consistency ... OK
* checking replacement functions ... OK
* checking foreign function calls ... OK
* checking R code for possible problems ... OK
* checking Rd files ... OK
* checking Rd metadata ... OK
* checking Rd cross-references ... NOTE
Non-topic package-anchored link(s) in Rd file 'LFQ.Rd':
‘[MSnbase:impute]{impute}’
Non-topic package-anchored link(s) in Rd file 'TMT.Rd':
‘[MSnbase:impute]{impute}’
Non-topic package-anchored link(s) in Rd file 'impute.Rd':
‘[MSnbase:impute]{impute}’
Non-topic package-anchored link(s) in Rd file 'process.Rd':
‘[MSnbase:impute]{impute}’
See section 'Cross-references' in the 'Writing R Extensions' manual.
* checking for missing documentation entries ... OK
* checking for code/documentation mismatches ... OK
* checking Rd \usage sections ... OK
* checking Rd contents ... OK
* checking for unstated dependencies in examples ... OK
* checking contents of ‘data’ directory ... OK
* checking data for non-ASCII characters ... OK
* checking LazyData ... OK
* checking data for ASCII and uncompressed saves ... OK
* checking R/sysdata.rda ... OK
* checking files in ‘vignettes’ ... OK
* checking examples ... OK
Examples with CPU (user + system) or elapsed time > 5s
user system elapsed
impute 53.249 0.573 53.826
* checking for unstated dependencies in ‘tests’ ... OK
* checking tests ...
Running ‘testthat.R’
OK
* checking for unstated dependencies in vignettes ... OK
* checking package vignettes ... OK
* checking re-building of vignette outputs ... OK
* checking PDF version of manual ... OK
* DONE
Status: 1 NOTE
See
‘/home/biocbuild/bbs-3.23-bioc/meat/DEP.Rcheck/00check.log’
for details.
DEP.Rcheck/00install.out
############################################################################## ############################################################################## ### ### Running command: ### ### /home/biocbuild/bbs-3.23-bioc/R/bin/R CMD INSTALL DEP ### ############################################################################## ############################################################################## * installing to library ‘/home/biocbuild/bbs-3.23-bioc/R/site-library’ * installing *source* package ‘DEP’ ... ** this is package ‘DEP’ version ‘1.31.2’ ** using staged installation ** R ** data *** moving datasets to lazyload DB ** inst ** byte-compile and prepare package for lazy loading ** help *** installing help indices ** building package indices ** installing vignettes ** testing if installed package can be loaded from temporary location Warning in fun(libname, pkgname) : Package 'DEP' is deprecated and will be removed from Bioconductor version 3.23 ** testing if installed package can be loaded from final location Warning in fun(libname, pkgname) : Package 'DEP' is deprecated and will be removed from Bioconductor version 3.23 ** testing if installed package keeps a record of temporary installation path * DONE (DEP)
DEP.Rcheck/tests/testthat.Rout
R Under development (unstable) (2025-10-20 r88955) -- "Unsuffered Consequences"
Copyright (C) 2025 The R Foundation for Statistical Computing
Platform: x86_64-pc-linux-gnu
R is free software and comes with ABSOLUTELY NO WARRANTY.
You are welcome to redistribute it under certain conditions.
Type 'license()' or 'licence()' for distribution details.
R is a collaborative project with many contributors.
Type 'contributors()' for more information and
'citation()' on how to cite R or R packages in publications.
Type 'demo()' for some demos, 'help()' for on-line help, or
'help.start()' for an HTML browser interface to help.
Type 'q()' to quit R.
> library(testthat)
> library(DEP)
Warning message:
In fun(libname, pkgname) :
Package 'DEP' is deprecated and will be removed from Bioconductor
version 3.23
>
> test_check("DEP")
[ FAIL 0 | WARN 16 | SKIP 0 | PASS 333 ]
[ FAIL 0 | WARN 16 | SKIP 0 | PASS 333 ]
>
> proc.time()
user system elapsed
54.134 2.125 56.276
DEP.Rcheck/DEP-Ex.timings
| name | user | system | elapsed | |
| LFQ | 1.259 | 0.010 | 1.269 | |
| TMT | 0 | 0 | 0 | |
| add_rejections | 1.528 | 0.069 | 1.597 | |
| analyze_dep | 1.974 | 0.090 | 2.065 | |
| filter_missval | 0.398 | 0.006 | 0.406 | |
| filter_proteins | 0.249 | 0.000 | 0.249 | |
| get_df_long | 0.671 | 0.004 | 0.674 | |
| get_df_wide | 0.665 | 0.016 | 0.682 | |
| get_prefix | 0.001 | 0.001 | 0.002 | |
| get_results | 0.870 | 0.029 | 0.898 | |
| get_suffix | 0.001 | 0.000 | 0.001 | |
| import_IsobarQuant | 0 | 0 | 0 | |
| import_MaxQuant | 0.044 | 0.000 | 0.044 | |
| impute | 53.249 | 0.573 | 53.826 | |
| make_se | 0.038 | 0.000 | 0.037 | |
| make_se_parse | 0.054 | 0.002 | 0.055 | |
| make_unique | 0.016 | 0.000 | 0.017 | |
| manual_impute | 0.595 | 0.044 | 0.639 | |
| meanSdPlot | 0.616 | 0.033 | 0.649 | |
| normalize_vsn | 0.298 | 0.000 | 0.298 | |
| plot_all | 1.736 | 0.016 | 1.751 | |
| plot_cond | 1.047 | 0.002 | 1.050 | |
| plot_cond_freq | 0.874 | 0.002 | 0.876 | |
| plot_cond_overlap | 0.892 | 0.001 | 0.893 | |
| plot_cor | 1.104 | 0.004 | 1.109 | |
| plot_coverage | 0.53 | 0.00 | 0.53 | |
| plot_detect | 0.897 | 0.001 | 0.899 | |
| plot_dist | 3.314 | 0.013 | 3.328 | |
| plot_frequency | 0.446 | 0.003 | 0.449 | |
| plot_gsea | 0.656 | 0.009 | 0.664 | |
| plot_heatmap | 3.148 | 0.043 | 3.190 | |
| plot_imputation | 1.012 | 0.023 | 1.035 | |
| plot_missval | 1.295 | 0.022 | 1.317 | |
| plot_normalization | 1.362 | 0.019 | 1.381 | |
| plot_numbers | 0.528 | 0.002 | 0.530 | |
| plot_p_hist | 1.323 | 0.019 | 1.342 | |
| plot_pca | 1.331 | 0.035 | 1.366 | |
| plot_single | 1.821 | 0.003 | 1.825 | |
| plot_volcano | 4.340 | 0.057 | 4.397 | |
| process | 1.419 | 0.007 | 1.427 | |
| report | 0.000 | 0.001 | 0.000 | |
| run_app | 0.000 | 0.000 | 0.001 | |
| se2msn | 0.113 | 0.000 | 0.113 | |
| test_diff | 0.778 | 0.000 | 0.777 | |
| test_gsea | 0.638 | 0.034 | 0.672 | |
| theme_DEP1 | 0.450 | 0.007 | 0.457 | |
| theme_DEP2 | 0.542 | 0.003 | 0.545 | |