Back to Build/check report for BioC 3.23:   simplified   long
ABC[D]EFGHIJKLMNOPQRSTUVWXYZ

This page was generated on 2025-10-23 11:30 -0400 (Thu, 23 Oct 2025).

HostnameOSArch (*)R versionInstalled pkgs
nebbiolo1Linux (Ubuntu 24.04.3 LTS)x86_64R Under development (unstable) (2025-10-20 r88955) -- "Unsuffered Consequences" 3809
Click on any hostname to see more info about the system (e.g. compilers)      (*) as reported by 'uname -p', except on Windows and Mac OS X

All results for package DEP


To the developers/maintainers of the DEP package:
- Allow up to 24 hours (and sometimes 48 hours) for your latest push to git@git.bioconductor.org:packages/DEP.git to reflect on this report. See Troubleshooting Build Report for more information.
- Use the following Renviron settings to reproduce errors and warnings.
- If 'R CMD check' started to fail recently on the Linux builder(s) over a missing dependency, add the missing dependency to 'Suggests:' in your DESCRIPTION file. See Renviron.bioc for more information.

raw results

Package 563/2355HostnameOS / ArchINSTALLBUILDCHECKBUILD BIN
DEP 1.31.2  (landing page)
Arne Smits
Snapshot Date: 2025-10-22 15:48 -0400 (Wed, 22 Oct 2025)
git_url: https://git.bioconductor.org/packages/DEP
git_branch: devel
git_last_commit: 96d07f1
git_last_commit_date: 2025-08-22 08:28:23 -0400 (Fri, 22 Aug 2025)
nebbiolo1Linux (Ubuntu 24.04.3 LTS) / x86_64  OK    OK    OK