Back to Build/check report for BioC 3.23:   simplified   long
AB[C]DEFGHIJKLMNOPQRSTUVWXYZ

This page was generated on 2025-11-08 11:32 -0500 (Sat, 08 Nov 2025).

HostnameOSArch (*)R versionInstalled pkgs
nebbiolo1Linux (Ubuntu 24.04.3 LTS)x86_64R Under development (unstable) (2025-10-20 r88955) -- "Unsuffered Consequences" 4821
Click on any hostname to see more info about the system (e.g. compilers)      (*) as reported by 'uname -p', except on Windows and Mac OS X

Package 310/2323HostnameOS / ArchINSTALLBUILDCHECKBUILD BIN
CellTrails 1.29.0  (landing page)
Daniel Ellwanger
Snapshot Date: 2025-11-07 13:40 -0500 (Fri, 07 Nov 2025)
git_url: https://git.bioconductor.org/packages/CellTrails
git_branch: devel
git_last_commit: 75d815a
git_last_commit_date: 2025-10-29 10:46:02 -0500 (Wed, 29 Oct 2025)
nebbiolo1Linux (Ubuntu 24.04.3 LTS) / x86_64  OK    OK    OK  UNNEEDED, same version is already published


CHECK results for CellTrails on nebbiolo1

To the developers/maintainers of the CellTrails package:
- Allow up to 24 hours (and sometimes 48 hours) for your latest push to git@git.bioconductor.org:packages/CellTrails.git to reflect on this report. See Troubleshooting Build Report for more information.
- Use the following Renviron settings to reproduce errors and warnings.
- If 'R CMD check' started to fail recently on the Linux builder(s) over a missing dependency, add the missing dependency to 'Suggests:' in your DESCRIPTION file. See Renviron.bioc for more information.

raw results


Summary

Package: CellTrails
Version: 1.29.0
Command: /home/biocbuild/bbs-3.23-bioc/R/bin/R CMD check --install=check:CellTrails.install-out.txt --library=/home/biocbuild/bbs-3.23-bioc/R/site-library --timings CellTrails_1.29.0.tar.gz
StartedAt: 2025-11-07 21:48:08 -0500 (Fri, 07 Nov 2025)
EndedAt: 2025-11-07 21:52:22 -0500 (Fri, 07 Nov 2025)
EllapsedTime: 254.4 seconds
RetCode: 0
Status:   OK  
CheckDir: CellTrails.Rcheck
Warnings: 0

Command output

##############################################################################
##############################################################################
###
### Running command:
###
###   /home/biocbuild/bbs-3.23-bioc/R/bin/R CMD check --install=check:CellTrails.install-out.txt --library=/home/biocbuild/bbs-3.23-bioc/R/site-library --timings CellTrails_1.29.0.tar.gz
###
##############################################################################
##############################################################################


* using log directory ‘/home/biocbuild/bbs-3.23-bioc/meat/CellTrails.Rcheck’
* using R Under development (unstable) (2025-10-20 r88955)
* using platform: x86_64-pc-linux-gnu
* R was compiled by
    gcc (Ubuntu 13.3.0-6ubuntu2~24.04) 13.3.0
    GNU Fortran (Ubuntu 13.3.0-6ubuntu2~24.04) 13.3.0
* running under: Ubuntu 24.04.3 LTS
* using session charset: UTF-8
* checking for file ‘CellTrails/DESCRIPTION’ ... OK
* checking extension type ... Package
* this is package ‘CellTrails’ version ‘1.29.0’
* package encoding: UTF-8
* checking package namespace information ... OK
* checking package dependencies ... OK
* checking if this is a source package ... OK
* checking if there is a namespace ... OK
* checking for hidden files and directories ... OK
* checking for portable file names ... OK
* checking for sufficient/correct file permissions ... OK
* checking whether package ‘CellTrails’ can be installed ... OK
* checking installed package size ... OK
* checking package directory ... OK
* checking ‘build’ directory ... OK
* checking DESCRIPTION meta-information ... OK
* checking top-level files ... OK
* checking for left-over files ... OK
* checking index information ... OK
* checking package subdirectories ... OK
* checking code files for non-ASCII characters ... OK
* checking R files for syntax errors ... OK
* checking whether the package can be loaded ... OK
* checking whether the package can be loaded with stated dependencies ... OK
* checking whether the package can be unloaded cleanly ... OK
* checking whether the namespace can be loaded with stated dependencies ... OK
* checking whether the namespace can be unloaded cleanly ... OK
* checking loading without being on the library search path ... OK
* checking dependencies in R code ... OK
* checking S3 generic/method consistency ... OK
* checking replacement functions ... OK
* checking foreign function calls ... OK
* checking R code for possible problems ... OK
* checking Rd files ... NOTE
checkRd: (-1) connectStates.Rd:55: Lost braces; missing escapes or markup?
    55 | where D is a matrix containing all collected {l}-nearest neighbor sample
       |                                              ^
checkRd: (-1) dot-bhtsne.Rd:10-14: Lost braces
    10 | .reduceDimensions_def <- function(x, s) {
       |                                         ^
checkRd: (-1) dot-trajLandmark-set.Rd:14: Lost braces; missing escapes or markup?
    14 | \item{type}{A character in {"type", "id", "shape"}}
       |                            ^
checkRd: (-1) dot-trajLandmark.Rd:14: Lost braces; missing escapes or markup?
    14 | \item{type}{A character in {"type", "id", "shape"}}
       |                            ^
checkRd: (-1) dot-validatePlotParams.Rd:24: Lost braces; missing escapes or markup?
    24 | {'featureName', 'phenoName'}. Parameter \code{name} needs
       | ^
checkRd: (-1) dot-validatePlotParams.Rd:26: Lost braces; missing escapes or markup?
    26 | {colnames(colData(object)), state, landmark}.
       | ^
checkRd: (-1) plotMap.Rd:24: Lost braces; missing escapes or markup?
    24 | \item{type}{Type of map; one of {"raw","surface.fit","surface.se"}}
       |                                 ^
checkRd: (-1) write.ygraphml.Rd:52: Lost braces; missing escapes or markup?
    52 | \code{color_by='phenoName'} and {name='landmark'}. States can be indicated
       |                                 ^
checkRd: (-1) write.ygraphml.Rd:53: Lost braces; missing escapes or markup?
    53 | by \code{color_by='phenoName'} and {name='state'}.
       |                                    ^
* checking Rd metadata ... OK
* checking Rd cross-references ... OK
* checking for missing documentation entries ... OK
* checking for code/documentation mismatches ... OK
* checking Rd \usage sections ... NOTE
Documented arguments not in \usage in Rd file 'dot-adjustLayoutByPtime.Rd':
  ‘layout’

Documented arguments not in \usage in Rd file 'dot-findStates_def.Rd':
  ‘ming.g’

Documented arguments not in \usage in Rd file 'dot-plotStateTrajectory_def.Rd':
  ‘label’

Documented arguments not in \usage in Rd file 'dot-rbf.Rd':
  ‘x’ ‘sigma’

Documented arguments not in \usage in Rd file 'dot-spatmed.Rd':
  ‘x’

Documented arguments not in \usage in Rd file 'dot-write_ygraphml_def.Rd':
  ‘tlayout’

Functions with \usage entries need to have the appropriate \alias
entries, and all their arguments documented.
The \usage entries must correspond to syntactically valid R code.
See chapter ‘Writing R documentation files’ in the ‘Writing R
Extensions’ manual.
* checking Rd contents ... OK
* checking for unstated dependencies in examples ... OK
* checking contents of ‘data’ directory ... OK
* checking data for non-ASCII characters ... OK
* checking data for ASCII and uncompressed saves ... OK
* checking sizes of PDF files under ‘inst/doc’ ...* checking files in ‘vignettes’ ... OK
* checking examples ... OK
Examples with CPU (user + system) or elapsed time > 5s
         user system elapsed
plotMap 5.252  0.131   5.384
* checking for unstated dependencies in ‘tests’ ... OK
* checking tests ...
  Running ‘runTests.R’
 OK
* checking for unstated dependencies in vignettes ... OK
* checking package vignettes ... OK
* checking re-building of vignette outputs ... OK
* checking PDF version of manual ... OK
* DONE

Status: 2 NOTEs
See
  ‘/home/biocbuild/bbs-3.23-bioc/meat/CellTrails.Rcheck/00check.log’
for details.


Installation output

CellTrails.Rcheck/00install.out

##############################################################################
##############################################################################
###
### Running command:
###
###   /home/biocbuild/bbs-3.23-bioc/R/bin/R CMD INSTALL CellTrails
###
##############################################################################
##############################################################################


* installing to library ‘/home/biocbuild/bbs-3.23-bioc/R/site-library’
* installing *source* package ‘CellTrails’ ...
** this is package ‘CellTrails’ version ‘1.29.0’
** using staged installation
** R
** data
** inst
** byte-compile and prepare package for lazy loading
** help
*** installing help indices
** building package indices
** installing vignettes
** testing if installed package can be loaded from temporary location
** testing if installed package can be loaded from final location
** testing if installed package keeps a record of temporary installation path
* DONE (CellTrails)

Tests output

CellTrails.Rcheck/tests/runTests.Rout


R Under development (unstable) (2025-10-20 r88955) -- "Unsuffered Consequences"
Copyright (C) 2025 The R Foundation for Statistical Computing
Platform: x86_64-pc-linux-gnu

R is free software and comes with ABSOLUTELY NO WARRANTY.
You are welcome to redistribute it under certain conditions.
Type 'license()' or 'licence()' for distribution details.

R is a collaborative project with many contributors.
Type 'contributors()' for more information and
'citation()' on how to cite R or R packages in publications.

Type 'demo()' for some demos, 'help()' for on-line help, or
'help.start()' for an HTML browser interface to help.
Type 'q()' to quit R.

> BiocGenerics:::testPackage("CellTrails")

Attaching package: 'MatrixGenerics'

The following objects are masked from 'package:matrixStats':

    colAlls, colAnyNAs, colAnys, colAvgsPerRowSet, colCollapse,
    colCounts, colCummaxs, colCummins, colCumprods, colCumsums,
    colDiffs, colIQRDiffs, colIQRs, colLogSumExps, colMadDiffs,
    colMads, colMaxs, colMeans2, colMedians, colMins, colOrderStats,
    colProds, colQuantiles, colRanges, colRanks, colSdDiffs, colSds,
    colSums2, colTabulates, colVarDiffs, colVars, colWeightedMads,
    colWeightedMeans, colWeightedMedians, colWeightedSds,
    colWeightedVars, rowAlls, rowAnyNAs, rowAnys, rowAvgsPerColSet,
    rowCollapse, rowCounts, rowCummaxs, rowCummins, rowCumprods,
    rowCumsums, rowDiffs, rowIQRDiffs, rowIQRs, rowLogSumExps,
    rowMadDiffs, rowMads, rowMaxs, rowMeans2, rowMedians, rowMins,
    rowOrderStats, rowProds, rowQuantiles, rowRanges, rowRanks,
    rowSdDiffs, rowSds, rowSums2, rowTabulates, rowVarDiffs, rowVars,
    rowWeightedMads, rowWeightedMeans, rowWeightedMedians,
    rowWeightedSds, rowWeightedVars


Attaching package: 'generics'

The following objects are masked from 'package:base':

    as.difftime, as.factor, as.ordered, intersect, is.element, setdiff,
    setequal, union


Attaching package: 'BiocGenerics'

The following objects are masked from 'package:stats':

    IQR, mad, sd, var, xtabs

The following objects are masked from 'package:base':

    Filter, Find, Map, Position, Reduce, anyDuplicated, aperm, append,
    as.data.frame, basename, cbind, colnames, dirname, do.call,
    duplicated, eval, evalq, get, grep, grepl, is.unsorted, lapply,
    mapply, match, mget, order, paste, pmax, pmax.int, pmin, pmin.int,
    rank, rbind, rownames, sapply, saveRDS, table, tapply, unique,
    unsplit, which.max, which.min


Attaching package: 'S4Vectors'

The following object is masked from 'package:utils':

    findMatches

The following objects are masked from 'package:base':

    I, expand.grid, unname

Welcome to Bioconductor

    Vignettes contain introductory material; view with
    'browseVignettes()'. To cite Bioconductor, see
    'citation("Biobase")', and for packages 'citation("pkgname")'.


Attaching package: 'Biobase'

The following object is masked from 'package:MatrixGenerics':

    rowMedians

The following objects are masked from 'package:matrixStats':

    anyMissing, rowMedians

Computing adjacency matrix ...
Computing spectral embedding ...
Calculating approximation of CellTrails manifold for 2D visualization...
Used tSNE perplexity: 30
Initialized 20 clusters with a minimum size of 1 sample(s) each.
Performing post-hoc test ...
Found 5 states.
Calculating layout of state trajectory graph component 1...
Computing adjacency matrix ...
Computing spectral embedding ...
Calculating approximation of CellTrails manifold for 2D visualization...
Used tSNE perplexity: 30
Initialized 20 clusters with a minimum size of 1 sample(s) each.
Performing post-hoc test ...
Found 5 states.
Calculating layout of state trajectory graph component 1...
Calculating layout of state trajectory graph component 2...
Calculating layout of state trajectory graph component 3...
Calculating layout of state trajectory graph component 4...
Calculating layout of state trajectory graph component 5...
Calculating layout of state trajectory graph component 1...
Computing adjacency matrix ...
Computing spectral embedding ...
Computing adjacency matrix ...
Computing spectral embedding ...
Calculating approximation of CellTrails manifold for 2D visualization...
Used tSNE perplexity: 30
Computing adjacency matrix ...
Computing spectral embedding ...
Calculating approximation of CellTrails manifold for 2D visualization...
Used tSNE perplexity: 30
Initialized 20 clusters with a minimum size of 1 sample(s) each.
Performing post-hoc test ...
Found 1 states.
Initialized 20 clusters with a minimum size of 1 sample(s) each.
Performing post-hoc test ...
Found 1 states.
Initialized 0 clusters with a minimum size of 1000 sample(s) each.
Initialized 20 clusters with a minimum size of 1 sample(s) each.
Performing post-hoc test ...
Found 20 states.
Initialized 20 clusters with a minimum size of 1 sample(s) each.
Performing post-hoc test ...
Found 1 states.
Initialized 20 clusters with a minimum size of 1 sample(s) each.
Performing post-hoc test ...
Found 19 states.
Initialized 20 clusters with a minimum size of 1 sample(s) each.
Performing post-hoc test ...
Found 5 states.
Initialized 20 clusters with a minimum size of 1 sample(s) each.
Performing post-hoc test ...
Found 5 states.
Computing adjacency matrix ...
Computing spectral embedding ...
Calculating approximation of CellTrails manifold for 2D visualization...
Used tSNE perplexity: 30
Initialized 20 clusters with a minimum size of 1 sample(s) each.
Performing post-hoc test ...
Found 5 states.
Calculating layout of state trajectory graph component 1...
Computing adjacency matrix ...
Computing spectral embedding ...
Calculating approximation of CellTrails manifold for 2D visualization...
Used tSNE perplexity: 30
Initialized 20 clusters with a minimum size of 1 sample(s) each.
Performing post-hoc test ...
Found 5 states.
Calculating layout of state trajectory graph component 1...
Computing adjacency matrix ...
Computing spectral embedding ...
Calculating approximation of CellTrails manifold for 2D visualization...
Used tSNE perplexity: 30
Initialized 20 clusters with a minimum size of 1 sample(s) each.
Performing post-hoc test ...
Found 5 states.
Calculating layout of state trajectory graph component 1...
Calculating 2D approximation of CellTrails manifold...
This graph was created by an old(er) igraph version.
ℹ Call `igraph::upgrade_graph()` on it to use with the current igraph version.
For now we convert it on the fly...
Calculating layout of state trajectory graph component 1...
Calculating layout of state trajectory graph component 2...
Calculating layout of state trajectory graph ...
This graph was created by an old(er) igraph version.
ℹ Call `igraph::upgrade_graph()` on it to use with the current igraph version.
For now we convert it on the fly...
This graph was created by an old(er) igraph version.
ℹ Call `igraph::upgrade_graph()` on it to use with the current igraph version.
For now we convert it on the fly...
Computing adjacency matrix ...
Computing spectral embedding ...
Calculating approximation of CellTrails manifold for 2D visualization...
Used tSNE perplexity: 30
Initialized 20 clusters with a minimum size of 1 sample(s) each.
Performing post-hoc test ...
Found 5 states.
Calculating layout of state trajectory graph component 1...


RUNIT TEST PROTOCOL -- Fri Nov  7 21:52:03 2025 
*********************************************** 
Number of test functions: 18 
Number of errors: 0 
Number of failures: 0 

 
1 Test Suite : 
CellTrails RUnit Tests - 18 test functions, 0 errors, 0 failures
Number of test functions: 18 
Number of errors: 0 
Number of failures: 0 
Warning messages:
1: `aes_string()` was deprecated in ggplot2 3.0.0.
ℹ Please use tidy evaluation idioms with `aes()`.
ℹ See also `vignette("ggplot2-in-packages")` for more information.
ℹ The deprecated feature was likely used in the CellTrails package.
  Please report the issue to the authors. 
2: Using `size` aesthetic for lines was deprecated in ggplot2 3.4.0.
ℹ Please use `linewidth` instead.
ℹ The deprecated feature was likely used in the CellTrails package.
  Please report the issue to the authors. 
3: The `<scale>` argument of `guides()` cannot be `FALSE`. Use "none" instead as
of ggplot2 3.3.4.
ℹ The deprecated feature was likely used in the CellTrails package.
  Please report the issue to the authors. 
> 
> proc.time()
   user  system elapsed 
 31.581   0.721  32.294 

Example timings

CellTrails.Rcheck/CellTrails-Ex.timings

nameusersystemelapsed
addTrail0.3170.0050.322
connectStates0.0710.0010.073
contrastTrailExpr0.2140.0020.216
embedSamples0.9410.0040.947
enrichment.test0.0020.0010.003
featureNames-SingleCellExperiment-method0.0090.0010.010
filterTrajFeaturesByCOV2.4800.0452.525
filterTrajFeaturesByDL1.5010.0851.585
filterTrajFeaturesByFF2.8320.0912.923
findSpectrum0.5420.0300.573
findStates0.7560.0260.781
fitDynamic0.0980.0000.098
fitTrajectory0.3280.0020.330
landmarks0.0040.0020.006
latentSpace-set0.2880.0020.291
latentSpace0.0520.0020.054
manifold2D-set0.4450.0010.445
manifold2D0.0430.0010.043
pca0.2860.0020.289
phenoNames0.0060.0000.006
plotDynamic0.7420.0000.742
plotManifold0.7690.0050.775
plotMap5.2520.1315.384
plotStateExpression0.4850.0030.488
plotStateSize0.1890.0030.192
plotStateTrajectory1.3040.0021.305
plotTrail0.3680.0020.371
plotTrajectoryFit0.2840.0020.286
read.ygraphml0.0040.0000.004
removeTrail0.0290.0010.031
sampleNames-SingleCellExperiment-method0.0090.0000.009
selectTrajectory0.0250.0000.024
showTrajInfo0.2130.0000.212
simulate_exprs0.0010.0000.001
stateTrajLayout-set0.1810.0010.181
states-set0.0470.0000.046
states0.0040.0010.006
trailNames-set0.0160.0010.016
trailNames0.0030.0010.004
trails0.0150.0000.014
trajComponents0.0200.0010.021
trajFeatureNames-set0.0200.0010.021
trajFeatureNames0.0070.0030.010
trajLayout-set0.3500.0010.351
trajLayout0.0100.0000.009
trajResiduals0.0030.0010.005
trajSampleNames0.0090.0010.010
userLandmarks-set0.2980.0000.298
userLandmarks0.0730.0010.074
write.ygraphml0.0040.0000.004