Back to Multiple platform build/check report for BioC 3.23:   simplified   long
AB[C]DEFGHIJKLMNOPQRSTUVWXYZ

This page was generated on 2025-11-22 11:39 -0500 (Sat, 22 Nov 2025).

HostnameOSArch (*)R versionInstalled pkgs
nebbiolo1Linux (Ubuntu 24.04.3 LTS)x86_64R Under development (unstable) (2025-10-20 r88955) -- "Unsuffered Consequences" 4829
lconwaymacOS 12.7.6 Montereyx86_64R Under development (unstable) (2025-10-21 r88958) -- "Unsuffered Consequences" 4603
kjohnson3macOS 13.7.7 Venturaarm64R Under development (unstable) (2025-11-04 r88984) -- "Unsuffered Consequences" 4567
Click on any hostname to see more info about the system (e.g. compilers)      (*) as reported by 'uname -p', except on Windows and Mac OS X

Package 284/2327HostnameOS / ArchINSTALLBUILDCHECKBUILD BIN
CatsCradle 1.5.1  (landing page)
Michael Shapiro
Snapshot Date: 2025-11-21 13:40 -0500 (Fri, 21 Nov 2025)
git_url: https://git.bioconductor.org/packages/CatsCradle
git_branch: devel
git_last_commit: 032f58b
git_last_commit_date: 2025-11-04 07:21:19 -0500 (Tue, 04 Nov 2025)
nebbiolo1Linux (Ubuntu 24.04.3 LTS) / x86_64  OK    OK    OK  UNNEEDED, same version is already published
lconwaymacOS 12.7.6 Monterey / x86_64  OK    OK    OK    OK  UNNEEDED, same version is already published
kjohnson3macOS 13.7.7 Ventura / arm64  OK    OK    OK    OK  UNNEEDED, same version is already published


CHECK results for CatsCradle on kjohnson3

To the developers/maintainers of the CatsCradle package:
- Allow up to 24 hours (and sometimes 48 hours) for your latest push to git@git.bioconductor.org:packages/CatsCradle.git to reflect on this report. See Troubleshooting Build Report for more information.
- Use the following Renviron settings to reproduce errors and warnings.
- If 'R CMD check' started to fail recently on the Linux builder(s) over a missing dependency, add the missing dependency to 'Suggests:' in your DESCRIPTION file. See Renviron.bioc for more information.

raw results


Summary

Package: CatsCradle
Version: 1.5.1
Command: /Library/Frameworks/R.framework/Resources/bin/R CMD check --install=check:CatsCradle.install-out.txt --library=/Library/Frameworks/R.framework/Resources/library --no-vignettes --timings CatsCradle_1.5.1.tar.gz
StartedAt: 2025-11-21 18:52:06 -0500 (Fri, 21 Nov 2025)
EndedAt: 2025-11-21 18:56:24 -0500 (Fri, 21 Nov 2025)
EllapsedTime: 257.2 seconds
RetCode: 0
Status:   OK  
CheckDir: CatsCradle.Rcheck
Warnings: 0

Command output

##############################################################################
##############################################################################
###
### Running command:
###
###   /Library/Frameworks/R.framework/Resources/bin/R CMD check --install=check:CatsCradle.install-out.txt --library=/Library/Frameworks/R.framework/Resources/library --no-vignettes --timings CatsCradle_1.5.1.tar.gz
###
##############################################################################
##############################################################################


* using log directory ‘/Users/biocbuild/bbs-3.23-bioc/meat/CatsCradle.Rcheck’
* using R Under development (unstable) (2025-11-04 r88984)
* using platform: aarch64-apple-darwin20
* R was compiled by
    Apple clang version 16.0.0 (clang-1600.0.26.6)
    GNU Fortran (GCC) 14.2.0
* running under: macOS Ventura 13.7.8
* using session charset: UTF-8
* using option ‘--no-vignettes’
* checking for file ‘CatsCradle/DESCRIPTION’ ... OK
* this is package ‘CatsCradle’ version ‘1.5.1’
* package encoding: UTF-8
* checking package namespace information ... OK
* checking package dependencies ... INFO
Imports includes 21 non-default packages.
Importing from so many packages makes the package vulnerable to any of
them becoming unavailable.  Move as many as possible to Suggests and
use conditionally.
* checking if this is a source package ... OK
* checking if there is a namespace ... OK
* checking for hidden files and directories ... OK
* checking for portable file names ... OK
* checking for sufficient/correct file permissions ... OK
* checking whether package ‘CatsCradle’ can be installed ... OK
* checking installed package size ... OK
* checking package directory ... OK
* checking ‘build’ directory ... OK
* checking DESCRIPTION meta-information ... OK
* checking top-level files ... OK
* checking for left-over files ... OK
* checking index information ... OK
* checking package subdirectories ... OK
* checking code files for non-ASCII characters ... OK
* checking R files for syntax errors ... OK
* checking whether the package can be loaded ... OK
* checking whether the package can be loaded with stated dependencies ... OK
* checking whether the package can be unloaded cleanly ... OK
* checking whether the namespace can be loaded with stated dependencies ... OK
* checking whether the namespace can be unloaded cleanly ... OK
* checking dependencies in R code ... OK
* checking S3 generic/method consistency ... OK
* checking replacement functions ... OK
* checking foreign function calls ... OK
* checking R code for possible problems ... NOTE
edgeLengthPlot: no visible binding for global variable ‘cellTypePair’
edgeLengthPlot: no visible binding for global variable ‘cutoff’
make.getExample : getExample: no visible binding for global variable
  ‘seuratGenes’
make.getExample : getExample: no visible binding for global variable
  ‘seuratCells’
make.getExample : getExample: no visible binding for global variable
  ‘xeniumCells’
make.getExample : getExample: no visible binding for global variable
  ‘moransI’
make.getExample : getExample: no visible binding for global variable
  ‘moransILigandReceptor’
make.getExample : getExample: no visible binding for global variable
  ‘humanLRN’
make.getExample : getExample: no visible binding for global variable
  ‘mouseLRN’
meanGeneClusterOnCellUMAP: no visible binding for global variable
  ‘UMAP_1’
meanGeneClusterOnCellUMAP: no visible binding for global variable
  ‘UMAP_2’
plotLRDotplot: no visible binding for global variable ‘sender’
plotLRDotplot: no visible binding for global variable ‘negLog10PValue’
plotLRDotplot: no visible binding for global variable ‘receiver’
Undefined global functions or variables:
  UMAP_1 UMAP_2 cellTypePair cutoff humanLRN moransI
  moransILigandReceptor mouseLRN negLog10PValue receiver sender
  seuratCells seuratGenes xeniumCells
* checking Rd files ... OK
* checking Rd metadata ... OK
* checking Rd cross-references ... OK
* checking for missing documentation entries ... OK
* checking for code/documentation mismatches ... OK
* checking Rd \usage sections ... OK
* checking Rd contents ... OK
* checking for unstated dependencies in examples ... OK
* checking contents of ‘data’ directory ... OK
* checking data for non-ASCII characters ... OK
* checking data for ASCII and uncompressed saves ... OK
* checking files in ‘vignettes’ ... OK
* checking examples ... OK
Examples with CPU (user + system) or elapsed time > 5s
                                  user system elapsed
annotateGeneAsVector            20.196  0.151  20.656
computeNBHDVsCTObject           10.437  0.078  10.865
randomiseNodeIndices             7.412  0.171   7.981
getObjectSubsetClusteringPValue  6.408  0.362   6.981
transposeObject                  5.318  0.061   5.502
aggregateGeneExpression          5.199  0.121   5.619
computeGraphEmbedding            5.229  0.035   5.490
* checking for unstated dependencies in vignettes ... OK
* checking package vignettes ... OK
* checking running R code from vignettes ... SKIPPED
* checking re-building of vignette outputs ... SKIPPED
* checking PDF version of manual ... OK
* DONE

Status: 1 NOTE
See
  ‘/Users/biocbuild/bbs-3.23-bioc/meat/CatsCradle.Rcheck/00check.log’
for details.


Installation output

CatsCradle.Rcheck/00install.out

##############################################################################
##############################################################################
###
### Running command:
###
###   /Library/Frameworks/R.framework/Resources/bin/R CMD INSTALL CatsCradle
###
##############################################################################
##############################################################################


* installing to library ‘/Library/Frameworks/R.framework/Versions/4.6-arm64/Resources/library’
* installing *source* package ‘CatsCradle’ ...
** this is package ‘CatsCradle’ version ‘1.5.1’
** using staged installation
** R
** data
** inst
** byte-compile and prepare package for lazy loading
** help
*** installing help indices
** building package indices
** installing vignettes
** testing if installed package can be loaded from temporary location
** testing if installed package can be loaded from final location
** testing if installed package keeps a record of temporary installation path
* DONE (CatsCradle)

Tests output


Example timings

CatsCradle.Rcheck/CatsCradle-Ex.timings

nameusersystemelapsed
aggregateGeneExpression5.1990.1215.619
annotateGeneAsVector20.196 0.15120.656
annotateGenesByGeneSet0.7720.0920.900
cellTypesPerCellTypeGraphFromCellMatrix0.0760.0060.082
collapseExtendedNBHDs1.0290.0261.126
combinatorialSpheres2.7660.0262.916
computeCellTypesPerCellTypeMatrix0.0460.0040.057
computeEdgeGraph0.0840.0070.095
computeEdgeObject0.3390.0140.371
computeGraphEmbedding5.2290.0355.490
computeNBHDByCTMatrix0.0440.0040.051
computeNBHDVsCTObject10.437 0.07810.865
computeNeighbourEnrichment0.0530.0040.065
computeNeighboursDelaunay0.0370.0030.041
computeNeighboursEuclidean0.2530.0310.319
cullEdges0.1990.0200.221
desymmetriseNN2.6190.0472.798
directedHausdorfDistance0.0000.0000.001
edgeCutoffsByClustering0.1600.0160.180
edgeCutoffsByPercentile0.1080.0060.114
edgeCutoffsByWatershed0.1230.0040.130
edgeCutoffsByZScore0.1360.0120.159
edgeLengthPlot0.1330.0050.147
edgeLengthsAndCellTypePairs0.1400.0070.147
exampleObjects0.0000.0000.001
geneSetsVsGeneClustersPValueMatrix2.7120.0372.891
getAverageExpressionDF2.6800.0452.831
getAverageExpressionMatrix2.6920.0432.833
getClusterOrder2.5310.0282.707
getExtendedNBHDs0.4580.0280.468
getFeatureZScores0.0830.0040.099
getGeneClusterAveragesPerCell2.5890.0352.791
getGeneNeighbors2.6110.0272.736
getLigandReceptorNetwork0.0090.0020.011
getLigandReceptorPairsInPanel0.0400.0040.046
getNearbyGenes2.7490.0292.922
getNearestNeighbourLists2.5840.0392.716
getObjectSubsetClusteringPValue6.4080.3626.981
getObjectSubsetClusteringStatistics2.7570.0582.949
make.getExample0.0380.0030.043
makeLRInteractionHeatmap0.0840.0060.097
makeSummedLRInteractionHeatmap0.0760.0050.085
meanGeneClusterOnCellUMAP2.6640.0582.841
meanZPerCluster2.6260.0362.798
meanZPerClusterOnUMAP2.6520.0312.821
medianComplementDistance000
medianComplementPValue2.8310.0353.027
nbhdsAsEdgesToNbhdsAsList0.3450.0680.433
neighbourhoodDiameter0.3500.0710.435
performLigandReceptorAnalysis0.5490.4891.103
performLigandReceptorAnalysisPermutation0.5480.4721.033
plotLRDotplot0.6040.0260.664
predictAnnotation4.0920.2684.620
predictAnnotationAllGenes3.6030.1844.055
predictGeneAnnotationImpl3.2540.1843.740
randomiseNodeIndices7.4120.1717.981
runGeometricClusteringTrials2.8810.0403.152
runMoransI0.4580.0700.577
sankeyFromMatrix0.0020.0000.002
symmetriseNN2.7810.0583.003
symmetryCheckNN2.6570.0342.761
tagRowAndColNames2.7580.0292.873
transposeObject5.3180.0615.502