Back to Build/check report for BioC 3.23:   simplified   long
AB[C]DEFGHIJKLMNOPQRSTUVWXYZ

This page was generated on 2025-11-13 11:32 -0500 (Thu, 13 Nov 2025).

HostnameOSArch (*)R versionInstalled pkgs
kjohnson3macOS 13.7.7 Venturaarm64R Under development (unstable) (2025-11-04 r88984) -- "Unsuffered Consequences" 4013
Click on any hostname to see more info about the system (e.g. compilers)      (*) as reported by 'uname -p', except on Windows and Mac OS X

Package 481/2325HostnameOS / ArchINSTALLBUILDCHECKBUILD BIN
CTexploreR 1.7.0  (landing page)
Axelle Loriot
Snapshot Date: 2025-11-12 13:40 -0500 (Wed, 12 Nov 2025)
git_url: https://git.bioconductor.org/packages/CTexploreR
git_branch: devel
git_last_commit: db48290
git_last_commit_date: 2025-10-29 11:26:51 -0500 (Wed, 29 Oct 2025)
kjohnson3macOS 13.7.7 Ventura / arm64  OK    OK    OK    ERROR  


BUILD BIN results for CTexploreR on kjohnson3

To the developers/maintainers of the CTexploreR package:
- Allow up to 24 hours (and sometimes 48 hours) for your latest push to git@git.bioconductor.org:packages/CTexploreR.git to reflect on this report. See Troubleshooting Build Report for more information.
- Use the following Renviron settings to reproduce errors and warnings.
- If 'R CMD check' started to fail recently on the Linux builder(s) over a missing dependency, add the missing dependency to 'Suggests:' in your DESCRIPTION file. See Renviron.bioc for more information.

raw results


Summary

Package: CTexploreR
Version: 1.7.0
Command: rm -rf CTexploreR.buildbin-libdir && mkdir CTexploreR.buildbin-libdir && /Users/biocbuild/BBS/utils/build-universal.sh CTexploreR_1.7.0.tar.gz /Library/Frameworks/R.framework/Resources/bin/R CTexploreR.buildbin-libdir
StartedAt: 2025-11-12 20:55:25 -0500 (Wed, 12 Nov 2025)
EndedAt: 2025-11-12 20:55:51 -0500 (Wed, 12 Nov 2025)
EllapsedTime: 25.5 seconds
RetCode: 1
Status:   ERROR  
PackageFile: None
PackageFileSize: NA

Command output

##############################################################################
##############################################################################
###
### Running command:
###
###   rm -rf CTexploreR.buildbin-libdir && mkdir CTexploreR.buildbin-libdir && /Users/biocbuild/BBS/utils/build-universal.sh CTexploreR_1.7.0.tar.gz /Library/Frameworks/R.framework/Resources/bin/R CTexploreR.buildbin-libdir
###
##############################################################################
##############################################################################


>>>>>>> 
>>>>>>> INSTALLATION WITH 'R CMD INSTALL --preclean --no-multiarch --library=CTexploreR.buildbin-libdir CTexploreR_1.7.0.tar.gz'
>>>>>>> 

* installing *source* package ‘CTexploreR’ ...
** this is package ‘CTexploreR’ version ‘1.7.0’
** using staged installation
** R
** inst
** byte-compile and prepare package for lazy loading
Cannot connect to ExperimentHub server, using 'localHub=TRUE' instead
Error while performing HEAD request.
   Proceeding without cache information.
Warning: download failed
  web resource path: ‘https://experimenthub.bioconductor.org/metadata/experimenthub.sqlite3’
  local file path: ‘/Users/biocbuild/Library/Caches/org.R-project.R/R/ExperimentHub/file18d856933930’
  reason: Failed to perform HTTP request.
Caused by error in `curl::curl_fetch_disk()`:
! SSL connect error [experimenthub.bioconductor.org]:
TLS connect error: error:00000000:lib(0):func(0):reason(0)
Warning: bfcdownload() failed
  rid: BFC1
  file: ‘https://experimenthub.bioconductor.org/metadata/experimenthub.sqlite3’
  reason: download failed
Warning: Could not check database for updates.
  Database source currently unreachable.
  This should only be a temporary interruption. 
  Using previously cached version.
Error in value[[3L]](cond) : failed to connect
  reason: Failed to perform HTTP request.
Caused by error in `curl::curl_fetch_memory()`:
! Timeout was reached [bioconductor.org]:
Connection timed out after 10003 milliseconds
  Consider rerunning with 'localHub=TRUE'
Error: unable to load R code in package ‘CTexploreR’
Execution halted
ERROR: lazy loading failed for package ‘CTexploreR’
* removing ‘/Users/biocbuild/bbs-3.23-bioc/meat/CTexploreR.buildbin-libdir/CTexploreR’