Back to Build/check report for BioC 3.23:   simplified   long
AB[C]DEFGHIJKLMNOPQRSTUVWXYZ

This page was generated on 2025-11-12 11:32 -0500 (Wed, 12 Nov 2025).

HostnameOSArch (*)R versionInstalled pkgs
nebbiolo1Linux (Ubuntu 24.04.3 LTS)x86_64R Under development (unstable) (2025-10-20 r88955) -- "Unsuffered Consequences" 4823
Click on any hostname to see more info about the system (e.g. compilers)      (*) as reported by 'uname -p', except on Windows and Mac OS X

Package 450/2325HostnameOS / ArchINSTALLBUILDCHECKBUILD BIN
COTAN 2.11.0  (landing page)
Galfrè Silvia Giulia
Snapshot Date: 2025-11-11 13:40 -0500 (Tue, 11 Nov 2025)
git_url: https://git.bioconductor.org/packages/COTAN
git_branch: devel
git_last_commit: cf71097
git_last_commit_date: 2025-10-29 11:14:37 -0500 (Wed, 29 Oct 2025)
nebbiolo1Linux (Ubuntu 24.04.3 LTS) / x86_64  OK    OK    OK  UNNEEDED, same version is already published


CHECK results for COTAN on nebbiolo1

To the developers/maintainers of the COTAN package:
- Allow up to 24 hours (and sometimes 48 hours) for your latest push to git@git.bioconductor.org:packages/COTAN.git to reflect on this report. See Troubleshooting Build Report for more information.
- Use the following Renviron settings to reproduce errors and warnings.
- If 'R CMD check' started to fail recently on the Linux builder(s) over a missing dependency, add the missing dependency to 'Suggests:' in your DESCRIPTION file. See Renviron.bioc for more information.

raw results


Summary

Package: COTAN
Version: 2.11.0
Command: /home/biocbuild/bbs-3.23-bioc/R/bin/R CMD check --install=check:COTAN.install-out.txt --library=/home/biocbuild/bbs-3.23-bioc/R/site-library --timings COTAN_2.11.0.tar.gz
StartedAt: 2025-11-11 22:25:23 -0500 (Tue, 11 Nov 2025)
EndedAt: 2025-11-11 22:55:30 -0500 (Tue, 11 Nov 2025)
EllapsedTime: 1807.2 seconds
RetCode: 0
Status:   OK  
CheckDir: COTAN.Rcheck
Warnings: 0

Command output

##############################################################################
##############################################################################
###
### Running command:
###
###   /home/biocbuild/bbs-3.23-bioc/R/bin/R CMD check --install=check:COTAN.install-out.txt --library=/home/biocbuild/bbs-3.23-bioc/R/site-library --timings COTAN_2.11.0.tar.gz
###
##############################################################################
##############################################################################


* using log directory ‘/home/biocbuild/bbs-3.23-bioc/meat/COTAN.Rcheck’
* using R Under development (unstable) (2025-10-20 r88955)
* using platform: x86_64-pc-linux-gnu
* R was compiled by
    gcc (Ubuntu 13.3.0-6ubuntu2~24.04) 13.3.0
    GNU Fortran (Ubuntu 13.3.0-6ubuntu2~24.04) 13.3.0
* running under: Ubuntu 24.04.3 LTS
* using session charset: UTF-8
* checking for file ‘COTAN/DESCRIPTION’ ... OK
* checking extension type ... Package
* this is package ‘COTAN’ version ‘2.11.0’
* package encoding: UTF-8
* checking package namespace information ... OK
* checking package dependencies ... INFO
Imports includes 26 non-default packages.
Importing from so many packages makes the package vulnerable to any of
them becoming unavailable.  Move as many as possible to Suggests and
use conditionally.
* checking if this is a source package ... OK
* checking if there is a namespace ... OK
* checking for hidden files and directories ... OK
* checking for portable file names ... OK
* checking for sufficient/correct file permissions ... OK
* checking whether package ‘COTAN’ can be installed ... OK
* checking installed package size ... OK
* checking package directory ... OK
* checking ‘build’ directory ... OK
* checking DESCRIPTION meta-information ... OK
* checking top-level files ... OK
* checking for left-over files ... OK
* checking index information ... OK
* checking package subdirectories ... OK
* checking code files for non-ASCII characters ... OK
* checking R files for syntax errors ... OK
* checking whether the package can be loaded ... OK
* checking whether the package can be loaded with stated dependencies ... OK
* checking whether the package can be unloaded cleanly ... OK
* checking whether the namespace can be loaded with stated dependencies ... OK
* checking whether the namespace can be unloaded cleanly ... OK
* checking loading without being on the library search path ... OK
* checking whether startup messages can be suppressed ... OK
* checking dependencies in R code ... OK
* checking S3 generic/method consistency ... OK
* checking replacement functions ... OK
* checking foreign function calls ... OK
* checking R code for possible problems ... OK
* checking Rd files ... OK
* checking Rd metadata ... OK
* checking Rd cross-references ... OK
* checking for missing documentation entries ... OK
* checking for code/documentation mismatches ... OK
* checking Rd \usage sections ... OK
* checking Rd contents ... OK
* checking for unstated dependencies in examples ... OK
* checking contents of ‘data’ directory ... OK
* checking data for non-ASCII characters ... OK
* checking data for ASCII and uncompressed saves ... OK
* checking files in ‘vignettes’ ... OK
* checking examples ... OK
Examples with CPU (user + system) or elapsed time > 5s
                          user system elapsed
UniformClusters         65.473  0.170  64.882
CalculatingCOEX         51.697  0.943  51.589
HandlingClusterizations 40.640  0.219  40.523
HeatmapPlots            30.409  0.412  30.040
ParametersEstimations   20.909  0.224  21.115
GenesStatistics         10.553  0.098  10.364
COTAN_ObjectCreation     9.424  0.421   9.565
* checking for unstated dependencies in ‘tests’ ... OK
* checking tests ...
  Running ‘outputTestDatasetCreation.R’
  Running ‘spelling.R’
  Running ‘testthat.R’
 OK
* checking for unstated dependencies in vignettes ... OK
* checking package vignettes ... OK
* checking re-building of vignette outputs ... OK
* checking PDF version of manual ... OK
* DONE

Status: OK


Installation output

COTAN.Rcheck/00install.out

##############################################################################
##############################################################################
###
### Running command:
###
###   /home/biocbuild/bbs-3.23-bioc/R/bin/R CMD INSTALL COTAN
###
##############################################################################
##############################################################################


* installing to library ‘/home/biocbuild/bbs-3.23-bioc/R/site-library’
* installing *source* package ‘COTAN’ ...
** this is package ‘COTAN’ version ‘2.11.0’
** using staged installation
** R
** data
** inst
** byte-compile and prepare package for lazy loading
** help
*** installing help indices
** building package indices
** installing vignettes
** testing if installed package can be loaded from temporary location
** testing if installed package can be loaded from final location
** testing if installed package keeps a record of temporary installation path
* DONE (COTAN)

Tests output

COTAN.Rcheck/tests/outputTestDatasetCreation.Rout


R Under development (unstable) (2025-10-20 r88955) -- "Unsuffered Consequences"
Copyright (C) 2025 The R Foundation for Statistical Computing
Platform: x86_64-pc-linux-gnu

R is free software and comes with ABSOLUTELY NO WARRANTY.
You are welcome to redistribute it under certain conditions.
Type 'license()' or 'licence()' for distribution details.

R is a collaborative project with many contributors.
Type 'contributors()' for more information and
'citation()' on how to cite R or R packages in publications.

Type 'demo()' for some demos, 'help()' for on-line help, or
'help.start()' for an HTML browser interface to help.
Type 'q()' to quit R.

> 
> # Creates the files to be reloaded by the tests for comparisons
> 
> outputTestDatasetCreation <-
+   function(testsDir = file.path("tests", "testthat")) {
+   utils::data("test.dataset", package = "COTAN")
+   options(parallelly.fork.enable = TRUE)
+   setLoggingLevel(3L)
+ 
+   obj <- COTAN(raw = test.dataset)
+   obj <- initializeMetaDataset(objCOTAN = obj, GEO = " ",
+                                sequencingMethod = "artificial",
+                                sampleCondition = "test")
+ 
+   obj <- proceedToCoex(objCOTAN = obj, cores = 6L, saveObj = FALSE)
+ 
+   if (FALSE) {
+     saveRDS(obj, file = file.path(testsDir,"test.COTAN.RDS"))
+   }
+ 
+   cells.names.test <-
+     getCells(objCOTAN = obj)[c(1L:10L, 591L:610L, 991L:1000L)]
+   genes.names.test <-
+     getGenes(objCOTAN = obj)[c(131L:140L, 291L:310L, 591L: 600L)]
+   saveRDS(cells.names.test, file.path(testsDir, "cells.names.test.RDS"))
+   saveRDS(genes.names.test, file.path(testsDir, "genes.names.test.RDS"))
+ 
+   pcaRaw <- runPCA(x = getRawData(objCOTAN = obj), rank = 10L,
+                    BSPARAM = IrlbaParam(), get.rotation = FALSE)[["x"]]
+ 
+   pca.raw.test <- pcaRaw[genes.names.test, ]
+   saveRDS(pca.raw.test, file.path(testsDir, "pca.raw.test.RDS"))
+ 
+   dispersion.test <- getDispersion(objCOTAN = obj)[genes.names.test]
+   saveRDS(dispersion.test, file.path(testsDir, "dispersion.test.RDS"))
+ 
+   raw.norm.test <-
+     getNuNormData(objCOTAN = obj)[genes.names.test, cells.names.test]
+   saveRDS(raw.norm.test, file.path(testsDir, "raw.norm.test.RDS"))
+ 
+   coex.test <-
+     getGenesCoex(objCOTAN = obj, genes = genes.names.test, zeroDiagonal = FALSE)
+   saveRDS(coex.test, file.path(testsDir, "coex.test.RDS"))
+ 
+   lambda.test <- getLambda(objCOTAN = obj)[genes.names.test]
+   saveRDS(lambda.test, file.path(testsDir, "lambda.test.RDS"))
+ 
+   GDI.test <- calculateGDI(objCOTAN = obj)
+   GDI.test <- GDI.test[genes.names.test, ]
+   saveRDS(GDI.test, file.path(testsDir, "GDI.test.RDS"))
+ 
+   nu.test <- getNu(objCOTAN = obj)[cells.names.test]
+   saveRDS(nu.test, file.path(testsDir, "nu.test.RDS"))
+ 
+   pvalues.test <- calculatePValue(objCOTAN = obj,
+                                   geneSubsetCol = genes.names.test,
+                                   geneSubsetRow = genes.names.test)
+   saveRDS(pvalues.test, file.path(testsDir, "pvalues.test.RDS"))
+ 
+   groupMarkers <- list(G1 = c("g-000010", "g-000020", "g-000138"),
+                        G2 = c("g-000300", "g-000330", "g-000660"),
+                        G3 = c("g-000510", "g-000530", "g-000550",
+                               "g-000570", "g-000590"))
+ 
+   gcsData <- genesCoexSpace(objCOTAN = obj,
+                             primaryMarkers = unlist(groupMarkers),
+                             numGenesPerMarker = 11L)
+ 
+   genes.coex.space.test <- gcsData[["GCS"]]
+   saveRDS(genes.coex.space.test,
+           file.path(testsDir, "genes.coex.space.test.RDS"))
+ 
+   genesClustersData <-
+     establishGenesClusters(objCOTAN = obj,
+                            groupMarkers = groupMarkers,
+                            numGenesPerMarker = 11L,
+                            kCuts = 6L, distance = "cosine",
+                            hclustMethod = "ward.D2")
+ 
+   pca.genes.clusters.test <- genesClustersData[["pca_clusters"]]
+   saveRDS(pca.genes.clusters.test,
+           file.path(testsDir, "pca.genes.clusters.test.RDS"))
+ 
+   # Make it a less strict check as it is only for testing
+   checker <- new("AdvancedGDIUniformityCheck")
+   checker <- shiftCheckerThresholds(checker, 0.1)
+ 
+   initialResolution <- 1.3
+   splitData <- cellsUniformClustering(objCOTAN = obj,
+                                       checker = checker,
+                                       initialResolution = initialResolution,
+                                       useCoexEigen = TRUE,
+                                       dataMethod = "LL",
+                                       numReducedComp = 50L,
+                                       cores = 6L, optimizeForSpeed = TRUE,
+                                       deviceStr = "cuda", saveObj = FALSE)
+ 
+   split.clusters.test <- splitData[["clusters"]]
+   saveRDS(split.clusters.test,
+           file = file.path(testsDir, "split.clusters.test.RDS"))
+ 
+   test.dataset.clusters1 <- split.clusters.test
+   save(test.dataset.clusters1, compress = TRUE,
+        file = file.path("data", "test.dataset.clusters1.rda"))
+ 
+   obj <- addClusterization(objCOTAN = obj,
+                            clName = "split",
+                            clusters = splitData[["clusters"]],
+                            coexDF = splitData[["coex"]])
+ 
+   coex.clusters.test <- splitData[["coex"]][genes.names.test, ]
+   saveRDS(coex.clusters.test, file.path(testsDir, "coex.clusters.test.RDS"))
+ 
+   pvalDF <- pValueFromDEA(splitData[["coex"]],
+                           getNumCells(objCOTAN = obj),
+                           adjustmentMethod = "none")
+ 
+   pvalues.clusters.test <- pvalDF[genes.names.test, ]
+   saveRDS(pvalues.clusters.test,
+           file.path(testsDir, "pvalues.clusters.test.RDS"))
+ 
+   mergedData <- mergeUniformCellsClusters(objCOTAN = obj,
+                                           clusters = splitData[["clusters"]],
+                                           checkers = checker,
+                                           batchSize = 1L,
+                                           cores = 6L,
+                                           distance = "cosine",
+                                           hclustMethod = "ward.D2",
+                                           saveObj = FALSE)
+ 
+   merge.clusters.test <- mergedData[["clusters"]]
+   saveRDS(merge.clusters.test,
+           file = file.path(testsDir, "merge.clusters.test.RDS"))
+ 
+   test.dataset.clusters2 <- merge.clusters.test
+   save(test.dataset.clusters2, compress = TRUE,
+        file = file.path("data", "test.dataset.clusters2.rda"))
+ 
+   obj <- addClusterization(objCOTAN = obj,
+                            clName = "merge",
+                            clusters = mergedData[["clusters"]],
+                            coexDF = mergedData[["coex"]])
+ }
> 
> proc.time()
   user  system elapsed 
  0.148   0.049   0.183 

COTAN.Rcheck/tests/spelling.Rout


R Under development (unstable) (2025-10-20 r88955) -- "Unsuffered Consequences"
Copyright (C) 2025 The R Foundation for Statistical Computing
Platform: x86_64-pc-linux-gnu

R is free software and comes with ABSOLUTELY NO WARRANTY.
You are welcome to redistribute it under certain conditions.
Type 'license()' or 'licence()' for distribution details.

R is a collaborative project with many contributors.
Type 'contributors()' for more information and
'citation()' on how to cite R or R packages in publications.

Type 'demo()' for some demos, 'help()' for on-line help, or
'help.start()' for an HTML browser interface to help.
Type 'q()' to quit R.

> if (requireNamespace("spelling", quietly = TRUE))
+   spelling::spell_check_test(vignettes = TRUE, error = FALSE,
+                              skip_on_cran = TRUE)
All Done!
> 
> proc.time()
   user  system elapsed 
  0.146   0.037   0.170 

COTAN.Rcheck/tests/testthat.Rout


R Under development (unstable) (2025-10-20 r88955) -- "Unsuffered Consequences"
Copyright (C) 2025 The R Foundation for Statistical Computing
Platform: x86_64-pc-linux-gnu

R is free software and comes with ABSOLUTELY NO WARRANTY.
You are welcome to redistribute it under certain conditions.
Type 'license()' or 'licence()' for distribution details.

R is a collaborative project with many contributors.
Type 'contributors()' for more information and
'citation()' on how to cite R or R packages in publications.

Type 'demo()' for some demos, 'help()' for on-line help, or
'help.start()' for an HTML browser interface to help.
Type 'q()' to quit R.

> Sys.setenv(R_TESTS = "")
> library(testthat)
> library(COTAN)
> library(zeallot)
> test_check("COTAN")
Setting new log level to 4
Initializing `COTAN` meta-data
Genes/cells selection done: dropped [0] genes and [0] cells
Working on [10] genes and [20] cells
Estimate `dispersion`: START
Effective number of cores used: 1
Executing 1 genes batches
Parallel dispersion Newton-Raphson: used up to 5 iterations
Total calculations elapsed time: 1.70191502571106
Estimate `dispersion`: DONE
Estimate `dispersion`: DONE
`dispersion` | min: 0.903596292963576 | max: 4.67949426963453 | % negative: 10
Calculate genes' COEX (legacy): START
Retrieving expected genes' contingency table
calculating NN.. done
calculating NY..YN..YY..t().. done
Expected genes' contingency table elapsed time: 2.27864837646484
Calculating genes' COEX normalization factor
Calculate genes' normalization factor elapsed time: 0.000504493713378906
Retrieving observed genes' yes/yes contingency table
calculating YY.. done
Observed genes' contingency table elapsed time: 0.0058891773223877
Estimating genes' COEX
Calculate genes' COEX elapsed time: 0.747736930847168
Total calculations elapsed time: 3.03277897834778
Calculate genes' COEX (legacy): DONE
Genes/cells selection done: dropped [0] genes and [0] cells
Working on [10] genes and [20] cells
Estimate `dispersion`: START
Effective number of cores used: 1
Executing 5 genes batches
Parallel dispersion Newton-Raphson: used up to 5 iterations
Parallel dispersion Newton-Raphson: used up to 4 iterations
Parallel dispersion Newton-Raphson: used up to 5 iterations
Parallel dispersion Newton-Raphson: used up to 5 iterations
Parallel dispersion Newton-Raphson: used up to 5 iterations
Total calculations elapsed time: 4.89330124855042
Estimate `dispersion`: DONE
Estimate `dispersion`: DONE
`dispersion` | min: 0.903596292963576 | max: 4.67949426963453 | % negative: 10
Estimate `nu`: START
Effective number of cores used: 1
Executing 7 cells batches
Total calculations elapsed time: 0.877350807189941
Estimate `nu`: DONE
`nu` change (abs) | max: 1.75595238095238 | median:  1.07156808035714 | mean:  1.07156808035714
Estimate `dispersion`/`nu`: START
Estimate `dispersion`: START
Effective number of cores used: 1
Executing 1 genes batches
Parallel dispersion Newton-Raphson: used up to 5 iterations
Total calculations elapsed time: 1.48406744003296
Estimate `dispersion`: DONE
Estimate `dispersion`: DONE
`dispersion` | min: 1.03734183779544 | max: 4.61112297272667 | % negative: 10
Estimate `nu`: START
Effective number of cores used: 1
Executing 1 cells batches
Total calculations elapsed time: 0.767299890518188
Estimate `nu`: DONE
`nu` change (abs) | max: 0.0295487661210321 | median:  0.016072261901129 | mean:  0.016072261901129
`nu` mean: 1.69786080481514
Marginal errors | max: 1.95799528048 | median 1.32268477389029 | mean: 1.33563364783916
Estimate `dispersion`: START
Effective number of cores used: 1
Executing 1 genes batches
Parallel dispersion Newton-Raphson: used up to 5 iterations
Total calculations elapsed time: 1.54085731506348
Estimate `dispersion`: DONE
Estimate `dispersion`: DONE
`dispersion` | min: 0.0585450475968788 | max: 3.52739274166646 | % negative: 10
Estimate `nu`: START
Effective number of cores used: 1
Executing 1 cells batches
Total calculations elapsed time: 0.732293367385864
Estimate `nu`: DONE
`nu` change (abs) | max: 0.417150556912302 | median:  0.240156504520849 | mean:  0.240156504520849
`nu` mean: 0.823005947608547
Marginal errors | max: 0.837672524335755 | median 0.704691669139065 | mean: 0.646575831699997
Estimate `dispersion`: START
Effective number of cores used: 1
Executing 1 genes batches
Parallel dispersion Newton-Raphson: used up to 5 iterations
Total calculations elapsed time: 1.53997468948364
Estimate `dispersion`: DONE
Estimate `dispersion`: DONE
`dispersion` | min: 0.328845855849147 | max: 4.03031691940854 | % negative: 10
Estimate `nu`: START
Effective number of cores used: 1
Executing 1 cells batches
Total calculations elapsed time: 0.770561933517456
Estimate `nu`: DONE
`nu` change (abs) | max: 0.164439840041 | median:  0.0957105992188852 | mean:  0.0957105992188852
`nu` mean: 1.06872924082212
Marginal errors | max: 0.260109847946692 | median 0.21392791155499 | mean: 0.197565106613054
Estimate `dispersion`: START
Effective number of cores used: 1
Executing 1 genes batches
Parallel dispersion Newton-Raphson: used up to 5 iterations
Total calculations elapsed time: 1.47504878044128
Estimate `dispersion`: DONE
Estimate `dispersion`: DONE
`dispersion` | min: 0.229469002841045 | max: 3.87206403670079 | % negative: 10
Estimate `nu`: START
Effective number of cores used: 1
Executing 1 cells batches
Total calculations elapsed time: 0.754291296005249
Estimate `nu`: DONE
`nu` change (abs) | max: 0.05539667181205 | median:  0.0321044921874999 | mean:  0.0321044921874999
`nu` mean: 0.97670782037545
Marginal errors | max: 0.095347789718808 | median 0.0796003827042702 | mean: 0.0725509735761708
Estimate `dispersion`: START
Effective number of cores used: 1
Executing 1 genes batches
Parallel dispersion Newton-Raphson: used up to 5 iterations
Total calculations elapsed time: 1.50633311271667
Estimate `dispersion`: DONE
Estimate `dispersion`: DONE
`dispersion` | min: 0.263830434255107 | max: 3.92953043775907 | % negative: 10
Estimate `nu`: START
Effective number of cores used: 1
Executing 1 cells batches
Total calculations elapsed time: 0.759488344192505
Estimate `nu`: DONE
`nu` change (abs) | max: 0.0196209299693411 | median:  0.0114037947200925 | mean:  0.0114037947200925
`nu` mean: 1.00821713524925
Marginal errors | max: 0.0329495161656741 | median 0.0273479725376324 | mean: 0.025029675152131
Estimate `dispersion`: START
Effective number of cores used: 1
Executing 1 genes batches
Parallel dispersion Newton-Raphson: used up to 5 iterations
Total calculations elapsed time: 1.53213381767273
Estimate `dispersion`: DONE
Estimate `dispersion`: DONE
`dispersion` | min: 0.251734659898779 | max: 3.9096133246649 | % negative: 10
Estimate `nu`: START
Effective number of cores used: 1
Executing 1 cells batches
Total calculations elapsed time: 0.827193021774292
Estimate `nu`: DONE
`nu` change (abs) | max: 0.0069104540740097 | median:  0.0040109538496062 | mean:  0.0040109538496062
`nu` mean: 0.997100499775596
Marginal errors | max: 0.0116950057438405 | median 0.00972280144873849 | mean: 0.00889105008777538
Estimate `dispersion`: START
Effective number of cores used: 1
Executing 1 genes batches
Parallel dispersion Newton-Raphson: used up to 5 iterations
Total calculations elapsed time: 1.62981247901917
Estimate `dispersion`: DONE
Estimate `dispersion`: DONE
`dispersion` | min: 0.256009779031907 | max: 3.91667271750655 | % negative: 10
Estimate `nu`: START
Effective number of cores used: 1
Executing 1 cells batches
Total calculations elapsed time: 0.790046453475952
Estimate `nu`: DONE
`nu` change (abs) | max: 0.00251004753849005 | median:  0.00146484374999994 | mean:  0.00146484374999994
`nu` mean: 1.00104520378849
Marginal errors | max: 0.00430755646112857 | median 0.00358203399504298 | mean: 0.00327684342604062
Estimate `dispersion`: START
Effective number of cores used: 1
Executing 1 genes batches
Parallel dispersion Newton-Raphson: used up to 5 iterations
Total calculations elapsed time: 1.66594910621643
Estimate `dispersion`: DONE
Estimate `dispersion`: DONE
`dispersion` | min: 0.254429717857093 | max: 3.91406908073254 | % negative: 10
Estimate `nu`: START
Effective number of cores used: 1
Executing 1 cells batches
Total calculations elapsed time: 0.833718776702881
Estimate `nu`: DONE
`nu` change (abs) | max: 0.00104629156456748 | median:  0.000592910406456731 | mean:  0.000592910406456731
`nu` mean: 0.999546618841889
Marginal errors | max: 0.00162038706091039 | median 0.00134441676098973 | mean: 0.00123030512553282
Estimate `dispersion`: START
Effective number of cores used: 1
Executing 1 genes batches
Parallel dispersion Newton-Raphson: used up to 5 iterations
Total calculations elapsed time: 1.63861322402954
Estimate `dispersion`: DONE
Estimate `dispersion`: DONE
`dispersion` | min: 0.255022049769696 | max: 3.91504587939868 | % negative: 10
Estimate `nu`: START
Effective number of cores used: 1
Executing 1 cells batches
Total calculations elapsed time: 0.799961090087891
Estimate `nu`: DONE
`nu` change (abs) | max: 0.000418450901304768 | median:  0.000244140625000028 | mean:  0.000244140625000028
`nu` mean: 1.0001743102763
Marginal errors | max: 0.00071569233034019 | median 0.000597297218559056 | mean: 0.00054590699507937
Total calculations elapsed time: 42.2218086719513
Estimate `dispersion`/`nu`: DONE
Estimate `dispersion`/`nu`: START
Initializing `COTAN` meta-data
Genes/cells selection done: dropped [0] genes and [0] cells
Working on [10] genes and [20] cells
Estimate `dispersion`: START
Effective number of cores used: 1
Executing 1 genes batches
Parallel dispersion Newton-Raphson: used up to 5 iterations
Total calculations elapsed time: 1.59010815620422
Estimate `dispersion`: DONE
Estimate `dispersion`: DONE
`dispersion` | min: 0.903596292963576 | max: 4.67949426963453 | % negative: 10
While trying to load the `torch` library Error in doTryCatch(return(expr), name, parentenv, handler): The `torch` library is installed but the required additional libraries are not available yet

Calculate genes' COEX (legacy): START
Retrieving expected genes' contingency table
calculating NN.. done
calculating NY..YN..YY..t().. done
Expected genes' contingency table elapsed time: 2.46592926979065
Calculating genes' COEX normalization factor
Fraction of genes' with very low expected contingency tables: 0.181818181818182
Calculate genes' normalization factor elapsed time: 0.00072169303894043
Retrieving observed genes' yes/yes contingency table
calculating YY.. done
Observed genes' contingency table elapsed time: 0.00300502777099609
Estimating genes' COEX
Calculate genes' COEX elapsed time: 0.831544876098633
Total calculations elapsed time: 3.30120086669922
Calculate genes' COEX (legacy): DONE
Calculate cells' COEX (legacy): START
Retrieving expected cells' contingency table
calculating NN.. done
calculating YN..NY..YY..t().. done
Expected cells' contingency table elapsed time: 2.44017291069031
Calculating cells' COEX normalization factor
Fraction of cells' with very low expected contingency tables: 0
Calculate cells' normalization factor elapsed time: 0.000689029693603516
Retrieving observed cells' yes/yes contingency table
calculating YY.. done
Observed cells' contingency table elapsed time: 0.0021977424621582
Estimating cells' COEX
Calculate cells' COEX elapsed time: 0.821971416473389
Total calculations elapsed time: 3.26503109931946
Calculate cells' COEX (legacy): DONE
Calculate GDI dataframe: START
Using S
Calculating S: START
Calculating S: DONE
Calculate `GDI`: START
Effective number of cores used: 1
Executing 1 genes batches
Total calculations elapsed time: 0.0111477375030518
Calculate `GDI`: DONE
Total calculations elapsed time: 2.55218195915222
Calculate GDI dataframe: DONE
Calculate GDI dataframe: START
Using S
Calculating S: START
Calculating S: DONE
Calculate `GDI`: START
Effective number of cores used: 1
Executing 1 genes batches
Total calculations elapsed time: 0.00307536125183105
Calculate `GDI`: DONE
Total calculations elapsed time: 2.46022510528564
Calculate GDI dataframe: DONE
Included 1 genes with GDI below 1.3
Selected 10 genes using HGDI selector
Running genes' selection: DONE
Running genes' selection: START
Included 1 genes with GDI below 1.3
Selected 10 genes using HGDI selector
Running genes' selection: DONE
Running genes' selection: START
Included 1 genes with GDI below 1.3
Selected 10 genes using HGDI selector
Running genes' selection: DONE
Running genes' selection: START
Selected 5 genes using HGDI selector
Running genes' selection: DONE
Running genes' selection: START
Normalizing layer: counts
Performing log-normalization
0%   10   20   30   40   50   60   70   80   90   100%
[----|----|----|----|----|----|----|----|----|----|
**************************************************|
Finding variable features for layer counts
Calculating gene variances
0%   10   20   30   40   50   60   70   80   90   100%
[----|----|----|----|----|----|----|----|----|----|
**************************************************|
Calculating feature variances of standardized and clipped values
0%   10   20   30   40   50   60   70   80   90   100%
[----|----|----|----|----|----|----|----|----|----|
**************************************************|
Selected 5 genes using HVG_Seurat selector
Running genes' selection: DONE
Running genes' selection: START
Normalizing layer: counts
Performing log-normalization
0%   10   20   30   40   50   60   70   80   90   100%
[----|----|----|----|----|----|----|----|----|----|
**************************************************|
Finding variable features for layer data
Calculating gene means
0%   10   20   30   40   50   60   70   80   90   100%
[----|----|----|----|----|----|----|----|----|----|
**************************************************|
Calculating gene variance to mean ratios
0%   10   20   30   40   50   60   70   80   90   100%
[----|----|----|----|----|----|----|----|----|----|
**************************************************|
Running genes' selection: START
Given 5 genes as input
Running genes' selection: DONE
Elaborating Reduced dimensionality Data Matrix - START
Running genes' selection: START
Included 1 genes with GDI below 1.3
Selected 10 genes using HGDI selector
Running genes' selection: DONE
Elaborating PCA - START
Elaborating PCA - DONE
Total calculations elapsed time: 1.95378065109253
Elaborating Reduced dimensionality Data Matrix - DONE
Elaborating Reduced dimensionality Data Matrix - START
Running genes' selection: START
Included 1 genes with GDI below 1.3
Selected 10 genes using HGDI selector
Running genes' selection: DONE
Elaborating PCA - START
Elaborating PCA - DONE
Total calculations elapsed time: 1.85793590545654
Elaborating Reduced dimensionality Data Matrix - DONE
Elaborating Reduced dimensionality Data Matrix - START
Running genes' selection: START
Selected 8 genes using HGDI selector
Running genes' selection: DONE
Elaborating PCA - START
Elaborating PCA - DONE
Total calculations elapsed time: 1.8772394657135
Elaborating Reduced dimensionality Data Matrix - DONE
Elaborating Reduced dimensionality Data Matrix - START
Running genes' selection: START
Normalizing layer: counts
Performing log-normalization
0%   10   20   30   40   50   60   70   80   90   100%
[----|----|----|----|----|----|----|----|----|----|
**************************************************|
Finding variable features for layer counts
Calculating gene variances
0%   10   20   30   40   50   60   70   80   90   100%
[----|----|----|----|----|----|----|----|----|----|
**************************************************|
Calculating feature variances of standardized and clipped values
0%   10   20   30   40   50   60   70   80   90   100%
[----|----|----|----|----|----|----|----|----|----|
**************************************************|
Selected 8 genes using HVG_Seurat selector
Running genes' selection: DONE
Elaborating PCA - START
Elaborating PCA - DONE
Total calculations elapsed time: 2.91510319709778
Elaborating Reduced dimensionality Data Matrix - DONE
Elaborating Reduced dimensionality Data Matrix - START
Elaborating COEX Eigen Vectors - START
Elaborating COEX Eigen Vectors - DONE
Total calculations elapsed time: 2.75722002983093
Elaborating Reduced dimensionality Data Matrix - DONE
Elaborating Reduced dimensionality Data Matrix - START
Elaborating COEX Eigen Vectors - START
Elaborating COEX Eigen Vectors - DONE
Total calculations elapsed time: 2.75417447090149
Elaborating Reduced dimensionality Data Matrix - DONE
Initializing `COTAN` meta-data
Initializing `COTAN` meta-data
Genes/cells selection done: dropped [0] genes and [0] cells
Working on [10] genes and [20] cells
Estimate `dispersion`/`nu`: START
Estimate `dispersion`: START
Effective number of cores used: 1
Executing 1 genes batches
Parallel dispersion Newton-Raphson: used up to 5 iterations
Total calculations elapsed time: 2.00861620903015
Estimate `dispersion`: DONE
Estimate `dispersion`: DONE
`dispersion` | min: 0.903596292963576 | max: 4.67949426963453 | % negative: 10
Estimate `nu`: START
Effective number of cores used: 1
Executing 1 cells batches
Total calculations elapsed time: 1.04555821418762
Estimate `nu`: DONE
`nu` change (abs) | max: 1.75719246031746 | median:  1.07229953342014 | mean:  1.07229953342014
`nu` mean: 1.68489292689732
Marginal errors | max: 1.735699617106 | median 1.37997441333659 | mean: 1.32181397451301
Estimate `dispersion`: START
Effective number of cores used: 1
Executing 1 genes batches
Parallel dispersion Newton-Raphson: used up to 5 iterations
Total calculations elapsed time: 2.15533971786499
Estimate `dispersion`: DONE
Estimate `dispersion`: DONE
`dispersion` | min: 0.0655494303592343 | max: 3.54400580804152 | % negative: 10
Estimate `nu`: START
Effective number of cores used: 1
Executing 1 cells batches
Total calculations elapsed time: 0.881489992141724
Estimate `nu`: DONE
`nu` change (abs) | max: 0.402649984216273 | median:  0.231868788425666 | mean:  0.231868788425666
`nu` mean: 0.829218804209393
Marginal errors | max: 0.803248939260364 | median 0.677504196374571 | mean: 0.619386446933351
Estimate `dispersion`: START
Effective number of cores used: 1
Executing 1 genes batches
Parallel dispersion Newton-Raphson: used up to 5 iterations
Total calculations elapsed time: 1.94422554969788
Estimate `dispersion`: DONE
Estimate `dispersion`: DONE
`dispersion` | min: 0.326019058449519 | max: 4.02612397202046 | % negative: 10
Estimate `nu`: START
Effective number of cores used: 1
Executing 1 cells batches
Total calculations elapsed time: 0.937538862228394
Estimate `nu`: DONE
`nu` change (abs) | max: 0.158004893526231 | median:  0.0919692884670312 | mean:  0.0919692884670312
`nu` mean: 1.0660356050592
Marginal errors | max: 0.25067700287536 | median 0.206241644985115 | mean: 0.190402167377958
Estimate `dispersion`: START
Effective number of cores used: 1
Executing 1 genes batches
Parallel dispersion Newton-Raphson: used up to 5 iterations
Total calculations elapsed time: 1.81205153465271
Estimate `dispersion`: DONE
Estimate `dispersion`: DONE
`dispersion` | min: 0.230397316576369 | max: 3.87365659194104 | % negative: 10
Estimate `nu`: START
Effective number of cores used: 1
Executing 1 cells batches
Total calculations elapsed time: 0.99760365486145
Estimate `nu`: DONE
`nu` change (abs) | max: 0.0532774732102337 | median:  0.0308837890624999 | mean:  0.0308837890624999
`nu` mean: 0.977606315852266
Marginal errors | max: 0.0916920322976189 | median 0.0765360853958175 | mean: 0.0697673030094085
Estimate `dispersion`: START
Effective number of cores used: 1
Executing 1 genes batches
Parallel dispersion Newton-Raphson: used up to 5 iterations
Total calculations elapsed time: 2.26103472709656
Estimate `dispersion`: DONE
Estimate `dispersion`: DONE
`dispersion` | min: 0.263457616228195 | max: 3.928924407347 | % negative: 10
Estimate `nu`: START
Effective number of cores used: 1
Executing 1 cells batches
Total calculations elapsed time: 0.93192720413208
Estimate `nu`: DONE
`nu` change (abs) | max: 0.0187878665732679 | median:  0.0109155550210726 | mean:  0.0109155550210726
`nu` mean: 1.0078723115522
Marginal errors | max: 0.0315207323253404 | median 0.0261635598193228 | mean: 0.0239435763640456
Estimate `dispersion`: START
Effective number of cores used: 1
Executing 1 genes batches
Parallel dispersion Newton-Raphson: used up to 5 iterations
Total calculations elapsed time: 2.42905640602112
Estimate `dispersion`: DONE
Estimate `dispersion`: DONE
`dispersion` | min: 0.251890641847533 | max: 3.90987172241566 | % negative: 10
Estimate `nu`: START
Effective number of cores used: 1
Executing 1 cells batches
Total calculations elapsed time: 0.89246654510498
Estimate `nu`: DONE
`nu` change (abs) | max: 0.00649137083358098 | median:  0.00376680890457393 | mean:  0.00376680890457393
`nu` mean: 0.997275438070993
Marginal errors | max: 0.0109748802265024 | median 0.00912386940474796 | mean: 0.00834350038184244
Estimate `dispersion`: START
Effective number of cores used: 1
Executing 1 genes batches
Parallel dispersion Newton-Raphson: used up to 5 iterations
Total calculations elapsed time: 1.78901314735413
Estimate `dispersion`: DONE
Estimate `dispersion`: DONE
`dispersion` | min: 0.255902752363649 | max: 3.91649655995187 | % negative: 10
Estimate `nu`: START
Effective number of cores used: 1
Executing 1 cells batches
Total calculations elapsed time: 1.04739379882812
Estimate `nu`: DONE
`nu` change (abs) | max: 0.00230094227000666 | median:  0.00132529141000018 | mean:  0.00132529141000018
`nu` mean: 1.00097565086001
Marginal errors | max: 0.00376864912836616 | median 0.00313421412286008 | mean: 0.00286709489297579
Estimate `dispersion`: START
Effective number of cores used: 1
Executing 1 genes batches
Parallel dispersion Newton-Raphson: used up to 5 iterations
Total calculations elapsed time: 2.2242066860199
Estimate `dispersion`: DONE
Estimate `dispersion`: DONE
`dispersion` | min: 0.254520292119112 | max: 3.91421850264948 | % negative: 10
Estimate `nu`: START
Effective number of cores used: 1
Executing 1 cells batches
Total calculations elapsed time: 1.07710266113281
Estimate `nu`: DONE
`nu` change (abs) | max: 0.000837013154366462 | median:  0.000488281250000028 | mean:  0.000488281250000028
`nu` mean: 0.999651268095634
Marginal errors | max: 0.00144055320514802 | median 0.00119489364392944 | mean: 0.00109355439757213
Estimate `dispersion`: START
Effective number of cores used: 1
Executing 1 genes batches
Parallel dispersion Newton-Raphson: used up to 5 iterations
Total calculations elapsed time: 1.71599364280701
Estimate `dispersion`: DONE
Estimate `dispersion`: DONE
`dispersion` | min: 0.255046800817986 | max: 3.9150866760965 | % negative: 10
Estimate `nu`: START
Effective number of cores used: 1
Executing 1 cells batches
Total calculations elapsed time: 0.833510160446167
Estimate `nu`: DONE
`nu` change (abs) | max: 0.000418448154490214 | median:  0.000244140624999917 | mean:  0.000244140624999917
`nu` mean: 1.00017430752949
Marginal errors | max: 0.000715683388516908 | median 0.0005972847342397 | mean: 0.00054589991652243
Total calculations elapsed time: 53.3102390766144
Estimate `dispersion`/`nu`: DONE
While trying to load the `torch` library Error in doTryCatch(return(expr), name, parentenv, handler): The `torch` library is installed but the required additional libraries are not available yet

Calculate genes' COEX (legacy): START
Retrieving expected genes' contingency table
calculating NN.. done
calculating NY..YN..YY..t().. done
Expected genes' contingency table elapsed time: 2.62196922302246
Calculating genes' COEX normalization factor
Calculate genes' normalization factor elapsed time: 0.000562906265258789
Retrieving observed genes' yes/yes contingency table
calculating YY.. done
Observed genes' contingency table elapsed time: 0.00138664245605469
Estimating genes' COEX
Calculate genes' COEX elapsed time: 0.946861267089844
Total calculations elapsed time: 3.57078003883362
Calculate genes' COEX (legacy): DONE
Calculate cells' COEX (legacy): START
Retrieving expected cells' contingency table
calculating NN.. done
calculating YN..NY..YY..t().. done
Expected cells' contingency table elapsed time: 2.80810713768005
Calculating cells' COEX normalization factor
Calculate cells' normalization factor elapsed time: 0.000600576400756836
Retrieving observed cells' yes/yes contingency table
calculating YY.. done
Observed cells' contingency table elapsed time: 0.00153517723083496
Estimating cells' COEX
Calculate cells' COEX elapsed time: 1.0255913734436
Total calculations elapsed time: 3.83583426475525
Calculate cells' COEX (legacy): DONE
Calculate GDI dataframe: START
Using S
Calculating S: START
Calculating S: DONE
Calculate `GDI`: START
Effective number of cores used: 1
Executing 1 genes batches
Total calculations elapsed time: 0.00318241119384766
Calculate `GDI`: DONE
Total calculations elapsed time: 3.15855288505554
Calculate GDI dataframe: DONE
Calculate genes' partial COEX: START
Retrieving expected genes' partial contingency table
calculating partial NN.. done
calculating partial NY..YN..YY.. done
Calculating genes' partial COEX normalization factor
Fraction of genes with very low expected contingency tables: 0.325
Retrieving observed genes' yes/yes partial contingency table
calculating partial YY.. done
Estimating genes' partial COEX
Total calculations elapsed time: 7.22738814353943
Calculate genes' partial COEX: DONE
Calculate cells' partial COEX: START
Retrieving expected cells' partial contingency table
calculating partial NN.. done
calculating partial YN..NY..YY.. done
Calculating cells' partial COEX normalization factor
Fraction of genes with very low expected contingency tables: 0
Retrieving observed cells' yes/yes partial contingency table
calculating partial YY.. done
Estimating cells' partial COEX
Total calculations elapsed time: 7.30763506889343
Calculate cells' partial COEX: DONE
Asked to drop 2 genes and 0 cells
Asked to drop 0 genes and 4 cells
Asked to drop 2 genes and 2 cells

Attaching package: 'rlang'

The following objects are masked from 'package:testthat':

    is_false, is_null, is_true

Genes/cells selection done: dropped [0] genes and [0] cells
Working on [10] genes and [20] cells
calculating YY.. done
calculating YY.. done
calculating YN..NY..NN..t().. done
Estimate `dispersion`: START
Effective number of cores used: 1
Executing 3 genes batches
Parallel dispersion Newton-Raphson: used up to 5 iterations
Parallel dispersion Newton-Raphson: used up to 5 iterations
Parallel dispersion Newton-Raphson: used up to 5 iterations
Total calculations elapsed time: 3.51349711418152
Estimate `dispersion`: DONE
Estimate `dispersion`: DONE
`dispersion` | min: 0.903596292963576 | max: 4.67949426963453 | % negative: 10
calculating NN.. done
calculating NN.. done
calculating NY..YN..YY..t().. done
Calculate genes' COEX (legacy): START
Retrieving expected genes' contingency table
calculating NN.. done
calculating NY..YN..YY..t().. done
Expected genes' contingency table elapsed time: 2.57440209388733
Calculating genes' COEX normalization factor
Fraction of genes' with very low expected contingency tables: 0.181818181818182
Calculate genes' normalization factor elapsed time: 0.000730514526367188
Retrieving observed genes' yes/yes contingency table
calculating YY.. done
Observed genes' contingency table elapsed time: 0.00139951705932617
Estimating genes' COEX
Calculate genes' COEX elapsed time: 0.860940933227539
Total calculations elapsed time: 3.43747305870056
Calculate genes' COEX (legacy): DONE
While trying to load the `torch` library Error in doTryCatch(return(expr), name, parentenv, handler): The `torch` library is installed but the required additional libraries are not available yet

Calculate genes' COEX (legacy): START
Retrieving expected genes' contingency table
calculating NN.. done
calculating NY..YN..YY..t().. done
Expected genes' contingency table elapsed time: 3.20950722694397
Calculating genes' COEX normalization factor
Calculate genes' normalization factor elapsed time: 0.000686407089233398
Retrieving observed genes' yes/yes contingency table
calculating YY.. done
Observed genes' contingency table elapsed time: 0.00182819366455078
Estimating genes' COEX
Calculate genes' COEX elapsed time: 1.07707214355469
Total calculations elapsed time: 4.28909397125244
Calculate genes' COEX (legacy): DONE
Calculate genes' partial COEX: START
Retrieving expected genes' partial contingency table
calculating partial NN.. done
calculating partial NY..YN..YY.. done
Calculating genes' partial COEX normalization factor
Fraction of genes with very low expected contingency tables: 0.1
Retrieving observed genes' yes/yes partial contingency table
calculating partial YY.. done
Estimating genes' partial COEX
Total calculations elapsed time: 6.87528705596924
Calculate genes' partial COEX: DONE
Calculate genes' partial COEX: START
Retrieving expected genes' partial contingency table
calculating partial NN.. done
calculating partial NY..YN..YY.. done
Calculating genes' partial COEX normalization factor
Fraction of genes with very low expected contingency tables: 0.4
Retrieving observed genes' yes/yes partial contingency table
calculating partial YY.. done
Estimating genes' partial COEX
Total calculations elapsed time: 7.21003866195679
Calculate genes' partial COEX: DONE
Genes/cells selection done: dropped [0] genes and [0] cells
Working on [10] genes and [20] cells
calculating YY.. done
calculating YY.. done
calculating NY..YN..NN..t().. done
Estimate `dispersion`/`nu`: START
Estimate `dispersion`: START
Effective number of cores used: 1
Executing 3 genes batches
Parallel dispersion Newton-Raphson: used up to 5 iterations
Parallel dispersion Newton-Raphson: used up to 5 iterations
Parallel dispersion Newton-Raphson: used up to 5 iterations
Total calculations elapsed time: 3.44822525978088
Estimate `dispersion`: DONE
Estimate `dispersion`: DONE
`dispersion` | min: 0.903596292963576 | max: 4.67949426963453 | % negative: 10
Estimate `nu`: START
Effective number of cores used: 1
Executing 5 cells batches
Total calculations elapsed time: 1.08931708335876
Estimate `nu`: DONE
`nu` change (abs) | max: 1.75719246031746 | median:  1.07229953342014 | mean:  1.07229953342014
`nu` mean: 1.68489292689732
Marginal errors | max: 0.255290533439036 | median 0.080731376500534 | mean: 0.101968565509112
Estimate `dispersion`: START
Effective number of cores used: 1
Executing 3 genes batches
Parallel dispersion Newton-Raphson: used up to 5 iterations
Parallel dispersion Newton-Raphson: used up to 5 iterations
Parallel dispersion Newton-Raphson: used up to 5 iterations
Total calculations elapsed time: 4.69038367271423
Estimate `dispersion`: DONE
Estimate `dispersion`: DONE
`dispersion` | min: 1.03709166563768 | max: 4.61069655774133 | % negative: 10
Estimate `nu`: START
Effective number of cores used: 1
Executing 5 cells batches
Total calculations elapsed time: 1.13230848312378
Estimate `nu`: DONE
`nu` change (abs) | max: 0.0273438105507502 | median:  0.0148852611818011 | mean:  0.0148852611818011
`nu` mean: 1.69735147626627
Marginal errors | max: 0.00330148418741594 | median 0.00111713187082163 | mean: 0.00132007186542964
Estimate `dispersion`: START
Effective number of cores used: 1
Executing 3 genes batches
Parallel dispersion Newton-Raphson: used up to 5 iterations
Parallel dispersion Newton-Raphson: used up to 5 iterations
Parallel dispersion Newton-Raphson: used up to 5 iterations
Total calculations elapsed time: 3.77722263336182
Estimate `dispersion`: DONE
Estimate `dispersion`: DONE
`dispersion` | min: 1.03887279473672 | max: 4.60974134092906 | % negative: 10
Estimate `nu`: START
Effective number of cores used: 1
Executing 5 cells batches
Total calculations elapsed time: 1.08486318588257
Estimate `nu`: DONE
`nu` change (abs) | max: 0 | median:  0 | mean:  0
`nu` mean: 1.69735147626627
Marginal errors | max: 5.14174422185931e-05 | median 1.6818224857218e-07 | mean: 5.57649710835051e-06
Total calculations elapsed time: 26.0160615444183
Estimate `dispersion`/`nu`: DONE
calculating NN.. done
calculating NN.. done
calculating YN..NY..YY..t().. done
Calculate cells' COEX (legacy): START
Retrieving expected cells' contingency table
calculating NN.. done
calculating YN..NY..YY..t().. done
Expected cells' contingency table elapsed time: 3.35277724266052
Calculating cells' COEX normalization factor
Fraction of cells' with very low expected contingency tables: 0
Calculate cells' normalization factor elapsed time: 0.000765323638916016
Retrieving observed cells' yes/yes contingency table
calculating YY.. done
Observed cells' contingency table elapsed time: 0.00151300430297852
Estimating cells' COEX
Calculate cells' COEX elapsed time: 1.164879322052
Total calculations elapsed time: 4.51993489265442
Calculate cells' COEX (legacy): DONE
Calculate cells' partial COEX: START
Retrieving expected cells' partial contingency table
calculating partial NN.. done
calculating partial YN..NY..YY.. done
Calculating cells' partial COEX normalization factor
Fraction of genes with very low expected contingency tables: 0
Retrieving observed cells' yes/yes partial contingency table
calculating partial YY.. done
Estimating cells' partial COEX
Total calculations elapsed time: 9.20117545127869
Calculate cells' partial COEX: DONE
Calculate cells' partial COEX: START
Retrieving expected cells' partial contingency table
calculating partial NN.. done
calculating partial YN..NY..YY.. done
Calculating cells' partial COEX normalization factor
Fraction of genes with very low expected contingency tables: 0
Retrieving observed cells' yes/yes partial contingency table
calculating partial YY.. done
Estimating cells' partial COEX
Total calculations elapsed time: 8.21708106994629
Calculate cells' partial COEX: DONE
Genes/cells selection done: dropped [0] genes and [0] cells
Working on [10] genes and [20] cells
Estimate `dispersion`/`nu`: START
Estimate `dispersion`: START
Effective number of cores used: 1
Executing 3 genes batches
Parallel dispersion Newton-Raphson: used up to 5 iterations
Parallel dispersion Newton-Raphson: used up to 5 iterations
Parallel dispersion Newton-Raphson: used up to 5 iterations
Total calculations elapsed time: 3.18797993659973
Estimate `dispersion`: DONE
Estimate `dispersion`: DONE
`dispersion` | min: 0.903596292963576 | max: 4.67949426963453 | % negative: 10
Estimate `nu`: START
Effective number of cores used: 1
Executing 5 cells batches
Total calculations elapsed time: 0.813103437423706
Estimate `nu`: DONE
`nu` change (abs) | max: 1.75719246031746 | median:  1.07229953342014 | mean:  1.07229953342014
`nu` mean: 1.68489292689732
Marginal errors | max: 0.255290533439036 | median 0.080731376500534 | mean: 0.101968565509112
Estimate `dispersion`: START
Effective number of cores used: 1
Executing 3 genes batches
Parallel dispersion Newton-Raphson: used up to 5 iterations
Parallel dispersion Newton-Raphson: used up to 5 iterations
Parallel dispersion Newton-Raphson: used up to 5 iterations
Total calculations elapsed time: 4.12023425102234
Estimate `dispersion`: DONE
Estimate `dispersion`: DONE
`dispersion` | min: 1.03709166563768 | max: 4.61069655774133 | % negative: 10
Estimate `nu`: START
Effective number of cores used: 1
Executing 5 cells batches
Total calculations elapsed time: 1.08820390701294
Estimate `nu`: DONE
`nu` change (abs) | max: 0.0273438105507502 | median:  0.0148852611818011 | mean:  0.0148852611818011
`nu` mean: 1.69735147626627
Marginal errors | max: 0.00330148418741594 | median 0.00111713187082163 | mean: 0.00132007186542964
Estimate `dispersion`: START
Effective number of cores used: 1
Executing 3 genes batches
Parallel dispersion Newton-Raphson: used up to 5 iterations
Parallel dispersion Newton-Raphson: used up to 5 iterations
Parallel dispersion Newton-Raphson: used up to 5 iterations
Total calculations elapsed time: 4.81624317169189
Estimate `dispersion`: DONE
Estimate `dispersion`: DONE
`dispersion` | min: 1.03887279473672 | max: 4.60974134092906 | % negative: 10
Estimate `nu`: START
Effective number of cores used: 1
Executing 5 cells batches
Total calculations elapsed time: 0.881768703460693
Estimate `nu`: DONE
`nu` change (abs) | max: 0 | median:  0 | mean:  0
`nu` mean: 1.69735147626627
Marginal errors | max: 5.14174422185931e-05 | median 1.6818224857218e-07 | mean: 5.57649710835051e-06
Total calculations elapsed time: 23.1119706630707
Estimate `dispersion`/`nu`: DONE
Calculate genes' COEX (legacy): START
Retrieving expected genes' contingency table
calculating NN.. done
calculating NY..YN..YY..t().. done
Expected genes' contingency table elapsed time: 3.0523829460144
Calculating genes' COEX normalization factor
Calculate genes' normalization factor elapsed time: 0.000746965408325195
Retrieving observed genes' yes/yes contingency table
calculating YY.. done
Observed genes' contingency table elapsed time: 0.00195837020874023
Estimating genes' COEX
Calculate genes' COEX elapsed time: 1.11959838867188
Total calculations elapsed time: 4.17468667030334
Calculate genes' COEX (legacy): DONE
Calculating S: START
Calculating S: DONE
Calculating G: START
calculating YY.. done
calculating YN..NY..NN..t().. done
calculating NN.. done
calculating NY..YN..YY..t().. done
Estimating G
Total calculations elapsed time: 7.76268005371094
Calculating G: DONE
Using S
Calculating S: START
Calculating S: DONE
calculating PValues: START
Get p-values genome wide on columns and genome wide on rows
Total calculations elapsed time: 0.00248146057128906
calculating PValues: DONE
Using G
Calculating G: START
calculating YY.. done
calculating YN..NY..NN..t().. done
calculating NN.. done
calculating NY..YN..YY..t().. done
Estimating G
Total calculations elapsed time: 7.69982409477234
Calculating G: DONE
calculating PValues: START
Get p-values on a set of genes on columns and on a set of genes on rows
Total calculations elapsed time: 7.70117211341858
calculating PValues: DONE
Calculate GDI dataframe: START
Using S
Calculating S: START
Calculating S: DONE
Calculate `GDI`: START
Effective number of cores used: 1
Executing 1 genes batches
Total calculations elapsed time: 0.00310063362121582
Calculate `GDI`: DONE
Total calculations elapsed time: 3.01043391227722
Calculate GDI dataframe: DONE
Calculate GDI dataframe: START
Using G
Calculating G: START
calculating YY.. done
calculating YN..NY..NN..t().. done
calculating NN.. done
calculating NY..YN..YY..t().. done
Estimating G
Total calculations elapsed time: 8.36340045928955
Calculating G: DONE
Calculate `GDI`: START
Effective number of cores used: 1
Executing 1 genes batches
Total calculations elapsed time: 0.00462055206298828
Calculate `GDI`: DONE
Total calculations elapsed time: 12.0940413475037
Calculate GDI dataframe: DONE
Calculate `GDI`: START
Calculating S: START
Calculating S: DONE
Effective number of cores used: 1
Executing 1 genes batches
Total calculations elapsed time: 0.00543093681335449
Calculate `GDI`: DONE
Calculate `GDI`: START
Effective number of cores used: 1
Executing 1 genes batches
Total calculations elapsed time: 0.00411796569824219
Calculate `GDI`: DONE
Initializing `COTAN` meta-data
COTAN dataset analysis: START
Genes/cells selection done: dropped [0] genes and [0] cells
Working on [600] genes and [1000] cells
Dataset cleaning elapsed time: 1.09659290313721
Estimate `dispersion`: START
Effective number of cores used: 1
Executing 1 genes batches
Parallel dispersion Newton-Raphson: used up to 7 iterations
Total calculations elapsed time: 2.44141125679016
Estimate `dispersion`: DONE
Estimate `dispersion`: DONE
`dispersion` | min: -0.0529252975916502 | max: 462.908586418992 | % negative: 17.3333333333333
Model parameter estimation elapsed time: 3.87557530403137
COTAN genes' COEX estimation: START
While trying to load the `torch` library Error in doTryCatch(return(expr), name, parentenv, handler): The `torch` library is installed but the required additional libraries are not available yet

Calculate genes' COEX (legacy): START
Retrieving expected genes' contingency table
calculating NN.. done
calculating NY..YN..YY..t().. done
Expected genes' contingency table elapsed time: 3.9128565788269
Calculating genes' COEX normalization factor
Calculate genes' normalization factor elapsed time: 0.00816011428833008
Retrieving observed genes' yes/yes contingency table
calculating YY.. done
Observed genes' contingency table elapsed time: 0.0644736289978027
Estimating genes' COEX
Calculate genes' COEX elapsed time: 1.00900506973267
Total calculations elapsed time: 4.9944953918457
Calculate genes' COEX (legacy): DONE
Only genes' COEX elapsed time: 6.03875517845154
Dataset analysis elapsed time: 11.0109233856201
COTAN dataset analysis: DONE
Initializing `COTAN` meta-data
Condition test
n cells 1000
COTAN dataset analysis: START
Genes/cells selection done: dropped [0] genes and [0] cells
Working on [600] genes and [1000] cells
Dataset cleaning elapsed time: 0.83916711807251
Estimate `dispersion`: START
Effective number of cores used: 1
Executing 1 genes batches
Parallel dispersion Newton-Raphson: used up to 7 iterations
Total calculations elapsed time: 1.8342764377594
Estimate `dispersion`: DONE
Estimate `dispersion`: DONE
`dispersion` | min: -0.0529252975916502 | max: 462.908586418992 | % negative: 17.3333333333333
Model parameter estimation elapsed time: 2.60235691070557
COTAN genes' COEX estimation: START
While trying to load the `torch` library Error in doTryCatch(return(expr), name, parentenv, handler): The `torch` library is installed but the required additional libraries are not available yet

Calculate genes' COEX (legacy): START
Retrieving expected genes' contingency table
calculating NN.. done
calculating NY..YN..YY..t().. done
Expected genes' contingency table elapsed time: 2.91860556602478
Calculating genes' COEX normalization factor
Calculate genes' normalization factor elapsed time: 0.0059049129486084
Retrieving observed genes' yes/yes contingency table
calculating YY.. done
Observed genes' contingency table elapsed time: 0.0615384578704834
Estimating genes' COEX
Calculate genes' COEX elapsed time: 1.16528248786926
Total calculations elapsed time: 4.15133142471313
Calculate genes' COEX (legacy): DONE
Only genes' COEX elapsed time: 5.27869606018066
Dataset analysis elapsed time: 8.72022008895874
COTAN dataset analysis: DONE
Using S
Calculating S: START
Calculating S: DONE
calculating PValues: START
Get p-values on a set of genes on columns and on a set of genes on rows
Total calculations elapsed time: 0.0218946933746338
calculating PValues: DONE
Calculate GDI dataframe: START
Using S
Calculating S: START
Calculating S: DONE
Calculate `GDI`: START
Effective number of cores used: 1
Executing 1 genes batches
Total calculations elapsed time: 0.032158374786377
Calculate `GDI`: DONE
Total calculations elapsed time: 2.96005249023438
Calculate GDI dataframe: DONE
Initializing `COTAN` meta-data
Condition test
n cells 1000
COTAN dataset analysis: START
Genes/cells selection done: dropped [0] genes and [0] cells
Working on [600] genes and [1000] cells
Dataset cleaning elapsed time: 1.02748703956604
Estimate `dispersion`: START
Effective number of cores used: 1
Executing 1 genes batches
Parallel dispersion Newton-Raphson: used up to 7 iterations
Total calculations elapsed time: 2.32324266433716
Estimate `dispersion`: DONE
Estimate `dispersion`: DONE
`dispersion` | min: -0.0529252975916502 | max: 462.908586418992 | % negative: 17.3333333333333
Model parameter estimation elapsed time: 3.43286681175232
COTAN genes' COEX estimation: START
While trying to load the `torch` library Error in doTryCatch(return(expr), name, parentenv, handler): The `torch` library is installed but the required additional libraries are not available yet

Calculate genes' COEX (legacy): START
Retrieving expected genes' contingency table
calculating NN.. done
calculating NY..YN..YY..t().. done
Expected genes' contingency table elapsed time: 3.17551279067993
Calculating genes' COEX normalization factor
Calculate genes' normalization factor elapsed time: 0.00577402114868164
Retrieving observed genes' yes/yes contingency table
calculating YY.. done
Observed genes' contingency table elapsed time: 0.0618593692779541
Estimating genes' COEX
Calculate genes' COEX elapsed time: 0.972633838653564
Total calculations elapsed time: 4.21578001976013
Calculate genes' COEX (legacy): DONE
Only genes' COEX elapsed time: 5.29510498046875
Dataset analysis elapsed time: 9.75545883178711
COTAN dataset analysis: DONE
Using S
Calculating S: START
Calculating S: DONE
calculating PValues: START
Get p-values on a set of genes on columns and genome wide on rows
Total calculations elapsed time: 0.0153186321258545
calculating PValues: DONE
Calculate GDI dataframe: START
Using S
Calculating S: START
Calculating S: DONE
Calculate `GDI`: START
Effective number of cores used: 1
Executing 1 genes batches
Total calculations elapsed time: 0.0306143760681152
Calculate `GDI`: DONE
Total calculations elapsed time: 3.25456428527832
Calculate GDI dataframe: DONE
Initializing `COTAN` meta-data
Condition test
n cells 1000
COTAN dataset analysis: START
Genes/cells selection done: dropped [0] genes and [0] cells
Working on [600] genes and [1000] cells
Dataset cleaning elapsed time: 1.23373937606812
Estimate `dispersion`: START
Effective number of cores used: 1
Executing 1 genes batches
Parallel dispersion Newton-Raphson: used up to 7 iterations
Total calculations elapsed time: 2.63676905632019
Estimate `dispersion`: DONE
Estimate `dispersion`: DONE
`dispersion` | min: -0.0529252975916502 | max: 462.908586418992 | % negative: 17.3333333333333
Model parameter estimation elapsed time: 3.96042084693909
COTAN genes' COEX estimation: START
While trying to load the `torch` library Error in doTryCatch(return(expr), name, parentenv, handler): The `torch` library is installed but the required additional libraries are not available yet

Calculate genes' COEX (legacy): START
Retrieving expected genes' contingency table
calculating NN.. done
calculating NY..YN..YY..t().. done
Expected genes' contingency table elapsed time: 5.53657150268555
Calculating genes' COEX normalization factor
Calculate genes' normalization factor elapsed time: 0.00906825065612793
Retrieving observed genes' yes/yes contingency table
calculating YY.. done
Observed genes' contingency table elapsed time: 0.0665903091430664
Estimating genes' COEX
Calculate genes' COEX elapsed time: 1.30183935165405
Total calculations elapsed time: 6.91406941413879
Calculate genes' COEX (legacy): DONE
Only genes' COEX elapsed time: 8.164470911026
Dataset analysis elapsed time: 13.3586311340332
COTAN dataset analysis: DONE
Using S
Calculating S: START
Calculating S: DONE
calculating PValues: START
Get p-values on a set of genes on columns and on a set of genes on rows
Total calculations elapsed time: 0.00619101524353027
calculating PValues: DONE
Calculate GDI dataframe: START
Using S
Calculating S: START
Calculating S: DONE
Calculate `GDI`: START
Effective number of cores used: 1
Executing 1 genes batches
Total calculations elapsed time: 0.0337176322937012
Calculate `GDI`: DONE
Total calculations elapsed time: 3.98934125900269
Calculate GDI dataframe: DONE
Initializing `COTAN` meta-data
Asked to drop 0 genes and 960 cells
COTAN dataset analysis: START
Asked to drop 83 genes and 0 cells
Genes/cells selection done: dropped [83] genes and [0] cells
Working on [517] genes and [40] cells
Dataset cleaning elapsed time: 1.40396118164062
Estimate `dispersion`: START
Effective number of cores used: 1
Executing 1 genes batches
Parallel dispersion Newton-Raphson: used up to 7 iterations
Total calculations elapsed time: 2.40049171447754
Estimate `dispersion`: DONE
Estimate `dispersion`: DONE
`dispersion` | min: -0.267567793681876 | max: 101.923257389521 | % negative: 52.6112185686654
Model parameter estimation elapsed time: 3.48634243011475
COTAN genes' COEX estimation not requested
Only genes' COEX elapsed time: 1.44120383262634
Dataset analysis elapsed time: 6.33150744438171
COTAN dataset analysis: DONE
Calculate genes' COEX (legacy): START
Retrieving expected genes' contingency table
calculating NN.. done
calculating NY..YN..YY..t().. done
Expected genes' contingency table elapsed time: 3.51900029182434
Calculating genes' COEX normalization factor
Calculate genes' normalization factor elapsed time: 0.00564146041870117
Retrieving observed genes' yes/yes contingency table
calculating YY.. done
Observed genes' contingency table elapsed time: 0.0129034519195557
Estimating genes' COEX
Calculate genes' COEX elapsed time: 1.35591149330139
Total calculations elapsed time: 4.89345669746399
Calculate genes' COEX (legacy): DONE
While trying to load the `torch` library Error in doTryCatch(return(expr), name, parentenv, handler): The `torch` library is installed but the required additional libraries are not available yet

Calculate genes' COEX (legacy): START
Retrieving expected genes' contingency table
calculating NN.. done
calculating NY..YN..YY..t().. done
Expected genes' contingency table elapsed time: 3.87328696250916
Calculating genes' COEX normalization factor
Calculate genes' normalization factor elapsed time: 0.00572729110717773
Retrieving observed genes' yes/yes contingency table
calculating YY.. done
Observed genes' contingency table elapsed time: 0.0129244327545166
Estimating genes' COEX
Calculate genes' COEX elapsed time: 1.37555909156799
Total calculations elapsed time: 5.26749777793884
Calculate genes' COEX (legacy): DONE
While trying to load the `torch` library Error in doTryCatch(return(expr), name, parentenv, handler): The `torch` library is installed but the required additional libraries are not available yet

Calculate genes' COEX (legacy): START
Retrieving expected genes' contingency table
calculating NN.. done
calculating NY..YN..YY..t().. done
Expected genes' contingency table elapsed time: 3.64990305900574
Calculating genes' COEX normalization factor
Calculate genes' normalization factor elapsed time: 0.0060577392578125
Retrieving observed genes' yes/yes contingency table
calculating YY.. done
Observed genes' contingency table elapsed time: 0.0132780075073242
Estimating genes' COEX
Calculate genes' COEX elapsed time: 1.21489834785461
Total calculations elapsed time: 4.88413715362549
Calculate genes' COEX (legacy): DONE
Hangling COTAN object with condition: test
Using S
Calculating S: START
Calculating S: DONE
calculating PValues: START
Get p-values on a set of genes on columns and on a set of genes on rows
Total calculations elapsed time: 0.00509262084960938
calculating PValues: DONE
Handling genes type: G2
Handling genes type: G3
Initializing `COTAN` meta-data
COTAN dataset analysis: START
Genes/cells selection done: dropped [0] genes and [0] cells
Working on [600] genes and [1000] cells
Clean plots: START
PCA: START
PCA: DONE
Hierarchical clustering: START
Hierarchical clustering: DONE
Total calculations elapsed time: 2.44426727294922
Clean plots: DONE
Dataset cleaning elapsed time: 5.24659991264343
Estimate `dispersion`: START
Effective number of cores used: 1
Executing 1 genes batches
Parallel dispersion Newton-Raphson: used up to 7 iterations
Total calculations elapsed time: 2.89980173110962
Estimate `dispersion`: DONE
Estimate `dispersion`: DONE
`dispersion` | min: -0.0529252975916502 | max: 462.908586418992 | % negative: 17.3333333333333
Model parameter estimation elapsed time: 4.36121129989624
COTAN genes' COEX estimation: START
While trying to load the `torch` library Error in doTryCatch(return(expr), name, parentenv, handler): The `torch` library is installed but the required additional libraries are not available yet

Calculate genes' COEX (legacy): START
Retrieving expected genes' contingency table
calculating NN.. done
calculating NY..YN..YY..t().. done
Expected genes' contingency table elapsed time: 4.6003851890564
Calculating genes' COEX normalization factor
Calculate genes' normalization factor elapsed time: 0.00799751281738281
Retrieving observed genes' yes/yes contingency table
calculating YY.. done
Observed genes' contingency table elapsed time: 0.0676560401916504
Estimating genes' COEX
Calculate genes' COEX elapsed time: 1.49883723258972
Total calculations elapsed time: 6.17487597465515
Calculate genes' COEX (legacy): DONE
Only genes' COEX elapsed time: 7.71257424354553
Dataset analysis elapsed time: 17.3203854560852
COTAN dataset analysis: DONE
Saving elaborated data locally at: /tmp/RtmpLOuUWR/test.cotan.RDS
Creating new clusterization: START
Elaborating Reduced dimensionality Data Matrix - START
Elaborating COEX Eigen Vectors - START
Elaborating COEX Eigen Vectors - DONE
Total calculations elapsed time: 4.67695426940918
Elaborating Reduced dimensionality Data Matrix - DONE
Computing nearest neighbor graph
Computing SNN
Modularity Optimizer version 1.3.0 by Ludo Waltman and Nees Jan van Eck

Number of nodes: 1000
Number of edges: 44886

Running Louvain algorithm with multilevel refinement...
0%   10   20   30   40   50   60   70   80   90   100%
[----|----|----|----|----|----|----|----|----|----|
**************************************************|
Maximum modularity in 10 random starts: 0.4008
Number of communities: 4
Elapsed time: 0 seconds
Used resolution for Seurat clusterization is: 1.3
Total calculations elapsed time: 5.72023463249207
Creating new clusterization: DONE
Creating cells' uniform clustering: START
In iteration 1 the number of cells to re-cluster is 1000 cells belonging to 0 clusters
Asked to drop no genes or cells
Creating new clusterization: START
Elaborating Reduced dimensionality Data Matrix - START
Elaborating COEX Eigen Vectors - START
Elaborating COEX Eigen Vectors - DONE
Total calculations elapsed time: 4.93357586860657
Elaborating Reduced dimensionality Data Matrix - DONE
Computing nearest neighbor graph
Computing SNN
Modularity Optimizer version 1.3.0 by Ludo Waltman and Nees Jan van Eck

Number of nodes: 1000
Number of edges: 36652

Running Louvain algorithm with multilevel refinement...
0%   10   20   30   40   50   60   70   80   90   100%
[----|----|----|----|----|----|----|----|----|----|
**************************************************|
Maximum modularity in 10 random starts: 0.3743
Number of communities: 4
Elapsed time: 0 seconds
Used resolution for Seurat clusterization is: 1.3
Total calculations elapsed time: 5.8526029586792
Creating new clusterization: DONE
Creating PDF UMAP in file:  /tmp/RtmpLOuUWR/test/reclustering/pdf_umap_1.pdf
UMAP plot: START
Calculating UMAP: START
22:41:38 UMAP embedding parameters a = 0.9922 b = 1.112
22:41:38 Read 1000 rows and found 65 numeric columns
22:41:38 Using Annoy for neighbor search, n_neighbors = 30
22:41:38 Building Annoy index with metric = cosine, n_trees = 50
0%   10   20   30   40   50   60   70   80   90   100%
[----|----|----|----|----|----|----|----|----|----|
**************************************************|
22:41:38 Writing NN index file to temp file /tmp/RtmpLOuUWR/file37b78139370514
22:41:38 Searching Annoy index using 1 thread, search_k = 3000
22:41:39 Annoy recall = 100%
22:41:40 Commencing smooth kNN distance calibration using 1 thread with target n_neighbors = 30
22:41:43 Initializing from normalized Laplacian + noise (using RSpectra)
22:41:43 Commencing optimization for 500 epochs, with 39044 positive edges
22:41:43 Using rng type: pcg
Using method 'umap'
0%   10   20   30   40   50   60   70   80   90   100%
[----|----|----|----|----|----|----|----|----|----|
**************************************************|
22:41:45 Optimization finished
Calculating UMAP: DONE
Total calculations elapsed time: 6.82193183898926
UMAP plot: DONE
UMAP plot: START
Calculating UMAP: START
22:41:45 UMAP embedding parameters a = 0.9922 b = 1.112
22:41:45 Read 1000 rows and found 65 numeric columns
22:41:45 Using Annoy for neighbor search, n_neighbors = 30
22:41:45 Building Annoy index with metric = cosine, n_trees = 50
0%   10   20   30   40   50   60   70   80   90   100%
[----|----|----|----|----|----|----|----|----|----|
**************************************************|
22:41:45 Writing NN index file to temp file /tmp/RtmpLOuUWR/file37b781257b875e
22:41:45 Searching Annoy index using 1 thread, search_k = 3000
22:41:46 Annoy recall = 100%
22:41:47 Commencing smooth kNN distance calibration using 1 thread with target n_neighbors = 30
22:41:49 Initializing from normalized Laplacian + noise (using RSpectra)
22:41:49 Commencing optimization for 500 epochs, with 39044 positive edges
22:41:49 Using rng type: pcg
Using method 'umap'
0%   10   20   30   40   50   60   70   80   90   100%
[----|----|----|----|----|----|----|----|----|----|
**************************************************|
22:41:51 Optimization finished
Calculating UMAP: DONE
Total calculations elapsed time: 5.79104232788086
UMAP plot: DONE
* checking uniformity of cluster '0' of 4 clusters
Asked to drop 0 genes and 687 cells
COTAN dataset analysis: START
Asked to drop 43 genes and 0 cells
Genes/cells selection done: dropped [43] genes and [0] cells
Working on [557] genes and [313] cells
Dataset cleaning elapsed time: 0.991149425506592
Estimate `dispersion`: START
Effective number of cores used: 1
Executing 1 genes batches
Parallel dispersion Newton-Raphson: used up to 11 iterations
Total calculations elapsed time: 1.71259021759033
Estimate `dispersion`: DONE
Estimate `dispersion`: DONE
`dispersion` | min: -0.126565269702225 | max: 788.372048308528 | % negative: 38.5996409335727
Model parameter estimation elapsed time: 2.55551028251648
COTAN genes' COEX estimation: START
While trying to load the `torch` library Error in doTryCatch(return(expr), name, parentenv, handler): The `torch` library is installed but the required additional libraries are not available yet

Calculate genes' COEX (legacy): START
Retrieving expected genes' contingency table
calculating NN.. done
calculating NY..YN..YY..t().. done
Expected genes' contingency table elapsed time: 2.5938401222229
Calculating genes' COEX normalization factor
Calculate genes' normalization factor elapsed time: 0.00486254692077637
Retrieving observed genes' yes/yes contingency table
calculating YY.. done
Observed genes' contingency table elapsed time: 0.0303688049316406
Estimating genes' COEX
Calculate genes' COEX elapsed time: 0.851025819778442
Total calculations elapsed time: 3.48009729385376
Calculate genes' COEX (legacy): DONE
Only genes' COEX elapsed time: 4.34456491470337
Dataset analysis elapsed time: 7.89122462272644
COTAN dataset analysis: DONE
Checking uniformity for the cluster '01_0000' with 313 cells
Calculate GDI dataframe: START
Using S
Calculating S: START
Calculating S: DONE
Calculate `GDI`: START
Effective number of cores used: 1
Executing 1 genes batches
Total calculations elapsed time: 0.0279619693756104
Calculate `GDI`: DONE
Total calculations elapsed time: 2.97775149345398
Calculate GDI dataframe: DONE
Clean plots: START
Total calculations elapsed time: 0.0349652767181396
Clean plots: DONE
GDI plot
Removed 0 low GDI genes (such as the fully-expressed) in GDI plot
Cluster 01_0000, with size 313, is uniform
Cluster 01_0000's shift to uniformity: -0.0175178017151365
class = AdvancedGDIUniformityCheck, firstCheck.isCheckAbove = FALSE, firstCheck.GDIThreshold = 1.397, firstCheck.maxRatioBeyond = 0.05, firstCheck.maxRankBeyond = 0, firstCheck.fractionBeyond = 0.0412926391382406, firstCheck.thresholdRank = 0, firstCheck.quantileAtRatio = 1.37948219828486, firstCheck.quantileAtRank = NaN, secondCheck.isCheckAbove = TRUE, secondCheck.GDIThreshold = 1.407, secondCheck.maxRatioBeyond = 0.02, secondCheck.maxRankBeyond = 0, secondCheck.fractionBeyond = 0.0323159784560144, secondCheck.thresholdRank = 0, secondCheck.quantileAtRatio = 1.43089123341141, secondCheck.quantileAtRank = NaN, thirdCheck.isCheckAbove = FALSE, thirdCheck.GDIThreshold = 1.5, thirdCheck.maxRatioBeyond = 0.01, thirdCheck.maxRankBeyond = 0, thirdCheck.fractionBeyond = 0.00179533213644524, thirdCheck.thresholdRank = 0, thirdCheck.quantileAtRatio = 1.44383613651627, thirdCheck.quantileAtRank = NaN, fourthCheck.isCheckAbove = FALSE, fourthCheck.GDIThreshold = 1.5, fourthCheck.maxRatioBeyond = NaN, fourthCheck.maxRankBeyond = 2, fourthCheck.fractionBeyond = NaN, fourthCheck.thresholdRank = 1, fourthCheck.quantileAtRatio = NaN, fourthCheck.quantileAtRank = 1.47612588512221, isUniform = TRUE, clusterSize = 313
cluster 01_0000 is uniform

* checking uniformity of cluster '1' of 4 clusters
Asked to drop 0 genes and 743 cells
COTAN dataset analysis: START
Asked to drop 51 genes and 0 cells
Genes/cells selection done: dropped [51] genes and [0] cells
Working on [549] genes and [257] cells
Dataset cleaning elapsed time: 0.964234828948975
Estimate `dispersion`: START
Effective number of cores used: 1
Executing 1 genes batches
Parallel dispersion Newton-Raphson: used up to 10 iterations
Total calculations elapsed time: 1.92189502716064
Estimate `dispersion`: DONE
Estimate `dispersion`: DONE
`dispersion` | min: -0.112503099391263 | max: 646.681464270838 | % negative: 40.8014571948998
Model parameter estimation elapsed time: 2.83695673942566
COTAN genes' COEX estimation: START
While trying to load the `torch` library Error in doTryCatch(return(expr), name, parentenv, handler): The `torch` library is installed but the required additional libraries are not available yet

Calculate genes' COEX (legacy): START
Retrieving expected genes' contingency table
calculating NN.. done
calculating NY..YN..YY..t().. done
Expected genes' contingency table elapsed time: 2.72181916236877
Calculating genes' COEX normalization factor
Calculate genes' normalization factor elapsed time: 0.00475764274597168
Retrieving observed genes' yes/yes contingency table
calculating YY.. done
Observed genes' contingency table elapsed time: 0.0277390480041504
Estimating genes' COEX
Calculate genes' COEX elapsed time: 0.938446760177612
Total calculations elapsed time: 3.69276261329651
Calculate genes' COEX (legacy): DONE
Only genes' COEX elapsed time: 4.57101583480835
Dataset analysis elapsed time: 8.37220740318298
COTAN dataset analysis: DONE
Checking uniformity for the cluster '01_0001' with 257 cells
Calculate GDI dataframe: START
Using S
Calculating S: START
Calculating S: DONE
Calculate `GDI`: START
Effective number of cores used: 1
Executing 1 genes batches
Total calculations elapsed time: 0.0286173820495605
Calculate `GDI`: DONE
Total calculations elapsed time: 3.24345707893372
Calculate GDI dataframe: DONE
Clean plots: START
Total calculations elapsed time: 0.0392274856567383
Clean plots: DONE
GDI plot
Removed 1 low GDI genes (such as the fully-expressed) in GDI plot
Cluster 01_0001, with size 257, is uniform
Cluster 01_0001's shift to uniformity: -0.0466523594846431
class = AdvancedGDIUniformityCheck, firstCheck.isCheckAbove = FALSE, firstCheck.GDIThreshold = 1.397, firstCheck.maxRatioBeyond = 0.05, firstCheck.maxRankBeyond = 0, firstCheck.fractionBeyond = 0.00910746812386157, firstCheck.thresholdRank = 0, firstCheck.quantileAtRatio = 1.35034764051536, firstCheck.quantileAtRank = NaN, secondCheck.isCheckAbove = TRUE, secondCheck.GDIThreshold = 1.407, secondCheck.maxRatioBeyond = 0.02, secondCheck.maxRankBeyond = 0, secondCheck.fractionBeyond = 0.00728597449908925, secondCheck.thresholdRank = 0, secondCheck.quantileAtRatio = 1.37278730407697, secondCheck.quantileAtRank = NaN, thirdCheck.isCheckAbove = FALSE, thirdCheck.GDIThreshold = 1.5, thirdCheck.maxRatioBeyond = 0.01, thirdCheck.maxRankBeyond = 0, thirdCheck.fractionBeyond = 0, thirdCheck.thresholdRank = 0, thirdCheck.quantileAtRatio = 1.38664163146849, thirdCheck.quantileAtRank = NaN, fourthCheck.isCheckAbove = FALSE, fourthCheck.GDIThreshold = 1.5, fourthCheck.maxRatioBeyond = NaN, fourthCheck.maxRankBeyond = 2, fourthCheck.fractionBeyond = NaN, fourthCheck.thresholdRank = 0, fourthCheck.quantileAtRatio = NaN, fourthCheck.quantileAtRank = 1.45240567481124, isUniform = TRUE, clusterSize = 257
cluster 01_0001 is uniform

* checking uniformity of cluster '2' of 4 clusters
Asked to drop 0 genes and 758 cells
COTAN dataset analysis: START
Asked to drop 77 genes and 0 cells
Genes/cells selection done: dropped [77] genes and [0] cells
Working on [523] genes and [242] cells
Dataset cleaning elapsed time: 0.970545053482056
Estimate `dispersion`: START
Effective number of cores used: 1
Executing 1 genes batches
Parallel dispersion Newton-Raphson: used up to 7 iterations
Total calculations elapsed time: 1.99198055267334
Estimate `dispersion`: DONE
Estimate `dispersion`: DONE
`dispersion` | min: -0.166254045792573 | max: 224.924342782861 | % negative: 42.6386233269598
Model parameter estimation elapsed time: 3.05085182189941
COTAN genes' COEX estimation: START
While trying to load the `torch` library Error in doTryCatch(return(expr), name, parentenv, handler): The `torch` library is installed but the required additional libraries are not available yet

Calculate genes' COEX (legacy): START
Retrieving expected genes' contingency table
calculating NN.. done
calculating NY..YN..YY..t().. done
Expected genes' contingency table elapsed time: 3.6164333820343
Calculating genes' COEX normalization factor
Calculate genes' normalization factor elapsed time: 0.00466775894165039
Retrieving observed genes' yes/yes contingency table
calculating YY.. done
Observed genes' contingency table elapsed time: 0.0255935192108154
Estimating genes' COEX
Calculate genes' COEX elapsed time: 1.22088742256165
Total calculations elapsed time: 4.86758208274841
Calculate genes' COEX (legacy): DONE
Only genes' COEX elapsed time: 6.10805535316467
Dataset analysis elapsed time: 10.1294522285461
COTAN dataset analysis: DONE
Checking uniformity for the cluster '01_0002' with 242 cells
Calculate GDI dataframe: START
Using S
Calculating S: START
Calculating S: DONE
Calculate `GDI`: START
Effective number of cores used: 1
Executing 1 genes batches
Total calculations elapsed time: 0.0254340171813965
Calculate `GDI`: DONE
Total calculations elapsed time: 3.81065201759338
Calculate GDI dataframe: DONE
Clean plots: START
Total calculations elapsed time: 0.0374739170074463
Clean plots: DONE
GDI plot
Removed 2 low GDI genes (such as the fully-expressed) in GDI plot
Cluster 01_0002, with size 242, is uniform
Cluster 01_0002's shift to uniformity: -0.0473527936300242
class = AdvancedGDIUniformityCheck, firstCheck.isCheckAbove = FALSE, firstCheck.GDIThreshold = 1.397, firstCheck.maxRatioBeyond = 0.05, firstCheck.maxRankBeyond = 0, firstCheck.fractionBeyond = 0.00764818355640535, firstCheck.thresholdRank = 0, firstCheck.quantileAtRatio = 1.34964720636998, firstCheck.quantileAtRank = NaN, secondCheck.isCheckAbove = TRUE, secondCheck.GDIThreshold = 1.407, secondCheck.maxRatioBeyond = 0.02, secondCheck.maxRankBeyond = 0, secondCheck.fractionBeyond = 0.00764818355640535, secondCheck.thresholdRank = 0, secondCheck.quantileAtRatio = 1.37472946305404, secondCheck.quantileAtRank = NaN, thirdCheck.isCheckAbove = FALSE, thirdCheck.GDIThreshold = 1.5, thirdCheck.maxRatioBeyond = 0.01, thirdCheck.maxRankBeyond = 0, thirdCheck.fractionBeyond = 0, thirdCheck.thresholdRank = 0, thirdCheck.quantileAtRatio = 1.38771313919654, thirdCheck.quantileAtRank = NaN, fourthCheck.isCheckAbove = FALSE, fourthCheck.GDIThreshold = 1.5, fourthCheck.maxRatioBeyond = NaN, fourthCheck.maxRankBeyond = 2, fourthCheck.fractionBeyond = NaN, fourthCheck.thresholdRank = 0, fourthCheck.quantileAtRatio = NaN, fourthCheck.quantileAtRank = 1.43097703442027, isUniform = TRUE, clusterSize = 242
cluster 01_0002 is uniform

* checking uniformity of cluster '3' of 4 clusters
Asked to drop 0 genes and 812 cells
COTAN dataset analysis: START
Asked to drop 79 genes and 0 cells
Genes/cells selection done: dropped [79] genes and [0] cells
Working on [521] genes and [188] cells
Dataset cleaning elapsed time: 1.14598059654236
Estimate `dispersion`: START
Effective number of cores used: 1
Executing 1 genes batches
Parallel dispersion Newton-Raphson: used up to 6 iterations
Total calculations elapsed time: 2.37161326408386
Estimate `dispersion`: DONE
Estimate `dispersion`: DONE
`dispersion` | min: -0.210007411487223 | max: 67.8701314818728 | % negative: 45.6813819577735
Model parameter estimation elapsed time: 3.36361646652222
COTAN genes' COEX estimation: START
While trying to load the `torch` library Error in doTryCatch(return(expr), name, parentenv, handler): The `torch` library is installed but the required additional libraries are not available yet

Calculate genes' COEX (legacy): START
Retrieving expected genes' contingency table
calculating NN.. done
calculating NY..YN..YY..t().. done
Expected genes' contingency table elapsed time: 2.8496208190918
Calculating genes' COEX normalization factor
Calculate genes' normalization factor elapsed time: 0.00476336479187012
Retrieving observed genes' yes/yes contingency table
calculating YY.. done
Observed genes' contingency table elapsed time: 0.0228018760681152
Estimating genes' COEX
Calculate genes' COEX elapsed time: 0.946557521820068
Total calculations elapsed time: 3.82374358177185
Calculate genes' COEX (legacy): DONE
Only genes' COEX elapsed time: 4.77299809455872
Dataset analysis elapsed time: 9.28259515762329
COTAN dataset analysis: DONE
Checking uniformity for the cluster '01_0003' with 188 cells
Calculate GDI dataframe: START
Using S
Calculating S: START
Calculating S: DONE
Calculate `GDI`: START
Effective number of cores used: 1
Executing 1 genes batches
Total calculations elapsed time: 0.0276565551757812
Calculate `GDI`: DONE
Total calculations elapsed time: 4.08878493309021
Calculate GDI dataframe: DONE
Clean plots: START
Total calculations elapsed time: 0.043942928314209
Clean plots: DONE
GDI plot
Removed 4 low GDI genes (such as the fully-expressed) in GDI plot
Cluster 01_0003, with size 188, is uniform
Cluster 01_0003's shift to uniformity: -0.0672912272435866
class = AdvancedGDIUniformityCheck, firstCheck.isCheckAbove = FALSE, firstCheck.GDIThreshold = 1.397, firstCheck.maxRatioBeyond = 0.05, firstCheck.maxRankBeyond = 0, firstCheck.fractionBeyond = 0.00383877159309021, firstCheck.thresholdRank = 0, firstCheck.quantileAtRatio = 1.32970877275641, firstCheck.quantileAtRank = NaN, secondCheck.isCheckAbove = TRUE, secondCheck.GDIThreshold = 1.407, secondCheck.maxRatioBeyond = 0.02, secondCheck.maxRankBeyond = 0, secondCheck.fractionBeyond = 0.00191938579654511, secondCheck.thresholdRank = 0, secondCheck.quantileAtRatio = 1.35752445041521, secondCheck.quantileAtRank = NaN, thirdCheck.isCheckAbove = FALSE, thirdCheck.GDIThreshold = 1.5, thirdCheck.maxRatioBeyond = 0.01, thirdCheck.maxRankBeyond = 0, thirdCheck.fractionBeyond = 0, thirdCheck.thresholdRank = 0, thirdCheck.quantileAtRatio = 1.37495297633956, thirdCheck.quantileAtRank = NaN, fourthCheck.isCheckAbove = FALSE, fourthCheck.GDIThreshold = 1.5, fourthCheck.maxRatioBeyond = NaN, fourthCheck.maxRankBeyond = 2, fourthCheck.fractionBeyond = NaN, fourthCheck.thresholdRank = 0, fourthCheck.quantileAtRatio = NaN, fourthCheck.quantileAtRank = 1.4014884302523, isUniform = TRUE, clusterSize = 188
cluster 01_0003 is uniform


Found 4 uniform and  0 non-uniform clusters
Stopping: too few cells left to cluster
Unclustered cell left: 0
The final raw clusterization contains [ 4 ] different clusters: 01_0000, 01_0001, 01_0002, 01_0003
Differential Expression Analysis - START
* DEA on cluster '1' with 313 cells
* DEA on cluster '2' with 257 cells
* DEA on cluster '3' with 242 cells
* DEA on cluster '4' with 188 cells

Total calculations elapsed time: 0.0382235050201416
Differential Expression Analysis - DONE
Applied reordering to clusterization is:
1  ->  3, 2  ->  1, 3  ->  2, 4  ->  4
Total calculations elapsed time: 87.3208322525024
Creating cells' uniform clustering: DONE
Applied reordering to clusterization is:
1  ->  1, 2  ->  2, 3  ->  3, 4  ->  4
Asked to drop 0 genes and 812 cells
COTAN dataset analysis: START
Asked to drop 79 genes and 0 cells
Genes/cells selection done: dropped [79] genes and [0] cells
Working on [521] genes and [188] cells
Dataset cleaning elapsed time: 1.46291279792786
Estimate `dispersion`: START
Effective number of cores used: 1
Executing 1 genes batches
Parallel dispersion Newton-Raphson: used up to 6 iterations
Total calculations elapsed time: 2.58828353881836
Estimate `dispersion`: DONE
Estimate `dispersion`: DONE
`dispersion` | min: -0.210007411487223 | max: 67.8701314818728 | % negative: 45.6813819577735
Model parameter estimation elapsed time: 3.66492652893066
COTAN genes' COEX estimation: START
While trying to load the `torch` library Error in doTryCatch(return(expr), name, parentenv, handler): The `torch` library is installed but the required additional libraries are not available yet

Calculate genes' COEX (legacy): START
Retrieving expected genes' contingency table
calculating NN.. done
calculating NY..YN..YY..t().. done
Expected genes' contingency table elapsed time: 4.14898157119751
Calculating genes' COEX normalization factor
Calculate genes' normalization factor elapsed time: 0.00560951232910156
Retrieving observed genes' yes/yes contingency table
calculating YY.. done
Observed genes' contingency table elapsed time: 0.024827241897583
Estimating genes' COEX
Calculate genes' COEX elapsed time: 1.50704884529114
Total calculations elapsed time: 5.68646717071533
Calculate genes' COEX (legacy): DONE
Only genes' COEX elapsed time: 6.97444343566895
Dataset analysis elapsed time: 12.1022827625275
COTAN dataset analysis: DONE
Checking uniformity for the cluster 'Cluster_4' with 188 cells
Calculate GDI dataframe: START
Using S
Calculating S: START
Calculating S: DONE
Calculate `GDI`: START
Effective number of cores used: 1
Executing 1 genes batches
Total calculations elapsed time: 0.0266265869140625
Calculate `GDI`: DONE
Total calculations elapsed time: 2.94325685501099
Calculate GDI dataframe: DONE
Clean plots: START
Total calculations elapsed time: 0.0386717319488525
Clean plots: DONE
GDI plot
Removed 4 low GDI genes (such as the fully-expressed) in GDI plot
Cluster Cluster_4, with size 188, is uniform
Cluster Cluster_4's shift to uniformity: -0.0672912272435866
class = AdvancedGDIUniformityCheck, firstCheck.isCheckAbove = FALSE, firstCheck.GDIThreshold = 1.397, firstCheck.maxRatioBeyond = 0.05, firstCheck.maxRankBeyond = 0, firstCheck.fractionBeyond = 0.00383877159309021, firstCheck.thresholdRank = 0, firstCheck.quantileAtRatio = 1.32970877275641, firstCheck.quantileAtRank = NaN, secondCheck.isCheckAbove = TRUE, secondCheck.GDIThreshold = 1.407, secondCheck.maxRatioBeyond = 0.02, secondCheck.maxRankBeyond = 0, secondCheck.fractionBeyond = 0.00191938579654511, secondCheck.thresholdRank = 0, secondCheck.quantileAtRatio = 1.35752445041521, secondCheck.quantileAtRank = NaN, thirdCheck.isCheckAbove = FALSE, thirdCheck.GDIThreshold = 1.5, thirdCheck.maxRatioBeyond = 0.01, thirdCheck.maxRankBeyond = 0, thirdCheck.fractionBeyond = 0, thirdCheck.thresholdRank = 0, thirdCheck.quantileAtRatio = 1.37495297633956, thirdCheck.quantileAtRank = NaN, fourthCheck.isCheckAbove = FALSE, fourthCheck.GDIThreshold = 1.5, fourthCheck.maxRatioBeyond = NaN, fourthCheck.maxRankBeyond = 2, fourthCheck.fractionBeyond = NaN, fourthCheck.thresholdRank = 0, fourthCheck.quantileAtRatio = NaN, fourthCheck.quantileAtRank = 1.4014884302523, isUniform = TRUE, clusterSize = 188
Differential Expression Analysis - START
* DEA on cluster '-1' with 50 cells
* DEA on cluster '1' with 257 cells
* DEA on cluster '2' with 242 cells
* DEA on cluster '3' with 280 cells
* DEA on cluster '4' with 171 cells

Total calculations elapsed time: 0.0316929817199707
Differential Expression Analysis - DONE
Applied reordering to clusterization is:
1  ->  4, 2  ->  3, 3  ->  2, 4  ->  1, -1  ->  -1
Applied reordering to clusterization is:
1  ->  1, 2  ->  2, 3  ->  3, 4  ->  4, -1  ->  -1
Creating cells' uniform clustering: START
In iteration 1 the number of cells to re-cluster is 1000 cells belonging to 0 clusters
Asked to drop no genes or cells
Creating new clusterization: START
Elaborating Reduced dimensionality Data Matrix - START
Running genes' selection: START
Normalizing layer: counts
Performing log-normalization
0%   10   20   30   40   50   60   70   80   90   100%
[----|----|----|----|----|----|----|----|----|----|
**************************************************|
Finding variable features for layer counts
Calculating gene variances
0%   10   20   30   40   50   60   70   80   90   100%
[----|----|----|----|----|----|----|----|----|----|
**************************************************|
Calculating feature variances of standardized and clipped values
0%   10   20   30   40   50   60   70   80   90   100%
[----|----|----|----|----|----|----|----|----|----|
**************************************************|
Selected 600 genes using HVG_Seurat selector
Running genes' selection: DONE
Elaborating PCA - START
Elaborating PCA - DONE
Total calculations elapsed time: 3.69201159477234
Elaborating Reduced dimensionality Data Matrix - DONE
Computing nearest neighbor graph
Computing SNN
Modularity Optimizer version 1.3.0 by Ludo Waltman and Nees Jan van Eck

Number of nodes: 1000
Number of edges: 67288

Running Louvain algorithm with multilevel refinement...
0%   10   20   30   40   50   60   70   80   90   100%
[----|----|----|----|----|----|----|----|----|----|
**************************************************|
Maximum modularity in 10 random starts: 0.3650
Number of communities: 5
Elapsed time: 0 seconds
Used resolution for Seurat clusterization is: 1.3
Total calculations elapsed time: 4.57340836524963
Creating new clusterization: DONE
Using passed in clusterization
Creating PDF UMAP in file:  /tmp/RtmpLOuUWR/test/reclustering/pdf_umap_1.pdf
UMAP plot: START
Calculating UMAP: START
22:43:23 UMAP embedding parameters a = 0.9922 b = 1.112
22:43:23 Read 1000 rows and found 40 numeric columns
22:43:23 Using Annoy for neighbor search, n_neighbors = 30
22:43:23 Building Annoy index with metric = cosine, n_trees = 50
0%   10   20   30   40   50   60   70   80   90   100%
[----|----|----|----|----|----|----|----|----|----|
**************************************************|
22:43:23 Writing NN index file to temp file /tmp/RtmpLOuUWR/file37b781d449c72
22:43:23 Searching Annoy index using 1 thread, search_k = 3000
22:43:24 Annoy recall = 100%
22:43:25 Commencing smooth kNN distance calibration using 1 thread with target n_neighbors = 30
22:43:27 Found 2 connected components, falling back to 'spca' initialization with init_sdev = 1
22:43:27 Using 'irlba' for PCA
22:43:27 PCA: 2 components explained 36.15% variance
22:43:27 Scaling init to sdev = 1
22:43:27 Commencing optimization for 500 epochs, with 41630 positive edges
22:43:27 Using rng type: pcg
Using method 'umap'
0%   10   20   30   40   50   60   70   80   90   100%
[----|----|----|----|----|----|----|----|----|----|
**************************************************|
22:43:29 Optimization finished
Calculating UMAP: DONE
Total calculations elapsed time: 5.81004500389099
UMAP plot: DONE
UMAP plot: START
Calculating UMAP: START
22:43:29 UMAP embedding parameters a = 0.9922 b = 1.112
22:43:29 Read 1000 rows and found 40 numeric columns
22:43:29 Using Annoy for neighbor search, n_neighbors = 30
22:43:29 Building Annoy index with metric = cosine, n_trees = 50
0%   10   20   30   40   50   60   70   80   90   100%
[----|----|----|----|----|----|----|----|----|----|
**************************************************|
22:43:29 Writing NN index file to temp file /tmp/RtmpLOuUWR/file37b7811ee2be5c
22:43:29 Searching Annoy index using 1 thread, search_k = 3000
22:43:30 Annoy recall = 100%
22:43:31 Commencing smooth kNN distance calibration using 1 thread with target n_neighbors = 30
22:43:32 Found 2 connected components, falling back to 'spca' initialization with init_sdev = 1
22:43:32 Using 'irlba' for PCA
22:43:32 PCA: 2 components explained 36.15% variance
22:43:32 Scaling init to sdev = 1
22:43:32 Commencing optimization for 500 epochs, with 41630 positive edges
22:43:32 Using rng type: pcg
Using method 'umap'
0%   10   20   30   40   50   60   70   80   90   100%
[----|----|----|----|----|----|----|----|----|----|
**************************************************|
22:43:35 Optimization finished
Calculating UMAP: DONE
Total calculations elapsed time: 5.54452896118164
UMAP plot: DONE
* checking uniformity of cluster '1' of 2 clusters
Asked to drop 0 genes and 500 cells
COTAN dataset analysis: START
Asked to drop 38 genes and 0 cells
Genes/cells selection done: dropped [38] genes and [0] cells
Working on [562] genes and [500] cells
Dataset cleaning elapsed time: 0.891712665557861
Estimate `dispersion`: START
Effective number of cores used: 1
Executing 1 genes batches
Parallel dispersion Newton-Raphson: used up to 7 iterations
Total calculations elapsed time: 2.05568814277649
Estimate `dispersion`: DONE
Estimate `dispersion`: DONE
`dispersion` | min: -0.108871643378045 | max: 295.971778839086 | % negative: 35.0533807829181
Model parameter estimation elapsed time: 3.07630300521851
COTAN genes' COEX estimation: START
While trying to load the `torch` library Error in doTryCatch(return(expr), name, parentenv, handler): The `torch` library is installed but the required additional libraries are not available yet

Calculate genes' COEX (legacy): START
Retrieving expected genes' contingency table
calculating NN.. done
calculating NY..YN..YY..t().. done
Expected genes' contingency table elapsed time: 2.94473838806152
Calculating genes' COEX normalization factor
Calculate genes' normalization factor elapsed time: 0.00545763969421387
Retrieving observed genes' yes/yes contingency table
calculating YY.. done
Observed genes' contingency table elapsed time: 0.0379769802093506
Estimating genes' COEX
Calculate genes' COEX elapsed time: 0.942610502243042
Total calculations elapsed time: 3.93078351020813
Calculate genes' COEX (legacy): DONE
Only genes' COEX elapsed time: 4.89287066459656
Dataset analysis elapsed time: 8.86088633537292
COTAN dataset analysis: DONE
Checking uniformity for the cluster '01_0001' with 500 cells
Calculate GDI dataframe: START
Using S
Calculating S: START
Calculating S: DONE
Calculate `GDI`: START
Effective number of cores used: 1
Executing 1 genes batches
Total calculations elapsed time: 0.028954029083252
Calculate `GDI`: DONE
Total calculations elapsed time: 2.951256275177
Calculate GDI dataframe: DONE
Clean plots: START
Total calculations elapsed time: 0.0360355377197266
Clean plots: DONE
GDI plot
Removed 2 low GDI genes (such as the fully-expressed) in GDI plot
Cluster 01_0001, with size 500, is uniform
Cluster 01_0001's shift to uniformity: -0.041730199066494
class = AdvancedGDIUniformityCheck, firstCheck.isCheckAbove = FALSE, firstCheck.GDIThreshold = 1.397, firstCheck.maxRatioBeyond = 0.05, firstCheck.maxRankBeyond = 0, firstCheck.fractionBeyond = 0.0124555160142349, firstCheck.thresholdRank = 0, firstCheck.quantileAtRatio = 1.35526980093351, firstCheck.quantileAtRank = NaN, secondCheck.isCheckAbove = TRUE, secondCheck.GDIThreshold = 1.407, secondCheck.maxRatioBeyond = 0.02, secondCheck.maxRankBeyond = 0, secondCheck.fractionBeyond = 0.00889679715302491, secondCheck.thresholdRank = 0, secondCheck.quantileAtRatio = 1.38536328181495, secondCheck.quantileAtRank = NaN, thirdCheck.isCheckAbove = FALSE, thirdCheck.GDIThreshold = 1.5, thirdCheck.maxRatioBeyond = 0.01, thirdCheck.maxRankBeyond = 0, thirdCheck.fractionBeyond = 0, thirdCheck.thresholdRank = 0, thirdCheck.quantileAtRatio = 1.40346106115492, thirdCheck.quantileAtRank = NaN, fourthCheck.isCheckAbove = FALSE, fourthCheck.GDIThreshold = 1.5, fourthCheck.maxRatioBeyond = NaN, fourthCheck.maxRankBeyond = 2, fourthCheck.fractionBeyond = NaN, fourthCheck.thresholdRank = 0, fourthCheck.quantileAtRatio = NaN, fourthCheck.quantileAtRank = 1.42565794715045, isUniform = TRUE, clusterSize = 500
cluster 01_0001 is uniform

* checking uniformity of cluster '2' of 2 clusters
Asked to drop 0 genes and 500 cells
COTAN dataset analysis: START
Asked to drop 44 genes and 0 cells
Genes/cells selection done: dropped [44] genes and [0] cells
Working on [556] genes and [500] cells
Dataset cleaning elapsed time: 0.955173015594482
Estimate `dispersion`: START
Effective number of cores used: 1
Executing 1 genes batches
Parallel dispersion Newton-Raphson: used up to 7 iterations
Total calculations elapsed time: 1.99636936187744
Estimate `dispersion`: DONE
Estimate `dispersion`: DONE
`dispersion` | min: -0.0636486786621688 | max: 141.389145035675 | % negative: 36.1510791366906
Model parameter estimation elapsed time: 2.93984699249268
COTAN genes' COEX estimation: START
While trying to load the `torch` library Error in doTryCatch(return(expr), name, parentenv, handler): The `torch` library is installed but the required additional libraries are not available yet

Calculate genes' COEX (legacy): START
Retrieving expected genes' contingency table
calculating NN.. done
calculating NY..YN..YY..t().. done
Expected genes' contingency table elapsed time: 2.84373998641968
Calculating genes' COEX normalization factor
Calculate genes' normalization factor elapsed time: 0.00481009483337402
Retrieving observed genes' yes/yes contingency table
calculating YY.. done
Observed genes' contingency table elapsed time: 0.0375335216522217
Estimating genes' COEX
Calculate genes' COEX elapsed time: 0.955535650253296
Total calculations elapsed time: 3.84161925315857
Calculate genes' COEX (legacy): DONE
Only genes' COEX elapsed time: 4.72722983360291
Dataset analysis elapsed time: 8.62224984169006
COTAN dataset analysis: DONE
Checking uniformity for the cluster '01_0002' with 500 cells
Calculate GDI dataframe: START
Using S
Calculating S: START
Calculating S: DONE
Calculate `GDI`: START
Effective number of cores used: 1
Executing 1 genes batches
Total calculations elapsed time: 0.0290513038635254
Calculate `GDI`: DONE
Total calculations elapsed time: 2.9568464756012
Calculate GDI dataframe: DONE
Clean plots: START
Total calculations elapsed time: 0.0344736576080322
Clean plots: DONE
GDI plot
Removed 2 low GDI genes (such as the fully-expressed) in GDI plot
Cluster 01_0002, with size 500, is uniform
Cluster 01_0002's shift to uniformity: -0.0413872276843505
class = AdvancedGDIUniformityCheck, firstCheck.isCheckAbove = FALSE, firstCheck.GDIThreshold = 1.397, firstCheck.maxRatioBeyond = 0.05, firstCheck.maxRankBeyond = 0, firstCheck.fractionBeyond = 0.00719424460431655, firstCheck.thresholdRank = 0, firstCheck.quantileAtRatio = 1.35561277231565, firstCheck.quantileAtRank = NaN, secondCheck.isCheckAbove = TRUE, secondCheck.GDIThreshold = 1.407, secondCheck.maxRatioBeyond = 0.02, secondCheck.maxRankBeyond = 0, secondCheck.fractionBeyond = 0.00359712230215827, secondCheck.thresholdRank = 0, secondCheck.quantileAtRatio = 1.37204026755188, secondCheck.quantileAtRank = NaN, thirdCheck.isCheckAbove = FALSE, thirdCheck.GDIThreshold = 1.5, thirdCheck.maxRatioBeyond = 0.01, thirdCheck.maxRankBeyond = 0, thirdCheck.fractionBeyond = 0, thirdCheck.thresholdRank = 0, thirdCheck.quantileAtRatio = 1.38757136821537, thirdCheck.quantileAtRank = NaN, fourthCheck.isCheckAbove = FALSE, fourthCheck.GDIThreshold = 1.5, fourthCheck.maxRatioBeyond = NaN, fourthCheck.maxRankBeyond = 2, fourthCheck.fractionBeyond = NaN, fourthCheck.thresholdRank = 0, fourthCheck.quantileAtRatio = NaN, fourthCheck.quantileAtRank = 1.40876953414106, isUniform = TRUE, clusterSize = 500
cluster 01_0002 is uniform


Found 2 uniform and  0 non-uniform clusters
Stopping: too few cells left to cluster
Unclustered cell left: 0
The final raw clusterization contains [ 2 ] different clusters: 01_0001, 01_0002
Differential Expression Analysis - START
* DEA on cluster '1' with 500 cells
* DEA on cluster '2' with 500 cells

Total calculations elapsed time: 0.0261292457580566
Differential Expression Analysis - DONE
Applied reordering to clusterization is:
1  ->  1, 2  ->  2
Total calculations elapsed time: 48.6320741176605
Creating cells' uniform clustering: DONE
findClustersMarkers - START
Log Fold Change Analysis - START
* Analysis of cluster: '1'
* Analysis of cluster: '2'
* Analysis of cluster: '3'
* Analysis of cluster: '4'

Total calculations elapsed time: 4.22859978675842
Log Fold Change Analysis - DONE
Total calculations elapsed time: 4.24012327194214
findClustersMarkers - DONE
findClustersMarkers - START
Log Fold Change Analysis - START
* Analysis of cluster: '1'
* Analysis of cluster: '2'
* Analysis of cluster: '3'
* Analysis of cluster: '4'

Total calculations elapsed time: 3.81218791007996
Log Fold Change Analysis - DONE
Total calculations elapsed time: 3.82272458076477
findClustersMarkers - DONE
findClustersMarkers - START
Differential Expression Analysis - START
* DEA on cluster '1' with 257 cells
* DEA on cluster '2' with 242 cells
* DEA on cluster '3' with 313 cells
* DEA on cluster '4' with 188 cells

Total calculations elapsed time: 0.0300838947296143
Differential Expression Analysis - DONE
Log Fold Change Analysis - START
* Analysis of cluster: '1'
* Analysis of cluster: '2'
* Analysis of cluster: '3'
* Analysis of cluster: '4'

Total calculations elapsed time: 3.55403971672058
Log Fold Change Analysis - DONE
Total calculations elapsed time: 3.59312677383423
findClustersMarkers - DONE
[1] "Tested cluster: 1"
Asked to drop 0 genes and 743 cells
COTAN dataset analysis: START
Asked to drop 51 genes and 0 cells
Genes/cells selection done: dropped [51] genes and [0] cells
Working on [549] genes and [257] cells
Dataset cleaning elapsed time: 0.967881441116333
Estimate `dispersion`: START
Effective number of cores used: 1
Executing 1 genes batches
Parallel dispersion Newton-Raphson: used up to 10 iterations
Total calculations elapsed time: 1.83374547958374
Estimate `dispersion`: DONE
Estimate `dispersion`: DONE
`dispersion` | min: -0.112503099391263 | max: 646.681464270838 | % negative: 40.8014571948998
Model parameter estimation elapsed time: 2.88651990890503
COTAN genes' COEX estimation: START
While trying to load the `torch` library Error in doTryCatch(return(expr), name, parentenv, handler): The `torch` library is installed but the required additional libraries are not available yet

Calculate genes' COEX (legacy): START
Retrieving expected genes' contingency table
calculating NN.. done
calculating NY..YN..YY..t().. done
Expected genes' contingency table elapsed time: 3.27653360366821
Calculating genes' COEX normalization factor
Calculate genes' normalization factor elapsed time: 0.00545549392700195
Retrieving observed genes' yes/yes contingency table
calculating YY.. done
Observed genes' contingency table elapsed time: 0.028414249420166
Estimating genes' COEX
Calculate genes' COEX elapsed time: 1.10851716995239
Total calculations elapsed time: 4.41892051696777
Calculate genes' COEX (legacy): DONE
Only genes' COEX elapsed time: 5.4992835521698
Dataset analysis elapsed time: 9.35368490219116
COTAN dataset analysis: DONE
Calculate GDI dataframe: START
Using S
Calculating S: START
Calculating S: DONE
Calculate `GDI`: START
Effective number of cores used: 1
Executing 1 genes batches
Total calculations elapsed time: 0.0272138118743896
Calculate `GDI`: DONE
Total calculations elapsed time: 3.48467612266541
Calculate GDI dataframe: DONE
Genes/cells selection done: dropped [0] genes and [0] cells
Working on [10] genes and [20] cells
Initializing `COTAN` meta-data
Genes/cells selection done: dropped [0] genes and [0] cells
Working on [600] genes and [1000] cells
Estimate `dispersion`: START
Effective number of cores used: 1
Executing 1 genes batches
Parallel dispersion Newton-Raphson: used up to 7 iterations
Total calculations elapsed time: 2.64326071739197
Estimate `dispersion`: DONE
Estimate `dispersion`: DONE
`dispersion` | min: -0.0529252975916502 | max: 462.908586418992 | % negative: 17.3333333333333
Initializing `COTAN` meta-data
COTAN dataset analysis: START
Genes/cells selection done: dropped [0] genes and [0] cells
Working on [600] genes and [1000] cells
Dataset cleaning elapsed time: 0.977939128875732
Estimate `dispersion`: START
Effective number of cores used: 1
Executing 1 genes batches
Parallel dispersion Newton-Raphson: used up to 7 iterations
Total calculations elapsed time: 2.23592972755432
Estimate `dispersion`: DONE
Estimate `dispersion`: DONE
`dispersion` | min: -0.0529252975916502 | max: 462.908586418992 | % negative: 17.3333333333333
Model parameter estimation elapsed time: 3.12430191040039
COTAN genes' COEX estimation not requested
Only genes' COEX elapsed time: 0.903969287872314
Dataset analysis elapsed time: 5.00621032714844
COTAN dataset analysis: DONE
Normalizing layer: counts
Performing log-normalization
0%   10   20   30   40   50   60   70   80   90   100%
[----|----|----|----|----|----|----|----|----|----|
**************************************************|
Finding variable features for layer counts
Calculating gene variances
0%   10   20   30   40   50   60   70   80   90   100%
[----|----|----|----|----|----|----|----|----|----|
**************************************************|
Calculating feature variances of standardized and clipped values
0%   10   20   30   40   50   60   70   80   90   100%
[----|----|----|----|----|----|----|----|----|----|
**************************************************|
Centering and scaling data matrix

  |                                                                            
  |                                                                      |   0%
  |                                                                            
  |======================================================================| 100%
PC_ 1 
Positive:  g-000397, g-000525, g-000460, g-000458, g-000535, g-000217, g-000194, g-000497, g-000432, g-000383 
	   g-000318, g-000486, g-000464, g-000588, g-000549, g-000368, g-000252, g-000151, g-000209, g-000538 
	   g-000325, g-000514, g-000524, g-000244, g-000320, g-000201, g-000499, g-000309, g-000290, g-000483 
Negative:  g-000415, g-000506, g-000496, g-000579, g-000572, g-000421, g-000455, g-000328, g-000178, g-000567 
	   g-000405, g-000296, g-000387, g-000501, g-000493, g-000481, g-000343, g-000528, g-000551, g-000414 
	   g-000367, g-000594, g-000159, g-000517, g-000574, g-000229, g-000222, g-000533, g-000243, g-000306 
PC_ 2 
Positive:  g-000141, g-000093, g-000089, g-000033, g-000123, g-000557, g-000330, g-000156, g-000142, g-000095 
	   g-000061, g-000235, g-000032, g-000186, g-000056, g-000259, g-000027, g-000041, g-000333, g-000386 
	   g-000009, g-000395, g-000048, g-000116, g-000340, g-000418, g-000035, g-000332, g-000086, g-000040 
Negative:  g-000088, g-000158, g-000255, g-000115, g-000054, g-000472, g-000554, g-000391, g-000253, g-000226 
	   g-000051, g-000147, g-000541, g-000077, g-000224, g-000194, g-000290, g-000293, g-000313, g-000118 
	   g-000121, g-000220, g-000467, g-000500, g-000341, g-000039, g-000091, g-000249, g-000426, g-000288 
PC_ 3 
Positive:  g-000126, g-000083, g-000086, g-000117, g-000130, g-000010, g-000498, g-000333, g-000047, g-000179 
	   g-000340, g-000035, g-000531, g-000140, g-000527, g-000049, g-000316, g-000031, g-000014, g-000073 
	   g-000218, g-000445, g-000129, g-000175, g-000105, g-000581, g-000404, g-000025, g-000266, g-000354 
Negative:  g-000096, g-000575, g-000370, g-000337, g-000319, g-000364, g-000308, g-000293, g-000147, g-000307 
	   g-000038, g-000492, g-000541, g-000185, g-000008, g-000482, g-000562, g-000097, g-000222, g-000084 
	   g-000141, g-000377, g-000224, g-000223, g-000136, g-000434, g-000277, g-000426, g-000139, g-000093 
PC_ 4 
Positive:  g-000006, g-000043, g-000462, g-000279, g-000180, g-000576, g-000087, g-000584, g-000498, g-000333 
	   g-000189, g-000088, g-000451, g-000059, g-000135, g-000281, g-000106, g-000429, g-000316, g-000578 
	   g-000303, g-000031, g-000581, g-000026, g-000122, g-000561, g-000546, g-000164, g-000353, g-000300 
Negative:  g-000072, g-000012, g-000129, g-000052, g-000097, g-000262, g-000080, g-000056, g-000025, g-000092 
	   g-000354, g-000334, g-000423, g-000228, g-000002, g-000010, g-000086, g-000147, g-000185, g-000172 
	   g-000124, g-000009, g-000077, g-000476, g-000126, g-000145, g-000065, g-000268, g-000152, g-000348 
PC_ 5 
Positive:  g-000105, g-000037, g-000110, g-000054, g-000090, g-000389, g-000022, g-000578, g-000289, g-000147 
	   g-000547, g-000011, g-000477, g-000433, g-000200, g-000348, g-000404, g-000003, g-000250, g-000109 
	   g-000402, g-000241, g-000595, g-000341, g-000560, g-000385, g-000413, g-000352, g-000573, g-000265 
Negative:  g-000051, g-000150, g-000088, g-000476, g-000344, g-000116, g-000428, g-000012, g-000523, g-000394 
	   g-000101, g-000127, g-000069, g-000214, g-000049, g-000357, g-000075, g-000081, g-000576, g-000342 
	   g-000439, g-000018, g-000070, g-000079, g-000015, g-000550, g-000600, g-000247, g-000218, g-000331 
Computing nearest neighbor graph
Computing SNN
Modularity Optimizer version 1.3.0 by Ludo Waltman and Nees Jan van Eck

Number of nodes: 1000
Number of edges: 68107

Running Louvain algorithm with multilevel refinement...
0%   10   20   30   40   50   60   70   80   90   100%
[----|----|----|----|----|----|----|----|----|----|
**************************************************|
Maximum modularity in 10 random starts: 0.5999
Number of communities: 2
Elapsed time: 0 seconds
Clusterizations found: RNA_snn_res.0.8, seurat_clusters
Conditions found: orig.ident
COTAN dataset analysis: START
Genes/cells selection done: dropped [0] genes and [0] cells
Working on [600] genes and [1000] cells
Dataset cleaning elapsed time: 0.873451471328735
Estimate `dispersion`: START
Effective number of cores used: 1
Executing 1 genes batches
Parallel dispersion Newton-Raphson: used up to 7 iterations
Total calculations elapsed time: 1.97846555709839
Estimate `dispersion`: DONE
Estimate `dispersion`: DONE
`dispersion` | min: -0.0529252975916502 | max: 462.908586418992 | % negative: 17.3333333333333
Model parameter estimation elapsed time: 2.87018918991089
COTAN genes' COEX estimation not requested
Only genes' COEX elapsed time: 0.886452198028564
Dataset analysis elapsed time: 4.63009285926819
COTAN dataset analysis: DONE
COTAN dataset analysis: START
Genes/cells selection done: dropped [0] genes and [0] cells
Working on [600] genes and [1000] cells
Dataset cleaning elapsed time: 0.920486450195312
Estimate `dispersion`: START
Effective number of cores used: 1
Executing 1 genes batches
Parallel dispersion Newton-Raphson: used up to 7 iterations
Total calculations elapsed time: 2.1398651599884
Estimate `dispersion`: DONE
Estimate `dispersion`: DONE
`dispersion` | min: -0.0529252975916502 | max: 462.908586418992 | % negative: 17.3333333333333
Model parameter estimation elapsed time: 3.05837154388428
COTAN genes' COEX estimation: START
While trying to load the `torch` library Error in doTryCatch(return(expr), name, parentenv, handler): The `torch` library is installed but the required additional libraries are not available yet

Calculate genes' COEX (legacy): START
Retrieving expected genes' contingency table
calculating NN.. done
calculating NY..YN..YY..t().. done
Expected genes' contingency table elapsed time: 3.00494432449341
Calculating genes' COEX normalization factor
Calculate genes' normalization factor elapsed time: 0.00558876991271973
Retrieving observed genes' yes/yes contingency table
calculating YY.. done
Observed genes' contingency table elapsed time: 0.0639002323150635
Estimating genes' COEX
Calculate genes' COEX elapsed time: 0.982782363891602
Total calculations elapsed time: 4.05721569061279
Calculate genes' COEX (legacy): DONE
Only genes' COEX elapsed time: 4.94522428512573
Dataset analysis elapsed time: 8.92408227920532
COTAN dataset analysis: DONE
Calculating gene co-expression space - START
Using S
Calculating S: START
Calculating S: DONE
calculating PValues: START
Get p-values on a set of genes on columns and genome wide on rows
Total calculations elapsed time: 0.00445175170898438
calculating PValues: DONE
Number of selected secondary markers: 6
Calculating S: START
Calculating S: DONE
Calculate `GDI`: START
Effective number of cores used: 1
Executing 1 genes batches
Total calculations elapsed time: 0.00797343254089355
Calculate `GDI`: DONE
Number of columns (V set - secondary markers): 6
Number of rows (U set): 60
Total calculations elapsed time: 0.93218994140625
Calculating gene co-expression space - DONE
Calculating gene co-expression space - START
Using S
Calculating S: START
Calculating S: DONE
calculating PValues: START
Get p-values on a set of genes on columns and genome wide on rows
Total calculations elapsed time: 0.00810909271240234
calculating PValues: DONE
Number of selected secondary markers: 98
Calculating S: START
Calculating S: DONE
Calculate `GDI`: START
Effective number of cores used: 1
Executing 1 genes batches
Total calculations elapsed time: 0.00794649124145508
Calculate `GDI`: DONE
Number of columns (V set - secondary markers): 98
Number of rows (U set): 60
Total calculations elapsed time: 1.01897048950195
Calculating gene co-expression space - DONE
Establishing gene clusters - START
Calculating gene co-expression space - START
Using S
Calculating S: START
Calculating S: DONE
calculating PValues: START
Get p-values on a set of genes on columns and genome wide on rows
Total calculations elapsed time: 0.00656628608703613
calculating PValues: DONE
Number of selected secondary markers: 98
Calculating S: START
Calculating S: DONE
Calculate `GDI`: START
Effective number of cores used: 1
Executing 1 genes batches
Total calculations elapsed time: 0.00811553001403809
Calculate `GDI`: DONE
Number of columns (V set - secondary markers): 98
Number of rows (U set): 60
Total calculations elapsed time: 0.94384765625
Calculating gene co-expression space - DONE
Total calculations elapsed time: 1.00717306137085
Establishing gene clusters - DONE
Initializing `COTAN` meta-data
COTAN dataset analysis: START
Genes/cells selection done: dropped [0] genes and [0] cells
Working on [600] genes and [1000] cells
Dataset cleaning elapsed time: 0.918882369995117
Estimate `dispersion`: START
Effective number of cores used: 1
Executing 1 genes batches
Parallel dispersion Newton-Raphson: used up to 7 iterations
Total calculations elapsed time: 2.09604620933533
Estimate `dispersion`: DONE
Estimate `dispersion`: DONE
`dispersion` | min: -0.0529252975916502 | max: 462.908586418992 | % negative: 17.3333333333333
Model parameter estimation elapsed time: 3.08755493164062
COTAN genes' COEX estimation not requested
Only genes' COEX elapsed time: 1.02902841567993
Dataset analysis elapsed time: 5.03546571731567
COTAN dataset analysis: DONE
Differential Expression Analysis - START
* DEA on cluster '1' with 257 cells
* DEA on cluster '2' with 242 cells
* DEA on cluster '3' with 313 cells
* DEA on cluster '4' with 188 cells

Total calculations elapsed time: 0.0373568534851074
Differential Expression Analysis - DONE
Log Fold Change Analysis - START
* Analysis of cluster: '1'
* Analysis of cluster: '2'
* Analysis of cluster: '3'
* Analysis of cluster: '4'

Total calculations elapsed time: 4.51351141929626
Log Fold Change Analysis - DONE
clustersDeltaExpression - START
Handling cluster '1' with mean UDE 1.10997640736885
Handling cluster '2' with mean UDE 1.00770245700749
Handling cluster '3' with mean UDE 0.95940682189354
Handling cluster '4' with mean UDE 0.907328369455933
clustersDeltaExpression - DONE
In group G1 there are 3 detected over 3 genes
In group G2 there are 2 detected over 3 genes
In group G3 there are 5 detected over 5 genes
Merging cells' uniform clustering: START
The merge algorithm will use 2 passes
Start merging nearest clusters - the main threshold is: 1.297
Start merging nearest clusters: iteration 1
Differential Expression Analysis - START
* DEA on cluster '1' with 257 cells
* DEA on cluster '2' with 242 cells
* DEA on cluster '3' with 313 cells
* DEA on cluster '4' with 188 cells

Total calculations elapsed time: 0.0495178699493408
Differential Expression Analysis - DONE
Updating check results for the 0 already tested pairs to align to new checker
1 new clusters pairs to be tested for merging:
c("1", "2")
*1_2-merge
Asked to drop 0 genes and 501 cells
COTAN dataset analysis: START
Asked to drop 16 genes and 0 cells
Genes/cells selection done: dropped [16] genes and [0] cells
Working on [584] genes and [499] cells
Dataset cleaning elapsed time: 1.41410398483276
Estimate `dispersion`: START
Effective number of cores used: 1
Executing 1 genes batches
Parallel dispersion Newton-Raphson: used up to 10 iterations
Total calculations elapsed time: 2.63273525238037
Estimate `dispersion`: DONE
Estimate `dispersion`: DONE
`dispersion` | min: -0.0608154544840047 | max: 1260.06995351592 | % negative: 35.6164383561644
Model parameter estimation elapsed time: 3.85712838172913
COTAN genes' COEX estimation: START
While trying to load the `torch` library Error in doTryCatch(return(expr), name, parentenv, handler): The `torch` library is installed but the required additional libraries are not available yet

Calculate genes' COEX (legacy): START
Retrieving expected genes' contingency table
calculating NN.. done
calculating NY..YN..YY..t().. done
Expected genes' contingency table elapsed time: 3.30488085746765
Calculating genes' COEX normalization factor
Calculate genes' normalization factor elapsed time: 0.0068666934967041
Retrieving observed genes' yes/yes contingency table
calculating YY.. done
Observed genes' contingency table elapsed time: 0.0419642925262451
Estimating genes' COEX
Calculate genes' COEX elapsed time: 1.16045475006104
Total calculations elapsed time: 4.51416659355164
Calculate genes' COEX (legacy): DONE
Only genes' COEX elapsed time: 5.50653576850891
Dataset analysis elapsed time: 10.7777681350708
COTAN dataset analysis: DONE
Checking uniformity for the cluster '1_2-merge' with 499 cells
Calculate GDI dataframe: START
Using S
Calculating S: START
Calculating S: DONE
Calculate `GDI`: START
Effective number of cores used: 1
Executing 1 genes batches
Total calculations elapsed time: 0.0337212085723877
Calculate `GDI`: DONE
Total calculations elapsed time: 2.86938238143921
Calculate GDI dataframe: DONE
Clean plots: START
Total calculations elapsed time: 0.0358834266662598
Clean plots: DONE
GDI plot
Removed 1 low GDI genes (such as the fully-expressed) in GDI plot
Cluster 1_2-merge, with size 499, is not uniform
Cluster 1_2-merge's shift to uniformity: 0.0566581136434114
class = AdvancedGDIUniformityCheck, firstCheck.isCheckAbove = FALSE, firstCheck.GDIThreshold = 1.297, firstCheck.maxRatioBeyond = 0.05, firstCheck.maxRankBeyond = 0, firstCheck.fractionBeyond = 0.178082191780822, firstCheck.thresholdRank = 0, firstCheck.quantileAtRatio = 1.35365811364341, firstCheck.quantileAtRank = NaN, secondCheck.isCheckAbove = TRUE, secondCheck.GDIThreshold = 1.307, secondCheck.maxRatioBeyond = 0.02, secondCheck.maxRankBeyond = 0, secondCheck.fractionBeyond = 0.148972602739726, secondCheck.thresholdRank = 0, secondCheck.quantileAtRatio = 1.37149326865972, secondCheck.quantileAtRank = NaN, thirdCheck.isCheckAbove = FALSE, thirdCheck.GDIThreshold = 1.4, thirdCheck.maxRatioBeyond = 0.01, thirdCheck.maxRankBeyond = 0, thirdCheck.fractionBeyond = 0.00513698630136986, thirdCheck.thresholdRank = 0, thirdCheck.quantileAtRatio = 1.38256306292787, thirdCheck.quantileAtRank = NaN, fourthCheck.isCheckAbove = FALSE, fourthCheck.GDIThreshold = 1.4, fourthCheck.maxRatioBeyond = NaN, fourthCheck.maxRankBeyond = 2, fourthCheck.fractionBeyond = NaN, fourthCheck.thresholdRank = 3, fourthCheck.quantileAtRatio = NaN, fourthCheck.quantileAtRank = 1.42111642638124, isUniform = FALSE, clusterSize = 499
Clusters 1 and 2 cannot be merged
Finished the first batch - no merges were executed
Loop calculations elapsed time: 19.1697113513947
Start merging nearest clusters: iteration 2
Differential Expression Analysis - START
* DEA on cluster '1' with 257 cells
* DEA on cluster '2' with 242 cells
* DEA on cluster '3' with 313 cells
* DEA on cluster '4' with 188 cells

Total calculations elapsed time: 0.0297272205352783
Differential Expression Analysis - DONE
Updating check results for the 1 already tested pairs to align to new checker
1 new clusters pairs to be tested for merging:
c("3", "4")
*3_4-merge
Asked to drop 0 genes and 499 cells
COTAN dataset analysis: START
Asked to drop 37 genes and 0 cells
Genes/cells selection done: dropped [37] genes and [0] cells
Working on [563] genes and [501] cells
Dataset cleaning elapsed time: 1.10621404647827
Estimate `dispersion`: START
Effective number of cores used: 1
Executing 1 genes batches
Parallel dispersion Newton-Raphson: used up to 11 iterations
Total calculations elapsed time: 2.6316614151001
Estimate `dispersion`: DONE
Estimate `dispersion`: DONE
`dispersion` | min: -0.107568326617881 | max: 698.639334552754 | % negative: 32.1492007104796
Model parameter estimation elapsed time: 3.83035778999329
COTAN genes' COEX estimation: START
While trying to load the `torch` library Error in doTryCatch(return(expr), name, parentenv, handler): The `torch` library is installed but the required additional libraries are not available yet

Calculate genes' COEX (legacy): START
Retrieving expected genes' contingency table
calculating NN.. done
calculating NY..YN..YY..t().. done
Expected genes' contingency table elapsed time: 3.52417898178101
Calculating genes' COEX normalization factor
Calculate genes' normalization factor elapsed time: 0.0072324275970459
Retrieving observed genes' yes/yes contingency table
calculating YY.. done
Observed genes' contingency table elapsed time: 0.0401139259338379
Estimating genes' COEX
Calculate genes' COEX elapsed time: 1.43450427055359
Total calculations elapsed time: 5.00602960586548
Calculate genes' COEX (legacy): DONE
Only genes' COEX elapsed time: 6.3606276512146
Dataset analysis elapsed time: 11.2971994876862
COTAN dataset analysis: DONE
Checking uniformity for the cluster '3_4-merge' with 501 cells
Calculate GDI dataframe: START
Using S
Calculating S: START
Calculating S: DONE
Calculate `GDI`: START
Effective number of cores used: 1
Executing 1 genes batches
Total calculations elapsed time: 0.0299341678619385
Calculate `GDI`: DONE
Total calculations elapsed time: 4.42040610313416
Calculate GDI dataframe: DONE
Clean plots: START
Total calculations elapsed time: 0.0380845069885254
Clean plots: DONE
GDI plot
Removed 0 low GDI genes (such as the fully-expressed) in GDI plot
Cluster 3_4-merge, with size 501, is not uniform
Cluster 3_4-merge's shift to uniformity: 0.0813107504723223
class = AdvancedGDIUniformityCheck, firstCheck.isCheckAbove = FALSE, firstCheck.GDIThreshold = 1.297, firstCheck.maxRatioBeyond = 0.05, firstCheck.maxRankBeyond = 0, firstCheck.fractionBeyond = 0.259325044404973, firstCheck.thresholdRank = 0, firstCheck.quantileAtRatio = 1.37831075047232, firstCheck.quantileAtRank = NaN, secondCheck.isCheckAbove = TRUE, secondCheck.GDIThreshold = 1.307, secondCheck.maxRatioBeyond = 0.02, secondCheck.maxRankBeyond = 0, secondCheck.fractionBeyond = 0.216696269982238, secondCheck.thresholdRank = 0, secondCheck.quantileAtRatio = 1.41473792188166, secondCheck.quantileAtRank = NaN, thirdCheck.isCheckAbove = FALSE, thirdCheck.GDIThreshold = 1.4, thirdCheck.maxRatioBeyond = 0.01, thirdCheck.maxRankBeyond = 0, thirdCheck.fractionBeyond = 0.0301953818827709, thirdCheck.thresholdRank = 0, thirdCheck.quantileAtRatio = 1.43341610223243, thirdCheck.quantileAtRank = NaN, fourthCheck.isCheckAbove = FALSE, fourthCheck.GDIThreshold = 1.4, fourthCheck.maxRatioBeyond = NaN, fourthCheck.maxRankBeyond = 2, fourthCheck.fractionBeyond = NaN, fourthCheck.thresholdRank = 17, fourthCheck.quantileAtRatio = NaN, fourthCheck.quantileAtRank = 1.46173948790285, isUniform = FALSE, clusterSize = 501
Clusters 3 and 4 cannot be merged
No clusters will be merged
None of the remaining tested cluster pairs could be merged
Executed all merges for threshold 1.297 out of 2 checks
Start merging nearest clusters - the main threshold is: 1.397
Start merging nearest clusters: iteration 3
Differential Expression Analysis - START
* DEA on cluster '1' with 257 cells
* DEA on cluster '2' with 242 cells
* DEA on cluster '3' with 313 cells
* DEA on cluster '4' with 188 cells

Total calculations elapsed time: 0.0326697826385498
Differential Expression Analysis - DONE
Updating check results for the 2 already tested pairs to align to new checker
1 new clusters pairs to be tested for merging:
c("2", "4")
*2_4-merge
Asked to drop 0 genes and 570 cells
COTAN dataset analysis: START
Asked to drop 9 genes and 0 cells
Genes/cells selection done: dropped [9] genes and [0] cells
Working on [591] genes and [430] cells
Dataset cleaning elapsed time: 1.4550449848175
Estimate `dispersion`: START
Effective number of cores used: 1
Executing 1 genes batches
Parallel dispersion Newton-Raphson: used up to 7 iterations
Total calculations elapsed time: 2.06558156013489
Estimate `dispersion`: DONE
Estimate `dispersion`: DONE
`dispersion` | min: -0.0739592351622374 | max: 400.051960722894 | % negative: 25.7191201353638
Model parameter estimation elapsed time: 3.1686692237854
COTAN genes' COEX estimation: START
While trying to load the `torch` library Error in doTryCatch(return(expr), name, parentenv, handler): The `torch` library is installed but the required additional libraries are not available yet

Calculate genes' COEX (legacy): START
Retrieving expected genes' contingency table
calculating NN.. done
calculating NY..YN..YY..t().. done
Expected genes' contingency table elapsed time: 3.47620964050293
Calculating genes' COEX normalization factor
Calculate genes' normalization factor elapsed time: 0.0061492919921875
Retrieving observed genes' yes/yes contingency table
calculating YY.. done
Observed genes' contingency table elapsed time: 0.0392906665802002
Estimating genes' COEX
Calculate genes' COEX elapsed time: 0.936335325241089
Total calculations elapsed time: 4.45798492431641
Calculate genes' COEX (legacy): DONE
Only genes' COEX elapsed time: 5.53498721122742
Dataset analysis elapsed time: 10.1587014198303
COTAN dataset analysis: DONE
Checking uniformity for the cluster '2_4-merge' with 430 cells
Calculate GDI dataframe: START
Using S
Calculating S: START
Calculating S: DONE
Calculate `GDI`: START
Effective number of cores used: 1
Executing 1 genes batches
Total calculations elapsed time: 0.0314188003540039
Calculate `GDI`: DONE
Total calculations elapsed time: 3.62844252586365
Calculate GDI dataframe: DONE
Clean plots: START
Total calculations elapsed time: 0.0373067855834961
Clean plots: DONE
GDI plot
Removed 0 low GDI genes (such as the fully-expressed) in GDI plot
Cluster 2_4-merge, with size 430, is not uniform
Cluster 2_4-merge's shift to uniformity: 3.07228472969514
class = AdvancedGDIUniformityCheck, firstCheck.isCheckAbove = FALSE, firstCheck.GDIThreshold = 1.397, firstCheck.maxRatioBeyond = 0.05, firstCheck.maxRankBeyond = 0, firstCheck.fractionBeyond = 0.583756345177665, firstCheck.thresholdRank = 0, firstCheck.quantileAtRatio = 3.7954982715656, firstCheck.quantileAtRank = NaN, secondCheck.isCheckAbove = TRUE, secondCheck.GDIThreshold = 1.407, secondCheck.maxRatioBeyond = 0.02, secondCheck.maxRankBeyond = 0, secondCheck.fractionBeyond = 0.576988155668359, secondCheck.thresholdRank = 0, secondCheck.quantileAtRatio = 4.08354952912925, secondCheck.quantileAtRank = NaN, thirdCheck.isCheckAbove = FALSE, thirdCheck.GDIThreshold = 1.5, thirdCheck.maxRatioBeyond = 0.01, thirdCheck.maxRankBeyond = 0, thirdCheck.fractionBeyond = 0.524534686971235, thirdCheck.thresholdRank = 0, thirdCheck.quantileAtRatio = 4.42722016730736, thirdCheck.quantileAtRank = NaN, fourthCheck.isCheckAbove = FALSE, fourthCheck.GDIThreshold = 1.5, fourthCheck.maxRatioBeyond = NaN, fourthCheck.maxRankBeyond = 2, fourthCheck.fractionBeyond = NaN, fourthCheck.thresholdRank = 310, fourthCheck.quantileAtRatio = NaN, fourthCheck.quantileAtRank = 4.57228472969514, isUniform = FALSE, clusterSize = 430
Clusters 2 and 4 cannot be merged
Clusters 1 and 2 will be merged
Clusters 4 and 3 will be merged
Executed 2 merges
Loop calculations elapsed time: 20.5406346321106
Start merging nearest clusters: iteration 4
Differential Expression Analysis - START
* DEA on cluster '1_2-merge' with 499 cells
* DEA on cluster '3_4-merge' with 501 cells

Total calculations elapsed time: 0.0278699398040771
Differential Expression Analysis - DONE
Updating check results for the 3 already tested pairs to align to new checker
1 new clusters pairs to be tested for merging:
c("1_2-merge", "3_4-merge")
*1_2-merge_3_4-merge-merge
Asked to drop no genes or cells
COTAN dataset analysis: START
Genes/cells selection done: dropped [0] genes and [0] cells
Working on [600] genes and [1000] cells
Dataset cleaning elapsed time: 1.28673791885376
Estimate `dispersion`: START
Effective number of cores used: 1
Executing 1 genes batches
Parallel dispersion Newton-Raphson: used up to 7 iterations
Total calculations elapsed time: 3.04283785820007
Estimate `dispersion`: DONE
Estimate `dispersion`: DONE
`dispersion` | min: -0.0529252975916502 | max: 462.908586418992 | % negative: 17.3333333333333
Model parameter estimation elapsed time: 4.52442026138306
COTAN genes' COEX estimation: START
While trying to load the `torch` library Error in doTryCatch(return(expr), name, parentenv, handler): The `torch` library is installed but the required additional libraries are not available yet

Calculate genes' COEX (legacy): START
Retrieving expected genes' contingency table
calculating NN.. done
calculating NY..YN..YY..t().. done
Expected genes' contingency table elapsed time: 4.20891690254211
Calculating genes' COEX normalization factor
Calculate genes' normalization factor elapsed time: 0.00841808319091797
Retrieving observed genes' yes/yes contingency table
calculating YY.. done
Observed genes' contingency table elapsed time: 0.0651137828826904
Estimating genes' COEX
Calculate genes' COEX elapsed time: 1.39354515075684
Total calculations elapsed time: 5.67599391937256
Calculate genes' COEX (legacy): DONE
Only genes' COEX elapsed time: 7.29070448875427
Dataset analysis elapsed time: 13.1018626689911
COTAN dataset analysis: DONE
Checking uniformity for the cluster '1_2-merge_3_4-merge-merge' with 1000 cells
Calculate GDI dataframe: START
Using S
Calculating S: START
Calculating S: DONE
Calculate `GDI`: START
Effective number of cores used: 1
Executing 1 genes batches
Total calculations elapsed time: 0.0334246158599854
Calculate `GDI`: DONE
Total calculations elapsed time: 4.08193564414978
Calculate GDI dataframe: DONE
Clean plots: START
Total calculations elapsed time: 0.038421630859375
Clean plots: DONE
GDI plot
Removed 0 low GDI genes (such as the fully-expressed) in GDI plot
Cluster 1_2-merge_3_4-merge-merge, with size 1000, is not uniform
Cluster 1_2-merge_3_4-merge-merge's shift to uniformity: 3.86988385120409
class = AdvancedGDIUniformityCheck, firstCheck.isCheckAbove = FALSE, firstCheck.GDIThreshold = 1.397, firstCheck.maxRatioBeyond = 0.05, firstCheck.maxRankBeyond = 0, firstCheck.fractionBeyond = 0.69, firstCheck.thresholdRank = 0, firstCheck.quantileAtRatio = 4.54596809454193, firstCheck.quantileAtRank = NaN, secondCheck.isCheckAbove = TRUE, secondCheck.GDIThreshold = 1.407, secondCheck.maxRatioBeyond = 0.02, secondCheck.maxRankBeyond = 0, secondCheck.fractionBeyond = 0.678333333333333, secondCheck.thresholdRank = 0, secondCheck.quantileAtRatio = 4.93144728766684, secondCheck.quantileAtRank = NaN, thirdCheck.isCheckAbove = FALSE, thirdCheck.GDIThreshold = 1.5, thirdCheck.maxRatioBeyond = 0.01, thirdCheck.maxRankBeyond = 0, thirdCheck.fractionBeyond = 0.593333333333333, thirdCheck.thresholdRank = 0, thirdCheck.quantileAtRatio = 5.2532296852478, thirdCheck.quantileAtRank = NaN, fourthCheck.isCheckAbove = FALSE, fourthCheck.GDIThreshold = 1.5, fourthCheck.maxRatioBeyond = NaN, fourthCheck.maxRankBeyond = 2, fourthCheck.fractionBeyond = NaN, fourthCheck.thresholdRank = 356, fourthCheck.quantileAtRatio = NaN, fourthCheck.quantileAtRank = 5.36988385120409, isUniform = FALSE, clusterSize = 1000
Clusters 1_2-merge and 3_4-merge cannot be merged
No clusters will be merged
None of the remaining tested cluster pairs could be merged
Executed all merges for threshold 1.397 out of 4 checks
The final merged clusterization contains [2] different clusters: 1_2-merge, 3_4-merge
Differential Expression Analysis - START
* DEA on cluster '1' with 499 cells
* DEA on cluster '2' with 501 cells

Total calculations elapsed time: 0.0340235233306885
Differential Expression Analysis - DONE
Applied reordering to clusterization is:
1  ->  1, 2  ->  2
Total calculations elapsed time: 86.0718457698822
Merging cells' uniform clustering: DONE
Applied reordering to clusterization is:
1  ->  1, 2  ->  2
Log Fold Change Analysis - START
* Analysis of cluster: '1'
* Analysis of cluster: '2'

Total calculations elapsed time: 2.80877947807312
Log Fold Change Analysis - DONE
[1] "Tested cluster: 1"
Asked to drop 0 genes and 501 cells
COTAN dataset analysis: START
Asked to drop 16 genes and 0 cells
Genes/cells selection done: dropped [16] genes and [0] cells
Working on [584] genes and [499] cells
Dataset cleaning elapsed time: 1.36881399154663
Estimate `dispersion`: START
Effective number of cores used: 1
Executing 1 genes batches
Parallel dispersion Newton-Raphson: used up to 10 iterations
Total calculations elapsed time: 3.19304847717285
Estimate `dispersion`: DONE
Estimate `dispersion`: DONE
`dispersion` | min: -0.0608154544840047 | max: 1260.06995351592 | % negative: 35.6164383561644
Model parameter estimation elapsed time: 4.62865686416626
COTAN genes' COEX estimation: START
While trying to load the `torch` library Error in doTryCatch(return(expr), name, parentenv, handler): The `torch` library is installed but the required additional libraries are not available yet

Calculate genes' COEX (legacy): START
Retrieving expected genes' contingency table
calculating NN.. done
calculating NY..YN..YY..t().. done
Expected genes' contingency table elapsed time: 4.85375022888184
Calculating genes' COEX normalization factor
Calculate genes' normalization factor elapsed time: 0.0080869197845459
Retrieving observed genes' yes/yes contingency table
calculating YY.. done
Observed genes' contingency table elapsed time: 0.0425088405609131
Estimating genes' COEX
Calculate genes' COEX elapsed time: 1.91977858543396
Total calculations elapsed time: 6.82412457466125
Calculate genes' COEX (legacy): DONE
Only genes' COEX elapsed time: 8.49558544158936
Dataset analysis elapsed time: 14.4930562973022
COTAN dataset analysis: DONE
Calculate GDI dataframe: START
Using S
Calculating S: START
Calculating S: DONE
Calculate `GDI`: START
Effective number of cores used: 1
Executing 1 genes batches
Total calculations elapsed time: 0.0353479385375977
Calculate `GDI`: DONE
Total calculations elapsed time: 5.92465496063232
Calculate GDI dataframe: DONE
Dispersion bisection: straddling used 2 iterations
Dispersion bisection: used 8 iterations
Dispersion bisection: straddling used 1 iterations
Dispersion bisection: used 9 iterations
Dispersion Newton-Raphson: used up to 4 iterations
Dispersion Newton-Raphson: used up to 4 iterations
parallel dispersion bisection: straddling used up to 2 iterations
Parallel dispersion bisection: used up to 9 iterations
Parallel dispersion Newton-Raphson: used up to 4 iterations
[ FAIL 0 | WARN 3 | SKIP 0 | PASS 572 ]

[ FAIL 0 | WARN 3 | SKIP 0 | PASS 572 ]
> 
> proc.time()
   user  system elapsed 
781.332   6.100 783.579 

Example timings

COTAN.Rcheck/COTAN-Ex.timings

nameusersystemelapsed
COTAN_Legacy0.0010.0020.003
COTAN_ObjectCreation9.4240.4219.565
CalculatingCOEX51.697 0.94351.589
ClustersList0.0060.0020.009
Conversions4.6310.0434.674
GenesStatistics10.553 0.09810.364
HandleMetaData0.0380.0000.037
HandlingClusterizations40.640 0.21940.523
HandlingConditions0.0770.0050.082
HeatmapPlots30.409 0.41230.040
Installing_torch000
LoggingFunctions0.0010.0010.002
ParametersEstimations20.909 0.22421.115
RawDataCleaning4.2950.0414.272
RawDataGetters0.0370.0080.044
UniformClusters65.473 0.17064.882
getColorsVector0.0010.0000.001