Back to Build/check report for BioC 3.23:   simplified   long
AB[C]DEFGHIJKLMNOPQRSTUVWXYZ

This page was generated on 2025-11-13 11:32 -0500 (Thu, 13 Nov 2025).

HostnameOSArch (*)R versionInstalled pkgs
kjohnson3macOS 13.7.7 Venturaarm64R Under development (unstable) (2025-11-04 r88984) -- "Unsuffered Consequences" 4013
Click on any hostname to see more info about the system (e.g. compilers)      (*) as reported by 'uname -p', except on Windows and Mac OS X

Package 359/2325HostnameOS / ArchINSTALLBUILDCHECKBUILD BIN
CIMICE 1.19.0  (landing page)
Nicolò Rossi
Snapshot Date: 2025-11-12 13:40 -0500 (Wed, 12 Nov 2025)
git_url: https://git.bioconductor.org/packages/CIMICE
git_branch: devel
git_last_commit: 057a38f
git_last_commit_date: 2025-10-29 11:07:23 -0500 (Wed, 29 Oct 2025)
kjohnson3macOS 13.7.7 Ventura / arm64  OK    OK    OK    OK  YES


CHECK results for CIMICE on kjohnson3

To the developers/maintainers of the CIMICE package:
- Allow up to 24 hours (and sometimes 48 hours) for your latest push to git@git.bioconductor.org:packages/CIMICE.git to reflect on this report. See Troubleshooting Build Report for more information.
- Use the following Renviron settings to reproduce errors and warnings.
- If 'R CMD check' started to fail recently on the Linux builder(s) over a missing dependency, add the missing dependency to 'Suggests:' in your DESCRIPTION file. See Renviron.bioc for more information.

raw results


Summary

Package: CIMICE
Version: 1.19.0
Command: /Library/Frameworks/R.framework/Resources/bin/R CMD check --install=check:CIMICE.install-out.txt --library=/Library/Frameworks/R.framework/Resources/library --no-vignettes --timings CIMICE_1.19.0.tar.gz
StartedAt: 2025-11-12 18:20:09 -0500 (Wed, 12 Nov 2025)
EndedAt: 2025-11-12 18:20:48 -0500 (Wed, 12 Nov 2025)
EllapsedTime: 38.5 seconds
RetCode: 0
Status:   OK  
CheckDir: CIMICE.Rcheck
Warnings: 0

Command output

##############################################################################
##############################################################################
###
### Running command:
###
###   /Library/Frameworks/R.framework/Resources/bin/R CMD check --install=check:CIMICE.install-out.txt --library=/Library/Frameworks/R.framework/Resources/library --no-vignettes --timings CIMICE_1.19.0.tar.gz
###
##############################################################################
##############################################################################


* using log directory ‘/Users/biocbuild/bbs-3.23-bioc/meat/CIMICE.Rcheck’
* using R Under development (unstable) (2025-11-04 r88984)
* using platform: aarch64-apple-darwin20
* R was compiled by
    Apple clang version 16.0.0 (clang-1600.0.26.6)
    GNU Fortran (GCC) 14.2.0
* running under: macOS Ventura 13.7.8
* using session charset: UTF-8
* using option ‘--no-vignettes’
* checking for file ‘CIMICE/DESCRIPTION’ ... OK
* checking extension type ... Package
* this is package ‘CIMICE’ version ‘1.19.0’
* package encoding: UTF-8
* checking package namespace information ... OK
* checking package dependencies ... OK
* checking if this is a source package ... OK
* checking if there is a namespace ... OK
* checking for hidden files and directories ... NOTE
Found the following hidden files and directories:
  .git.bfg-report
These were most likely included in error. See section ‘Package
structure’ in the ‘Writing R Extensions’ manual.
* checking for portable file names ... OK
* checking for sufficient/correct file permissions ... OK
* checking whether package ‘CIMICE’ can be installed ... OK
* checking installed package size ... OK
* checking package directory ... OK
* checking ‘build’ directory ... OK
* checking DESCRIPTION meta-information ... OK
* checking top-level files ... OK
* checking for left-over files ... OK
* checking index information ... OK
* checking package subdirectories ... OK
* checking code files for non-ASCII characters ... OK
* checking R files for syntax errors ... OK
* checking whether the package can be loaded ... OK
* checking whether the package can be loaded with stated dependencies ... OK
* checking whether the package can be unloaded cleanly ... OK
* checking whether the namespace can be loaded with stated dependencies ... OK
* checking whether the namespace can be unloaded cleanly ... OK
* checking dependencies in R code ... OK
* checking S3 generic/method consistency ... OK
* checking replacement functions ... OK
* checking foreign function calls ... OK
* checking R code for possible problems ... OK
* checking Rd files ... OK
* checking Rd metadata ... OK
* checking Rd cross-references ... OK
* checking for missing documentation entries ... OK
* checking for code/documentation mismatches ... OK
* checking Rd \usage sections ... OK
* checking Rd contents ... OK
* checking for unstated dependencies in examples ... OK
* checking files in ‘vignettes’ ... OK
* checking examples ... OK
* checking for unstated dependencies in ‘tests’ ... OK
* checking tests ...
  Running ‘testthat.R’
 OK
* checking for unstated dependencies in vignettes ... OK
* checking package vignettes ... OK
* checking running R code from vignettes ... SKIPPED
* checking re-building of vignette outputs ... SKIPPED
* checking PDF version of manual ... OK
* DONE

Status: 1 NOTE
See
  ‘/Users/biocbuild/bbs-3.23-bioc/meat/CIMICE.Rcheck/00check.log’
for details.


Installation output

CIMICE.Rcheck/00install.out

##############################################################################
##############################################################################
###
### Running command:
###
###   /Library/Frameworks/R.framework/Resources/bin/R CMD INSTALL CIMICE
###
##############################################################################
##############################################################################


* installing to library ‘/Library/Frameworks/R.framework/Versions/4.6-arm64/Resources/library’
* installing *source* package ‘CIMICE’ ...
** this is package ‘CIMICE’ version ‘1.19.0’
** using staged installation
** R
** inst
** byte-compile and prepare package for lazy loading
** help
*** installing help indices
** building package indices
** installing vignettes
** testing if installed package can be loaded from temporary location
** testing if installed package can be loaded from final location
** testing if installed package keeps a record of temporary installation path
* DONE (CIMICE)

Tests output

CIMICE.Rcheck/tests/testthat.Rout


R Under development (unstable) (2025-11-04 r88984) -- "Unsuffered Consequences"
Copyright (C) 2025 The R Foundation for Statistical Computing
Platform: aarch64-apple-darwin20

R is free software and comes with ABSOLUTELY NO WARRANTY.
You are welcome to redistribute it under certain conditions.
Type 'license()' or 'licence()' for distribution details.

R is a collaborative project with many contributors.
Type 'contributors()' for more information and
'citation()' on how to cite R or R packages in publications.

Type 'demo()' for some demos, 'help()' for on-line help, or
'help.start()' for an HTML browser interface to help.
Type 'q()' to quit R.

> library(testthat)
> library(CIMICE)
> 
> test_check("CIMICE")
[ FAIL 0 | WARN 2 | SKIP 0 | PASS 1 ]

[ FAIL 0 | WARN 2 | SKIP 0 | PASS 1 ]
> 
> proc.time()
   user  system elapsed 
  1.389   0.109   1.613 

Example timings

CIMICE.Rcheck/CIMICE-Ex.timings

nameusersystemelapsed
annotate_mutational_matrix0.0080.0010.008
binary_radix_sort0.0120.0010.013
build_subset_graph0.0150.0010.017
build_topology_subset0.0090.0000.011
chunk_reader0.0030.0010.003
compact_dataset0.0030.0000.002
computeDWNW0.0460.0010.048
computeUPW0.0220.0000.023
compute_weights_default0.0180.0000.019
corrplot_from_mutational_matrix0.3130.0090.332
corrplot_genes0.1270.0050.134
corrplot_samples0.0810.0010.082
dataset_preprocessing0.0070.0000.008
dataset_preprocessing_population0.0050.0000.006
draw_ggraph0.0990.0020.105
draw_networkD30.0510.0040.062
draw_visNetwork0.0230.0070.034
example_dataset0.0010.0000.001
example_dataset_withFreqs0.0010.0000.001
finalize_generator0.0510.0010.061
fix_clonal_genotype0.0100.0000.018
format_labels000
gene_mutations_hist0.0590.0020.062
get_no_of_children0.0220.0010.023
graph_non_transitive_subset_topology0.0150.0010.023
make_dataset0.0000.0000.001
make_generator_stub0.0200.0010.021
make_labels0.0140.0000.013
normalizeDWNW0.0220.0010.023
normalizeUPW0.0200.0010.020
perturb_dataset0.1030.0020.120
plot_generator0.1280.0020.133
prepare_generator_edge_set_command0.0310.0010.032
prepare_labels0.0080.0000.009
quick_run0.0140.0000.015
read0.2610.2200.496
read_CAPRI0.2620.2200.496
read_CAPRI_string0.0020.0010.002
read_CAPRIpop0.0010.0000.001
read_CAPRIpop_string0.0010.0010.001
read_MAF0.0850.0230.113
read_matrix0.0010.0000.001
remove_transitive_edges000
sample_mutations_hist0.0690.0010.071
select_genes_on_mutations0.0020.0010.002
select_samples_on_mutations0.0090.0000.010
set_generator_edges0.0410.0010.045
simulate_generator0.0360.0010.044
to_dot0.0170.0000.017
update_df0.0060.0010.006