| Back to Build/check report for BioC 3.23: simplified long |
|
This page was generated on 2025-10-30 11:32 -0400 (Thu, 30 Oct 2025).
| Hostname | OS | Arch (*) | R version | Installed pkgs |
|---|---|---|---|---|
| nebbiolo1 | Linux (Ubuntu 24.04.3 LTS) | x86_64 | R Under development (unstable) (2025-10-20 r88955) -- "Unsuffered Consequences" | 4427 |
| Click on any hostname to see more info about the system (e.g. compilers) (*) as reported by 'uname -p', except on Windows and Mac OS X | ||||
| Package 170/2321 | Hostname | OS / Arch | INSTALL | BUILD | CHECK | BUILD BIN | ||||||||
| BgeeCall 1.27.0 (landing page) Julien Wollbrett
| nebbiolo1 | Linux (Ubuntu 24.04.3 LTS) / x86_64 | OK | OK | OK | |||||||||
|
To the developers/maintainers of the BgeeCall package: - Allow up to 24 hours (and sometimes 48 hours) for your latest push to git@git.bioconductor.org:packages/BgeeCall.git to reflect on this report. See Troubleshooting Build Report for more information. - Use the following Renviron settings to reproduce errors and warnings. - If 'R CMD check' started to fail recently on the Linux builder(s) over a missing dependency, add the missing dependency to 'Suggests:' in your DESCRIPTION file. See Renviron.bioc for more information. |
| Package: BgeeCall |
| Version: 1.27.0 |
| Command: /home/biocbuild/bbs-3.23-bioc/R/bin/R CMD check --install=check:BgeeCall.install-out.txt --library=/home/biocbuild/bbs-3.23-bioc/R/site-library --timings BgeeCall_1.27.0.tar.gz |
| StartedAt: 2025-10-30 04:35:31 -0400 (Thu, 30 Oct 2025) |
| EndedAt: 2025-10-30 04:41:39 -0400 (Thu, 30 Oct 2025) |
| EllapsedTime: 367.7 seconds |
| RetCode: 0 |
| Status: OK |
| CheckDir: BgeeCall.Rcheck |
| Warnings: 0 |
##############################################################################
##############################################################################
###
### Running command:
###
### /home/biocbuild/bbs-3.23-bioc/R/bin/R CMD check --install=check:BgeeCall.install-out.txt --library=/home/biocbuild/bbs-3.23-bioc/R/site-library --timings BgeeCall_1.27.0.tar.gz
###
##############################################################################
##############################################################################
* using log directory ‘/home/biocbuild/bbs-3.23-bioc/meat/BgeeCall.Rcheck’
* using R Under development (unstable) (2025-10-20 r88955)
* using platform: x86_64-pc-linux-gnu
* R was compiled by
gcc (Ubuntu 13.3.0-6ubuntu2~24.04) 13.3.0
GNU Fortran (Ubuntu 13.3.0-6ubuntu2~24.04) 13.3.0
* running under: Ubuntu 24.04.3 LTS
* using session charset: UTF-8
* checking for file ‘BgeeCall/DESCRIPTION’ ... OK
* checking extension type ... Package
* this is package ‘BgeeCall’ version ‘1.27.0’
* package encoding: UTF-8
* checking package namespace information ... OK
* checking package dependencies ... INFO
Imports includes 21 non-default packages.
Importing from so many packages makes the package vulnerable to any of
them becoming unavailable. Move as many as possible to Suggests and
use conditionally.
* checking if this is a source package ... OK
* checking if there is a namespace ... OK
* checking for hidden files and directories ... OK
* checking for portable file names ... OK
* checking for sufficient/correct file permissions ... OK
* checking whether package ‘BgeeCall’ can be installed ... OK
* checking installed package size ... INFO
installed size is 6.9Mb
sub-directories of 1Mb or more:
extdata 6.3Mb
* checking package directory ... OK
* checking ‘build’ directory ... OK
* checking DESCRIPTION meta-information ... OK
* checking top-level files ... OK
* checking for left-over files ... OK
* checking index information ... OK
* checking package subdirectories ... OK
* checking code files for non-ASCII characters ... OK
* checking R files for syntax errors ... OK
* checking whether the package can be loaded ... OK
* checking whether the package can be loaded with stated dependencies ... OK
* checking whether the package can be unloaded cleanly ... OK
* checking whether the namespace can be loaded with stated dependencies ... OK
* checking whether the namespace can be unloaded cleanly ... OK
* checking loading without being on the library search path ... OK
* checking dependencies in R code ... OK
* checking S3 generic/method consistency ... OK
* checking replacement functions ... OK
* checking foreign function calls ... OK
* checking R code for possible problems ... NOTE
galaxy_calls: no visible binding for global variable ‘output_file’
generate_calls_workflow: no visible binding for global variable
‘myUserMetadata’
generate_fasta_intergenic_regions: no visible binding for global
variable ‘classification’
generate_theoretical_pValue: no visible binding for global variable
‘abundance’
get_run_accessions_by_experiment: no visible binding for global
variable ‘sra_con’
retrieve_gtf_files: no visible global function definition for ‘cols’
Undefined global functions or variables:
abundance classification cols myUserMetadata output_file sra_con
* checking Rd files ... OK
* checking Rd metadata ... OK
* checking Rd cross-references ... OK
* checking for missing documentation entries ... OK
* checking for code/documentation mismatches ... OK
* checking Rd \usage sections ... OK
* checking Rd contents ... OK
* checking for unstated dependencies in examples ... OK
* checking files in ‘vignettes’ ... OK
* checking examples ... OK
Examples with CPU (user + system) or elapsed time > 5s
user system elapsed
generate_presence_absence 3.932 0.487 8.608
* checking for unstated dependencies in ‘tests’ ... OK
* checking tests ...
Running ‘testthat.R’
OK
* checking for unstated dependencies in vignettes ... OK
* checking package vignettes ... OK
* checking re-building of vignette outputs ... OK
* checking PDF version of manual ... OK
* DONE
Status: 1 NOTE
See
‘/home/biocbuild/bbs-3.23-bioc/meat/BgeeCall.Rcheck/00check.log’
for details.
BgeeCall.Rcheck/00install.out
############################################################################## ############################################################################## ### ### Running command: ### ### /home/biocbuild/bbs-3.23-bioc/R/bin/R CMD INSTALL BgeeCall ### ############################################################################## ############################################################################## * installing to library ‘/home/biocbuild/bbs-3.23-bioc/R/site-library’ * installing *source* package ‘BgeeCall’ ... ** this is package ‘BgeeCall’ version ‘1.27.0’ ** using staged installation ** R ** inst ** byte-compile and prepare package for lazy loading ** help *** installing help indices ** building package indices ** installing vignettes ** testing if installed package can be loaded from temporary location ** testing if installed package can be loaded from final location ** testing if installed package keeps a record of temporary installation path * DONE (BgeeCall)
BgeeCall.Rcheck/tests/testthat.Rout
R Under development (unstable) (2025-10-20 r88955) -- "Unsuffered Consequences"
Copyright (C) 2025 The R Foundation for Statistical Computing
Platform: x86_64-pc-linux-gnu
R is free software and comes with ABSOLUTELY NO WARRANTY.
You are welcome to redistribute it under certain conditions.
Type 'license()' or 'licence()' for distribution details.
R is a collaborative project with many contributors.
Type 'contributors()' for more information and
'citation()' on how to cite R or R packages in publications.
Type 'demo()' for some demos, 'help()' for on-line help, or
'help.start()' for an HTML browser interface to help.
Type 'q()' to quit R.
> library(testthat)
> library(BgeeCall)
>
> Sys.setenv("R_TESTS" = "")
> test_check("BgeeCall")
trying URL 'https://www.bgee.org/ftp/intergenic/0.1/ref_intergenic/6239_intergenic.fa.gz'
Content type 'application/x-gzip' length 4420457 bytes (4.2 MB)
==================================================
downloaded 4.2 MB
trying URL 'https://www.bgee.org/ftp/intergenic/0.1/ref_intergenic/6239_intergenic.fa.gz'
Content type 'application/x-gzip' length 4420457 bytes (4.2 MB)
==================================================
downloaded 4.2 MB
trying URL 'https://www.bgee.org/ftp/intergenic/0.1/ref_intergenic/6239_intergenic.fa.gz'
Content type 'application/x-gzip' length 4420457 bytes (4.2 MB)
==================================================
downloaded 4.2 MB
[ FAIL 0 | WARN 0 | SKIP 0 | PASS 12 ]
>
> proc.time()
user system elapsed
15.042 0.995 30.632
BgeeCall.Rcheck/BgeeCall-Ex.timings
| name | user | system | elapsed | |
| Pvalue_averaging | 0 | 0 | 0 | |
| create_kallisto_index | 0 | 0 | 0 | |
| download_fasta_intergenic | 0.002 | 0.000 | 0.001 | |
| download_kallisto | 0.228 | 0.044 | 0.540 | |
| generate_calls_workflow | 0.001 | 0.000 | 0.001 | |
| generate_presence_absence | 3.932 | 0.487 | 8.608 | |
| generate_slurm_calls | 0.001 | 0.000 | 0.000 | |
| generate_slurm_indexes | 0 | 0 | 0 | |
| getIntergenicPrefix | 0.101 | 0.002 | 0.691 | |
| getIntergenicRelease | 0.170 | 0.003 | 0.757 | |
| getRunIds | 0.000 | 0.001 | 0.000 | |
| getSimpleArborescence | 0.000 | 0.001 | 0.000 | |
| getWorkingPath | 0.001 | 0.000 | 0.001 | |
| list_bgee_ref_intergenic_species | 0.445 | 0.020 | 1.751 | |
| list_community_ref_intergenic_species | 0.060 | 0.000 | 1.315 | |
| list_intergenic_release | 0.097 | 0.001 | 0.511 | |
| merge_transcriptome_and_intergenic | 0.570 | 0.058 | 4.810 | |
| merging_libraries | 0 | 0 | 0 | |
| run_kallisto | 0 | 0 | 0 | |
| run_tximport | 0.776 | 0.103 | 1.255 | |
| setAnnotationFromFile | 0.161 | 0.011 | 0.740 | |
| setAnnotationFromObject | 0.104 | 0.007 | 0.666 | |
| setIntergenicRelease | 0.163 | 0.012 | 0.520 | |
| setOutputDir | 0.000 | 0.000 | 0.001 | |
| setRNASeqLibPath | 0.000 | 0.000 | 0.001 | |
| setRunIds | 0.001 | 0.000 | 0.000 | |
| setSimpleArborescence | 0 | 0 | 0 | |
| setTranscriptomeFromFile | 0.008 | 0.001 | 0.009 | |
| setTranscriptomeFromObject | 0.008 | 0.000 | 0.008 | |
| setWorkingPath | 0.000 | 0.000 | 0.001 | |