Back to Multiple platform build/check report for BioC 3.23:   simplified   long
[A]BCDEFGHIJKLMNOPQRSTUVWXYZ

This page was generated on 2025-11-14 11:36 -0500 (Fri, 14 Nov 2025).

HostnameOSArch (*)R versionInstalled pkgs
nebbiolo1Linux (Ubuntu 24.04.3 LTS)x86_64R Under development (unstable) (2025-10-20 r88955) -- "Unsuffered Consequences" 4825
kjohnson3macOS 13.7.7 Venturaarm64R Under development (unstable) (2025-11-04 r88984) -- "Unsuffered Consequences" 4547
Click on any hostname to see more info about the system (e.g. compilers)      (*) as reported by 'uname -p', except on Windows and Mac OS X

Package 88/2325HostnameOS / ArchINSTALLBUILDCHECKBUILD BIN
AnVILGCP 1.5.2  (landing page)
Marcel Ramos
Snapshot Date: 2025-11-13 13:40 -0500 (Thu, 13 Nov 2025)
git_url: https://git.bioconductor.org/packages/AnVILGCP
git_branch: devel
git_last_commit: 3081ee6
git_last_commit_date: 2025-11-10 12:46:55 -0500 (Mon, 10 Nov 2025)
nebbiolo1Linux (Ubuntu 24.04.3 LTS) / x86_64  OK    OK    ERROR  
kjohnson3macOS 13.7.7 Ventura / arm64  OK    OK    ERROR    OK  


CHECK results for AnVILGCP on kjohnson3

To the developers/maintainers of the AnVILGCP package:
- Allow up to 24 hours (and sometimes 48 hours) for your latest push to git@git.bioconductor.org:packages/AnVILGCP.git to reflect on this report. See Troubleshooting Build Report for more information.
- Use the following Renviron settings to reproduce errors and warnings.
- If 'R CMD check' started to fail recently on the Linux builder(s) over a missing dependency, add the missing dependency to 'Suggests:' in your DESCRIPTION file. See Renviron.bioc for more information.

raw results


Summary

Package: AnVILGCP
Version: 1.5.2
Command: /Library/Frameworks/R.framework/Resources/bin/R CMD check --install=check:AnVILGCP.install-out.txt --library=/Library/Frameworks/R.framework/Resources/library --no-vignettes --timings AnVILGCP_1.5.2.tar.gz
StartedAt: 2025-11-13 18:31:06 -0500 (Thu, 13 Nov 2025)
EndedAt: 2025-11-13 18:31:26 -0500 (Thu, 13 Nov 2025)
EllapsedTime: 20.4 seconds
RetCode: 1
Status:   ERROR  
CheckDir: AnVILGCP.Rcheck
Warnings: NA

Command output

##############################################################################
##############################################################################
###
### Running command:
###
###   /Library/Frameworks/R.framework/Resources/bin/R CMD check --install=check:AnVILGCP.install-out.txt --library=/Library/Frameworks/R.framework/Resources/library --no-vignettes --timings AnVILGCP_1.5.2.tar.gz
###
##############################################################################
##############################################################################


* using log directory ‘/Users/biocbuild/bbs-3.23-bioc/meat/AnVILGCP.Rcheck’
* using R Under development (unstable) (2025-11-04 r88984)
* using platform: aarch64-apple-darwin20
* R was compiled by
    Apple clang version 16.0.0 (clang-1600.0.26.6)
    GNU Fortran (GCC) 14.2.0
* running under: macOS Ventura 13.7.8
* using session charset: UTF-8
* using option ‘--no-vignettes’
* checking for file ‘AnVILGCP/DESCRIPTION’ ... OK
* this is package ‘AnVILGCP’ version ‘1.5.2’
* package encoding: UTF-8
* checking package namespace information ... OK
* checking package dependencies ... OK
* checking if this is a source package ... OK
* checking if there is a namespace ... OK
* checking for hidden files and directories ... OK
* checking for portable file names ... OK
* checking for sufficient/correct file permissions ... OK
* checking whether package ‘AnVILGCP’ can be installed ... OK
* checking installed package size ... OK
* checking package directory ... OK
* checking ‘build’ directory ... OK
* checking DESCRIPTION meta-information ... OK
* checking top-level files ... OK
* checking for left-over files ... OK
* checking index information ... OK
* checking package subdirectories ... OK
* checking code files for non-ASCII characters ... OK
* checking R files for syntax errors ... OK
* checking whether the package can be loaded ... OK
* checking whether the package can be loaded with stated dependencies ... OK
* checking whether the package can be unloaded cleanly ... OK
* checking whether the namespace can be loaded with stated dependencies ... OK
* checking whether the namespace can be unloaded cleanly ... OK
* checking dependencies in R code ... OK
* checking S3 generic/method consistency ... OK
* checking replacement functions ... OK
* checking foreign function calls ... OK
* checking R code for possible problems ... OK
* checking Rd files ... OK
* checking Rd metadata ... OK
* checking Rd cross-references ... OK
* checking for missing documentation entries ... OK
* checking for code/documentation mismatches ... OK
* checking Rd \usage sections ... OK
* checking Rd contents ... OK
* checking for unstated dependencies in examples ... OK
* checking files in ‘vignettes’ ... OK
* checking examples ... OK
* checking for unstated dependencies in ‘tests’ ... OK
* checking tests ...
  Running ‘testthat.R’
 ERROR
Running the tests in ‘tests/testthat.R’ failed.
Last 13 lines of output:
  ── Error ('test_avnotebooks.R:10:5'): 'avnotebooks()' works ────────────────────
  <lifecycle_error_deprecated/defunctError/rlang_error/error/condition>
  Error: `with_mock()` was deprecated in testthat 3.2.0 and is now defunct.
  ℹ Please use `with_mocked_bindings()` instead.
  Backtrace:
      ▆
   1. └─testthat::with_mock(...) at test_avnotebooks.R:10:5
   2.   └─lifecycle::deprecate_stop("3.2.0", "with_mock()", "with_mocked_bindings()")
   3.     └─lifecycle:::deprecate_stop0(msg)
   4.       └─rlang::cnd_signal(...)
  
  [ FAIL 1 | WARN 0 | SKIP 0 | PASS 29 ]
  Error:
  ! Test failures.
  Execution halted
* checking for unstated dependencies in vignettes ... OK
* checking package vignettes ... OK
* checking running R code from vignettes ... SKIPPED
* checking re-building of vignette outputs ... SKIPPED
* checking PDF version of manual ... OK
* DONE

Status: 1 ERROR
See
  ‘/Users/biocbuild/bbs-3.23-bioc/meat/AnVILGCP.Rcheck/00check.log’
for details.


Installation output

AnVILGCP.Rcheck/00install.out

##############################################################################
##############################################################################
###
### Running command:
###
###   /Library/Frameworks/R.framework/Resources/bin/R CMD INSTALL AnVILGCP
###
##############################################################################
##############################################################################


* installing to library ‘/Library/Frameworks/R.framework/Versions/4.6-arm64/Resources/library’
* installing *source* package ‘AnVILGCP’ ...
** this is package ‘AnVILGCP’ version ‘1.5.2’
** using staged installation
** R
** byte-compile and prepare package for lazy loading
** help
*** installing help indices
** building package indices
** installing vignettes
** testing if installed package can be loaded from temporary location
** testing if installed package can be loaded from final location
** testing if installed package keeps a record of temporary installation path
* DONE (AnVILGCP)

Tests output

AnVILGCP.Rcheck/tests/testthat.Rout.fail


R Under development (unstable) (2025-11-04 r88984) -- "Unsuffered Consequences"
Copyright (C) 2025 The R Foundation for Statistical Computing
Platform: aarch64-apple-darwin20

R is free software and comes with ABSOLUTELY NO WARRANTY.
You are welcome to redistribute it under certain conditions.
Type 'license()' or 'licence()' for distribution details.

R is a collaborative project with many contributors.
Type 'contributors()' for more information and
'citation()' on how to cite R or R packages in publications.

Type 'demo()' for some demos, 'help()' for on-line help, or
'help.start()' for an HTML browser interface to help.
Type 'q()' to quit R.

> library(testthat)
> library(AnVILGCP)
> 
> test_check("AnVILGCP")
Saving _problems/test_avnotebooks-14.R
[ FAIL 1 | WARN 0 | SKIP 0 | PASS 29 ]

══ Failed tests ════════════════════════════════════════════════════════════════
── Error ('test_avnotebooks.R:10:5'): 'avnotebooks()' works ────────────────────
<lifecycle_error_deprecated/defunctError/rlang_error/error/condition>
Error: `with_mock()` was deprecated in testthat 3.2.0 and is now defunct.
ℹ Please use `with_mocked_bindings()` instead.
Backtrace:
    ▆
 1. └─testthat::with_mock(...) at test_avnotebooks.R:10:5
 2.   └─lifecycle::deprecate_stop("3.2.0", "with_mock()", "with_mocked_bindings()")
 3.     └─lifecycle:::deprecate_stop0(msg)
 4.       └─rlang::cnd_signal(...)

[ FAIL 1 | WARN 0 | SKIP 0 | PASS 29 ]
Error:
! Test failures.
Execution halted

Example timings

AnVILGCP.Rcheck/AnVILGCP-Ex.timings

nameusersystemelapsed
av0.0100.0150.036
avdata0.0050.0060.018
avnotebooks-methods0.0040.0070.012
avtable-methods0.0060.0060.014
avworkflow-methods0.0040.0050.010
avworkflow0.0140.0300.053
avworkflow_configuration0.0070.0050.014
avworkspace-methods0.0010.0060.009
drs0.0020.0050.009
gcp-methods0.0060.0140.026
gsutil-deprecated0.0070.0200.046
has_avworkspace-methods0.0010.0040.006