| Back to Multiple platform build/check report for BioC 3.23: simplified long |
|
This page was generated on 2025-11-19 10:13 -0500 (Wed, 19 Nov 2025).
| Hostname | OS | Arch (*) | R version | Installed pkgs |
|---|---|---|---|---|
| nebbiolo1 | Linux (Ubuntu 24.04.3 LTS) | x86_64 | R Under development (unstable) (2025-10-20 r88955) -- "Unsuffered Consequences" | 4827 |
| lconway | macOS 12.7.6 Monterey | x86_64 | R Under development (unstable) (2025-10-21 r88958) -- "Unsuffered Consequences" | 4600 |
| kjohnson3 | macOS 13.7.7 Ventura | arm64 | R Under development (unstable) (2025-11-04 r88984) -- "Unsuffered Consequences" | 4564 |
| Click on any hostname to see more info about the system (e.g. compilers) (*) as reported by 'uname -p', except on Windows and Mac OS X | ||||
| Package 59/2325 | Hostname | OS / Arch | INSTALL | BUILD | CHECK | BUILD BIN | ||||||||
| AlpsNMR 4.13.0 (landing page) Sergio Oller Moreno
| nebbiolo1 | Linux (Ubuntu 24.04.3 LTS) / x86_64 | OK | OK | OK | |||||||||
| lconway | macOS 12.7.6 Monterey / x86_64 | OK | OK | OK | OK | |||||||||
| kjohnson3 | macOS 13.7.7 Ventura / arm64 | OK | OK | OK | OK | |||||||||
|
To the developers/maintainers of the AlpsNMR package: - Allow up to 24 hours (and sometimes 48 hours) for your latest push to git@git.bioconductor.org:packages/AlpsNMR.git to reflect on this report. See Troubleshooting Build Report for more information. - Use the following Renviron settings to reproduce errors and warnings. - If 'R CMD check' started to fail recently on the Linux builder(s) over a missing dependency, add the missing dependency to 'Suggests:' in your DESCRIPTION file. See Renviron.bioc for more information. |
| Package: AlpsNMR |
| Version: 4.13.0 |
| Command: /Library/Frameworks/R.framework/Resources/bin/R CMD check --install=check:AlpsNMR.install-out.txt --library=/Library/Frameworks/R.framework/Resources/library --no-vignettes --timings AlpsNMR_4.13.0.tar.gz |
| StartedAt: 2025-11-18 19:20:29 -0500 (Tue, 18 Nov 2025) |
| EndedAt: 2025-11-18 19:24:23 -0500 (Tue, 18 Nov 2025) |
| EllapsedTime: 233.4 seconds |
| RetCode: 0 |
| Status: OK |
| CheckDir: AlpsNMR.Rcheck |
| Warnings: 0 |
##############################################################################
##############################################################################
###
### Running command:
###
### /Library/Frameworks/R.framework/Resources/bin/R CMD check --install=check:AlpsNMR.install-out.txt --library=/Library/Frameworks/R.framework/Resources/library --no-vignettes --timings AlpsNMR_4.13.0.tar.gz
###
##############################################################################
##############################################################################
* using log directory ‘/Users/biocbuild/bbs-3.23-bioc/meat/AlpsNMR.Rcheck’
* using R Under development (unstable) (2025-10-21 r88958)
* using platform: x86_64-apple-darwin20
* R was compiled by
Apple clang version 14.0.0 (clang-1400.0.29.202)
GNU Fortran (GCC) 14.2.0
* running under: macOS Ventura 13.7.8
* using session charset: UTF-8
* using option ‘--no-vignettes’
* checking for file ‘AlpsNMR/DESCRIPTION’ ... OK
* checking extension type ... Package
* this is package ‘AlpsNMR’ version ‘4.13.0’
* package encoding: UTF-8
* checking package namespace information ... OK
* checking package dependencies ... INFO
Imports includes 26 non-default packages.
Importing from so many packages makes the package vulnerable to any of
them becoming unavailable. Move as many as possible to Suggests and
use conditionally.
* checking if this is a source package ... OK
* checking if there is a namespace ... OK
* checking for hidden files and directories ... OK
* checking for portable file names ... OK
* checking for sufficient/correct file permissions ... OK
* checking whether package ‘AlpsNMR’ can be installed ... OK
* checking installed package size ... OK
* checking package directory ... OK
* checking ‘build’ directory ... OK
* checking DESCRIPTION meta-information ... OK
* checking top-level files ... OK
* checking for left-over files ... OK
* checking index information ... OK
* checking package subdirectories ... OK
* checking code files for non-ASCII characters ... OK
* checking R files for syntax errors ... OK
* checking whether the package can be loaded ... OK
* checking whether the package can be loaded with stated dependencies ... OK
* checking whether the package can be unloaded cleanly ... OK
* checking whether the namespace can be loaded with stated dependencies ... OK
* checking whether the namespace can be unloaded cleanly ... OK
* checking dependencies in R code ... OK
* checking S3 generic/method consistency ... OK
* checking replacement functions ... OK
* checking foreign function calls ... OK
* checking R code for possible problems ... OK
* checking Rd files ... OK
* checking Rd metadata ... OK
* checking Rd cross-references ... NOTE
Non-topic package-anchored link(s) in Rd file 'reexports.Rd':
‘[magrittr:pipe]{%>%}’
See section 'Cross-references' in the 'Writing R Extensions' manual.
Found the following Rd file(s) with Rd \link{} targets missing package
anchors:
filter.nmr_dataset_family.Rd: dplyr
Please provide package anchors for all Rd \link{} targets not in the
package itself and the base packages.
* checking for missing documentation entries ... OK
* checking for code/documentation mismatches ... OK
* checking Rd \usage sections ... OK
* checking Rd contents ... OK
* checking for unstated dependencies in examples ... OK
* checking contents of ‘data’ directory ... OK
* checking data for non-ASCII characters ... OK
* checking data for ASCII and uncompressed saves ... OK
* checking sizes of PDF files under ‘inst/doc’ ... OK
* checking files in ‘vignettes’ ... OK
* checking examples ... OK
Examples with CPU (user + system) or elapsed time > 5s
user system elapsed
Peak_detection 10.427 3.129 9.805
permutation_test_plot 5.680 3.043 2.227
SummarizedExperiment_to_nmr_data_1r 7.738 0.968 7.819
filter.nmr_dataset_family 4.666 3.906 3.918
nmr_pca_outliers_robust 5.739 0.743 5.694
* checking for unstated dependencies in ‘tests’ ... OK
* checking tests ...
Running ‘testthat.R’
OK
* checking for unstated dependencies in vignettes ... OK
* checking package vignettes ... OK
* checking running R code from vignettes ... SKIPPED
* checking re-building of vignette outputs ... SKIPPED
* checking PDF version of manual ... OK
* DONE
Status: 1 NOTE
See
‘/Users/biocbuild/bbs-3.23-bioc/meat/AlpsNMR.Rcheck/00check.log’
for details.
AlpsNMR.Rcheck/00install.out
############################################################################## ############################################################################## ### ### Running command: ### ### /Library/Frameworks/R.framework/Resources/bin/R CMD INSTALL AlpsNMR ### ############################################################################## ############################################################################## * installing to library ‘/Library/Frameworks/R.framework/Versions/4.6-x86_64/Resources/library’ * installing *source* package ‘AlpsNMR’ ... ** this is package ‘AlpsNMR’ version ‘4.13.0’ ** using staged installation ** R ** data ** inst ** byte-compile and prepare package for lazy loading ** help *** installing help indices *** copying figures ** building package indices ** installing vignettes ** testing if installed package can be loaded from temporary location ** testing if installed package can be loaded from final location ** testing if installed package keeps a record of temporary installation path * DONE (AlpsNMR)
AlpsNMR.Rcheck/tests/testthat.Rout
R Under development (unstable) (2025-10-21 r88958) -- "Unsuffered Consequences"
Copyright (C) 2025 The R Foundation for Statistical Computing
Platform: x86_64-apple-darwin20
R is free software and comes with ABSOLUTELY NO WARRANTY.
You are welcome to redistribute it under certain conditions.
Type 'license()' or 'licence()' for distribution details.
R is a collaborative project with many contributors.
Type 'contributors()' for more information and
'citation()' on how to cite R or R packages in publications.
Type 'demo()' for some demos, 'help()' for on-line help, or
'help.start()' for an HTML browser interface to help.
Type 'q()' to quit R.
> library(testthat)
> library(AlpsNMR)
Attaching package: 'AlpsNMR'
The following object is masked from 'package:stats':
filter
>
> test_check("AlpsNMR")
[ FAIL 0 | WARN 0 | SKIP 1 | PASS 93 ]
══ Skipped tests (1) ═══════════════════════════════════════════════════════════
• On Bioconductor (1): 'test_rDolphin.R:2:5'
[ FAIL 0 | WARN 0 | SKIP 1 | PASS 93 ]
>
> proc.time()
user system elapsed
31.283 13.749 30.481
AlpsNMR.Rcheck/AlpsNMR-Ex.timings
| name | user | system | elapsed | |
| AlpsNMR-package | 2.096 | 0.555 | 1.967 | |
| HMDB_blood | 0.008 | 0.003 | 0.011 | |
| HMDB_cell | 0.003 | 0.002 | 0.005 | |
| HMDB_urine | 0.005 | 0.003 | 0.008 | |
| Parameters_blood | 0.002 | 0.002 | 0.004 | |
| Parameters_cell | 0.003 | 0.002 | 0.005 | |
| Parameters_urine | 0.002 | 0.002 | 0.004 | |
| Peak_detection | 10.427 | 3.129 | 9.805 | |
| Pipelines | 0.002 | 0.001 | 0.002 | |
| ROI_blood | 0.003 | 0.002 | 0.005 | |
| ROI_cell | 0.003 | 0.002 | 0.004 | |
| ROI_urine | 0.004 | 0.002 | 0.006 | |
| SummarizedExperiment_to_nmr_data_1r | 7.738 | 0.968 | 7.819 | |
| SummarizedExperiment_to_nmr_dataset_peak_table | 1.654 | 1.127 | 1.523 | |
| bp_VIP_analysis | 1.978 | 1.113 | 1.236 | |
| bp_kfold_VIP_analysis | 1.010 | 0.628 | 0.872 | |
| download_MTBLS242 | 0 | 0 | 0 | |
| file_lister | 0.085 | 0.028 | 0.113 | |
| files_to_rDolphin | 0.000 | 0.001 | 0.001 | |
| filter.nmr_dataset_family | 4.666 | 3.906 | 3.918 | |
| format.nmr_dataset | 0.933 | 0.712 | 0.747 | |
| format.nmr_dataset_1D | 0.508 | 0.339 | 0.841 | |
| format.nmr_dataset_peak_table | 1.721 | 1.231 | 1.035 | |
| get_integration_with_metadata | 0.033 | 0.006 | 0.039 | |
| hmdb | 0.054 | 0.007 | 0.060 | |
| is.nmr_dataset | 0.933 | 0.618 | 0.715 | |
| is.nmr_dataset_1D | 0.831 | 0.572 | 0.973 | |
| is.nmr_dataset_peak_table | 1.426 | 0.993 | 1.028 | |
| load_and_save_functions | 1.125 | 0.889 | 0.884 | |
| models_stability_plot_bootstrap | 0.001 | 0.000 | 0.002 | |
| models_stability_plot_plsda | 0.532 | 0.467 | 0.493 | |
| new_nmr_dataset | 0.001 | 0.001 | 0.002 | |
| new_nmr_dataset_1D | 0.001 | 0.001 | 0.002 | |
| new_nmr_dataset_peak_table | 1.130 | 0.749 | 1.002 | |
| nmr_autophase | 0.269 | 0.133 | 0.394 | |
| nmr_baseline_estimation | 0.010 | 0.005 | 0.014 | |
| nmr_baseline_removal | 0.007 | 0.002 | 0.010 | |
| nmr_baseline_threshold | 0.001 | 0.001 | 0.002 | |
| nmr_baseline_threshold_plot | 0.349 | 0.046 | 0.398 | |
| nmr_batman | 0.004 | 0.001 | 0.005 | |
| nmr_batman_options | 0 | 0 | 0 | |
| nmr_build_peak_table | 0.044 | 0.006 | 0.051 | |
| nmr_data | 0.064 | 0.010 | 0.074 | |
| nmr_data_1r_to_SummarizedExperiment | 1.409 | 0.852 | 1.218 | |
| nmr_data_analysis | 0.575 | 0.510 | 0.532 | |
| nmr_dataset | 0.001 | 0.000 | 0.001 | |
| nmr_dataset_1D | 0.001 | 0.000 | 0.002 | |
| nmr_dataset_peak_table_to_SummarizedExperiment | 2.090 | 1.244 | 2.441 | |
| nmr_exclude_region | 0.006 | 0.001 | 0.008 | |
| nmr_export_data_1r | 0.931 | 0.574 | 0.721 | |
| nmr_get_peak_distances | 0.010 | 0.001 | 0.012 | |
| nmr_identify_regions_blood | 0.013 | 0.003 | 0.017 | |
| nmr_identify_regions_cell | 0.008 | 0.001 | 0.010 | |
| nmr_identify_regions_urine | 0.013 | 0.003 | 0.016 | |
| nmr_integrate_regions | 0.006 | 0.001 | 0.008 | |
| nmr_interpolate_1D | 1.850 | 1.101 | 1.472 | |
| nmr_meta_add | 2.494 | 1.773 | 2.369 | |
| nmr_meta_export | 0.861 | 0.439 | 0.620 | |
| nmr_meta_get | 0.905 | 0.451 | 0.693 | |
| nmr_meta_get_column | 0.969 | 0.594 | 0.733 | |
| nmr_meta_groups | 0.989 | 0.731 | 0.813 | |
| nmr_normalize | 0.437 | 0.051 | 0.492 | |
| nmr_pca_build_model | 2.490 | 1.540 | 2.194 | |
| nmr_pca_outliers | 1.138 | 0.640 | 0.948 | |
| nmr_pca_outliers_filter | 1.130 | 0.574 | 0.955 | |
| nmr_pca_outliers_plot | 0.000 | 0.000 | 0.001 | |
| nmr_pca_outliers_robust | 5.739 | 0.743 | 5.694 | |
| nmr_pca_plots | 0.595 | 0.021 | 0.623 | |
| nmr_peak_clustering | 0.088 | 0.002 | 0.090 | |
| nmr_ppm_resolution | 0.008 | 0.002 | 0.010 | |
| nmr_read_bruker_fid | 0.000 | 0.001 | 0.000 | |
| nmr_read_samples | 2.084 | 1.596 | 1.623 | |
| nmr_zip_bruker_samples | 0.243 | 0.045 | 0.306 | |
| peaklist_accept_peaks | 0.005 | 0.001 | 0.006 | |
| permutation_test_model | 0.987 | 0.845 | 2.265 | |
| permutation_test_plot | 5.680 | 3.043 | 2.227 | |
| plot.nmr_dataset_1D | 1.149 | 0.541 | 0.022 | |
| plot_bootstrap_multimodel | 0.002 | 0.012 | 0.014 | |
| plot_interactive | 0.975 | 0.680 | 0.798 | |
| plot_plsda_multimodel | 0.309 | 0.399 | 0.360 | |
| plot_plsda_samples | 0.155 | 0.178 | 0.317 | |
| plot_vip_scores | 0.002 | 0.002 | 0.004 | |
| plot_webgl | 0.002 | 0.002 | 0.005 | |
| plsda_auroc_vip_compare | 0.610 | 0.373 | 0.969 | |
| plsda_auroc_vip_method | 0 | 0 | 0 | |
| ppm_resolution | 0.003 | 0.001 | 0.005 | |
| print.nmr_dataset | 0.869 | 0.587 | 0.668 | |
| print.nmr_dataset_1D | 1.324 | 1.027 | 1.178 | |
| print.nmr_dataset_peak_table | 1.248 | 0.943 | 1.105 | |
| random_subsampling | 0.002 | 0.005 | 0.007 | |
| save_files_to_rDolphin | 0.000 | 0.000 | 0.001 | |
| save_profiling_output | 0 | 0 | 0 | |
| sub-.nmr_dataset | 1.106 | 0.882 | 0.895 | |
| sub-.nmr_dataset_1D | 1.082 | 0.686 | 0.878 | |
| sub-.nmr_dataset_peak_table | 2.066 | 1.078 | 2.057 | |
| tidy.nmr_dataset_1D | 1.070 | 0.597 | 0.873 | |
| to_ASICS | 1.112 | 0.217 | 1.349 | |
| to_ChemoSpec | 1.014 | 0.725 | 1.291 | |
| validate_nmr_dataset | 2.173 | 1.671 | 1.619 | |
| validate_nmr_dataset_family | 0.935 | 0.595 | 0.745 | |
| validate_nmr_dataset_peak_table | 0.001 | 0.001 | 0.001 | |
| zzz | 0.001 | 0.000 | 2.138 | |