Back to Build/check report for BioC 3.22 experimental data
ABCDEF[G]HIJKLMNOPQRSTUVWXYZ

This page was generated on 2025-10-02 15:41 -0400 (Thu, 02 Oct 2025).

HostnameOSArch (*)R versionInstalled pkgs
nebbiolo2Linux (Ubuntu 24.04.3 LTS)x86_644.5.1 Patched (2025-08-23 r88802) -- "Great Square Root" 4844
Click on any hostname to see more info about the system (e.g. compilers)      (*) as reported by 'uname -p', except on Windows and Mac OS X

Package 149/433HostnameOS / ArchINSTALLBUILDCHECK
geneLenDataBase 1.45.0  (landing page)
Federico Marini
Snapshot Date: 2025-10-02 07:30 -0400 (Thu, 02 Oct 2025)
git_url: https://git.bioconductor.org/packages/geneLenDataBase
git_branch: devel
git_last_commit: 109b234
git_last_commit_date: 2025-04-15 09:16:59 -0400 (Tue, 15 Apr 2025)
nebbiolo2Linux (Ubuntu 24.04.3 LTS) / x86_64  OK    OK    OK  UNNEEDED, same version is already published


CHECK results for geneLenDataBase on nebbiolo2

To the developers/maintainers of the geneLenDataBase package:
- Use the following Renviron settings to reproduce errors and warnings.
- If 'R CMD check' started to fail recently on the Linux builder(s) over a missing dependency, add the missing dependency to 'Suggests:' in your DESCRIPTION file. See Renviron.bioc for more information.

raw results


Summary

Package: geneLenDataBase
Version: 1.45.0
Command: /home/biocbuild/bbs-3.22-bioc/R/bin/R CMD check --install=check:geneLenDataBase.install-out.txt --library=/home/biocbuild/bbs-3.22-bioc/R/site-library --timings geneLenDataBase_1.45.0.tar.gz
StartedAt: 2025-10-02 12:25:20 -0400 (Thu, 02 Oct 2025)
EndedAt: 2025-10-02 12:34:24 -0400 (Thu, 02 Oct 2025)
EllapsedTime: 544.8 seconds
RetCode: 0
Status:   OK  
CheckDir: geneLenDataBase.Rcheck
Warnings: 0

Command output

##############################################################################
##############################################################################
###
### Running command:
###
###   /home/biocbuild/bbs-3.22-bioc/R/bin/R CMD check --install=check:geneLenDataBase.install-out.txt --library=/home/biocbuild/bbs-3.22-bioc/R/site-library --timings geneLenDataBase_1.45.0.tar.gz
###
##############################################################################
##############################################################################


* using log directory ‘/home/biocbuild/bbs-3.22-data-experiment/meat/geneLenDataBase.Rcheck’
* using R version 4.5.1 Patched (2025-08-23 r88802)
* using platform: x86_64-pc-linux-gnu
* R was compiled by
    gcc (Ubuntu 13.3.0-6ubuntu2~24.04) 13.3.0
    GNU Fortran (Ubuntu 13.3.0-6ubuntu2~24.04) 13.3.0
* running under: Ubuntu 24.04.3 LTS
* using session charset: UTF-8
* checking for file ‘geneLenDataBase/DESCRIPTION’ ... OK
* this is package ‘geneLenDataBase’ version ‘1.45.0’
* package encoding: UTF-8
* checking package namespace information ... OK
* checking package dependencies ... OK
* checking if this is a source package ... OK
* checking if there is a namespace ... OK
* checking for hidden files and directories ... OK
* checking for portable file names ... OK
* checking for sufficient/correct file permissions ... OK
* checking whether package ‘geneLenDataBase’ can be installed ... OK
* checking installed package size ... INFO
  installed size is 100.3Mb
  sub-directories of 1Mb or more:
    data  99.7Mb
* checking package directory ... OK
* checking DESCRIPTION meta-information ... OK
* checking top-level files ... OK
* checking for left-over files ... OK
* checking index information ... OK
* checking package subdirectories ... OK
* checking code files for non-ASCII characters ... OK
* checking R files for syntax errors ... OK
* checking whether the package can be loaded ... OK
* checking whether the package can be loaded with stated dependencies ... OK
* checking whether the package can be unloaded cleanly ... OK
* checking whether the namespace can be loaded with stated dependencies ... OK
* checking whether the namespace can be unloaded cleanly ... OK
* checking loading without being on the library search path ... OK
* checking dependencies in R code ... NOTE
Unexported object imported by a ':::' call: ‘txdbmaker:::.UCSC_TXNAME2GENEID_MAPDEFS’
  See the note in ?`:::` about the use of this operator.
* checking S3 generic/method consistency ... OK
* checking replacement functions ... OK
* checking foreign function calls ... OK
* checking R code for possible problems ... OK
* checking Rd files ... OK
* checking Rd metadata ... OK
* checking Rd cross-references ... OK
* checking for missing documentation entries ... OK
* checking for code/documentation mismatches ... OK
* checking Rd \usage sections ... OK
* checking Rd contents ... OK
* checking for unstated dependencies in examples ... OK
* checking contents of ‘data’ directory ... OK
* checking data for non-ASCII characters ... OK
* checking data for ASCII and uncompressed saves ... OK
* checking examples ... OK
Examples with CPU (user + system) or elapsed time > 5s
                  user system elapsed
supportedGeneIDs 3.214  0.194   5.301
* checking PDF version of manual ... OK
* DONE

Status: 1 NOTE
See
  ‘/home/biocbuild/bbs-3.22-data-experiment/meat/geneLenDataBase.Rcheck/00check.log’
for details.


Installation output

geneLenDataBase.Rcheck/00install.out

##############################################################################
##############################################################################
###
### Running command:
###
###   /home/biocbuild/bbs-3.22-bioc/R/bin/R CMD INSTALL geneLenDataBase
###
##############################################################################
##############################################################################


* installing to library ‘/home/biocbuild/bbs-3.22-bioc/R/site-library’
* installing *source* package ‘geneLenDataBase’ ...
** this is package ‘geneLenDataBase’ version ‘1.45.0’
** using staged installation
** R
** data
** byte-compile and prepare package for lazy loading
** help
*** installing help indices
** building package indices
** testing if installed package can be loaded from temporary location
** testing if installed package can be loaded from final location
** testing if installed package keeps a record of temporary installation path
* DONE (geneLenDataBase)

Tests output


Example timings

geneLenDataBase.Rcheck/geneLenDataBase-Ex.timings

nameusersystemelapsed
anoCar1.ensGene.LENGTH0.0730.0050.077
anoCar1.genscan.LENGTH0.0460.0010.047
anoCar1.xenoRefGene.LENGTH0.7730.0030.775
anoGam1.ensGene.LENGTH0.0570.0000.057
anoGam1.geneid.LENGTH0.0400.0000.041
anoGam1.genscan.LENGTH0.0380.0010.039
apiMel1.genscan.LENGTH0.0380.0070.045
apiMel2.ensGene.LENGTH0.0890.0000.089
apiMel2.geneid.LENGTH0.1140.0030.119
apiMel2.genscan.LENGTH0.030.000.03
aplCal1.xenoRefGene.LENGTH0.3980.0000.400
bosTau2.geneSymbol.LENGTH0.0380.0000.038
bosTau2.geneid.LENGTH0.2340.0020.238
bosTau2.genscan.LENGTH0.0850.0010.086
bosTau2.refGene.LENGTH0.0390.0020.040
bosTau2.sgpGene.LENGTH0.1010.0000.103
bosTau3.ensGene.LENGTH0.1060.0030.109
bosTau3.geneSymbol.LENGTH0.0340.0020.038
bosTau3.geneid.LENGTH0.1590.0090.170
bosTau3.genscan.LENGTH0.0680.0000.068
bosTau3.refGene.LENGTH0.0320.0000.033
bosTau3.sgpGene.LENGTH0.0870.0000.087
bosTau4.ensGene.LENGTH0.0970.0000.097
bosTau4.geneSymbol.LENGTH0.0320.0000.032
bosTau4.genscan.LENGTH0.0640.0010.065
bosTau4.nscanGene.LENGTH0.0260.0000.027
bosTau4.refGene.LENGTH0.0280.0000.030
braFlo1.xenoRefGene.LENGTH0.380.000.38
caeJap1.xenoRefGene.LENGTH0.3420.0000.342
caePb1.xenoRefGene.LENGTH0.4880.0060.496
caePb2.xenoRefGene.LENGTH0.4550.0010.456
caeRem2.xenoRefGene.LENGTH0.4090.0030.412
caeRem3.xenoRefGene.LENGTH0.3530.0020.357
calJac1.genscan.LENGTH0.0870.0000.087
calJac1.nscanGene.LENGTH0.1080.0020.109
calJac1.xenoRefGene.LENGTH0.8340.0060.841
canFam1.ensGene.LENGTH0.1080.0000.108
canFam1.geneSymbol.LENGTH0.0050.0000.006
canFam1.genscan.LENGTH0.0640.0000.065
canFam1.nscanGene.LENGTH0.0650.0000.065
canFam1.refGene.LENGTH0.0050.0000.005
canFam1.xenoRefGene.LENGTH0.5950.0010.596
canFam2.ensGene.LENGTH0.0960.0000.097
canFam2.geneSymbol.LENGTH0.0040.0000.005
canFam2.genscan.LENGTH0.0540.0010.055
canFam2.nscanGene.LENGTH0.0590.0000.059
canFam2.refGene.LENGTH0.0050.0000.005
canFam2.xenoRefGene.LENGTH0.5670.0060.573
cavPor3.ensGene.LENGTH0.3010.0010.302
cavPor3.genscan.LENGTH0.0900.0010.090
cavPor3.nscanGene.LENGTH0.0620.0000.062
cavPor3.xenoRefGene.LENGTH0.5490.0010.550
cb1.xenoRefGene.LENGTH0.3830.0000.383
cb3.xenoRefGene.LENGTH0.3260.0010.326
ce2.geneSymbol.LENGTH0.0640.0010.065
ce2.geneid.LENGTH0.0520.0000.053
ce2.refGene.LENGTH0.0600.0000.062
ce4.geneSymbol.LENGTH0.0660.0000.066
ce4.refGene.LENGTH0.0580.0010.059
ce4.xenoRefGene.LENGTH0.0800.0010.080
ce6.ensGene.LENGTH0.0860.0000.086
ce6.geneSymbol.LENGTH0.0640.0010.065
ce6.refGene.LENGTH0.0610.0000.061
ce6.xenoRefGene.LENGTH0.0780.0000.079
ci1.geneSymbol.LENGTH0.0040.0010.005
ci1.refGene.LENGTH0.0040.0000.005
ci1.xenoRefGene.LENGTH0.1560.0000.156
ci2.ensGene.LENGTH0.0620.0000.063
ci2.geneSymbol.LENGTH0.0040.0000.005
ci2.refGene.LENGTH0.0030.0000.004
ci2.xenoRefGene.LENGTH1.0090.0841.093
danRer3.ensGene.LENGTH0.0890.0000.089
danRer3.geneSymbol.LENGTH0.0500.0000.049
danRer3.refGene.LENGTH0.0450.0000.045
danRer4.ensGene.LENGTH0.1020.0000.102
danRer4.geneSymbol.LENGTH0.0490.0000.048
danRer4.genscan.LENGTH0.0530.0000.055
danRer4.nscanGene.LENGTH0.0790.0000.079
danRer4.refGene.LENGTH0.0440.0000.045
danRer5.ensGene.LENGTH0.1050.0000.106
danRer5.geneSymbol.LENGTH0.0450.0000.045
danRer5.refGene.LENGTH0.0420.0000.041
danRer5.vegaGene.LENGTH0.0420.0000.044
danRer5.vegaPseudoGene.LENGTH0.0020.0000.002
danRer6.ensGene.LENGTH0.0990.0000.100
danRer6.geneSymbol.LENGTH0.0460.0000.047
danRer6.refGene.LENGTH0.0420.0000.043
danRer6.xenoRefGene.LENGTH0.4540.0020.456
dm1.geneSymbol.LENGTH0.0590.0000.060
dm1.genscan.LENGTH0.0220.0000.022
dm1.refGene.LENGTH0.0550.0000.054
dm2.geneSymbol.LENGTH0.0610.0000.061
dm2.geneid.LENGTH0.0310.0000.032
dm2.genscan.LENGTH0.0210.0000.022
dm2.nscanGene.LENGTH0.0450.0000.045
dm2.refGene.LENGTH0.0540.0000.055
dm3.geneSymbol.LENGTH0.0650.0000.066
dm3.nscanPasaGene.LENGTH0.0470.0000.047
dm3.refGene.LENGTH0.0610.0010.061
downloadLengthFromUCSC000
dp2.genscan.LENGTH0.0290.0010.029
dp2.xenoRefGene.LENGTH0.1820.0000.182
dp3.geneid.LENGTH0.0350.0000.035
dp3.genscan.LENGTH0.0220.0000.023
dp3.xenoRefGene.LENGTH0.1020.0000.101
droAna1.geneid.LENGTH0.0620.0000.063
droAna1.genscan.LENGTH0.0200.0010.021
droAna1.xenoRefGene.LENGTH0.1870.0000.187
droAna2.genscan.LENGTH0.0420.0010.045
droAna2.xenoRefGene.LENGTH0.2360.0010.237
droEre1.genscan.LENGTH0.0260.0010.026
droEre1.xenoRefGene.LENGTH0.2360.0000.236
droGri1.genscan.LENGTH0.0360.0000.037
droGri1.xenoRefGene.LENGTH0.2610.0000.262
droMoj1.geneid.LENGTH0.1230.0010.124
droMoj1.genscan.LENGTH0.0530.0040.059
droMoj1.xenoRefGene.LENGTH0.1970.0000.199
droMoj2.genscan.LENGTH0.0340.0000.034
droMoj2.xenoRefGene.LENGTH0.2440.0010.247
droPer1.genscan.LENGTH0.0360.0020.038
droPer1.xenoRefGene.LENGTH0.2530.0000.254
droSec1.genscan.LENGTH0.0270.0000.028
droSec1.xenoRefGene.LENGTH0.2570.0000.258
droSim1.geneid.LENGTH0.0330.0010.034
droSim1.genscan.LENGTH0.0230.0000.024
droSim1.xenoRefGene.LENGTH0.3520.0100.360
droVir1.geneid.LENGTH0.0970.0000.097
droVir1.genscan.LENGTH0.040.000.04
droVir1.xenoRefGene.LENGTH0.2320.0010.232
droVir2.genscan.LENGTH0.0340.0000.034
droVir2.xenoRefGene.LENGTH0.2540.0010.254
droYak1.geneid.LENGTH0.0410.0010.041
droYak1.genscan.LENGTH0.0270.0000.028
droYak1.xenoRefGene.LENGTH0.2080.0000.209
droYak2.genscan.LENGTH0.0250.0000.025
droYak2.xenoRefGene.LENGTH0.2480.0000.249
equCab1.geneSymbol.LENGTH0.0040.0010.005
equCab1.geneid.LENGTH0.0850.0000.086
equCab1.nscanGene.LENGTH0.040.000.04
equCab1.refGene.LENGTH0.0050.0000.004
equCab1.sgpGene.LENGTH0.0670.0000.066
equCab2.ensGene.LENGTH0.0950.0000.096
equCab2.geneSymbol.LENGTH0.0060.0000.007
equCab2.nscanGene.LENGTH0.0490.0000.049
equCab2.refGene.LENGTH0.0050.0000.006
equCab2.xenoRefGene.LENGTH0.5400.0090.549
felCat3.ensGene.LENGTH0.0930.0010.096
felCat3.geneSymbol.LENGTH0.0030.0000.004
felCat3.geneid.LENGTH0.5150.0030.519
felCat3.genscan.LENGTH0.1170.0010.118
felCat3.nscanGene.LENGTH0.2670.0020.269
felCat3.refGene.LENGTH0.0040.0000.004
felCat3.sgpGene.LENGTH0.140.000.14
felCat3.xenoRefGene.LENGTH1.0280.0011.030
fr1.ensGene.LENGTH0.0710.0000.073
fr1.genscan.LENGTH0.0560.0000.056
fr2.ensGene.LENGTH0.6110.0070.619
galGal2.ensGene.LENGTH0.0510.0000.050
galGal2.geneSymbol.LENGTH0.0140.0000.015
galGal2.geneid.LENGTH0.0340.0000.034
galGal2.genscan.LENGTH0.0450.0000.045
galGal2.refGene.LENGTH0.0140.0000.014
galGal2.sgpGene.LENGTH0.0410.0000.041
galGal3.ensGene.LENGTH0.0660.0000.065
galGal3.geneSymbol.LENGTH0.0130.0020.014
galGal3.genscan.LENGTH0.0440.0000.044
galGal3.nscanGene.LENGTH0.0630.0000.064
galGal3.refGene.LENGTH0.0130.0000.014
galGal3.xenoRefGene.LENGTH0.4200.0000.421
gasAcu1.ensGene.LENGTH0.0790.0000.079
gasAcu1.nscanGene.LENGTH0.0830.0000.082
hg16.acembly.LENGTH0.3170.0010.319
hg16.ensGene.LENGTH0.0640.0000.064
hg16.exoniphy.LENGTH0.2160.0010.218
hg16.geneSymbol.LENGTH0.0960.0010.097
hg16.geneid.LENGTH0.0450.0000.046
hg16.genscan.LENGTH0.0580.0000.057
hg16.knownGene.LENGTH0.1090.0010.110
hg16.refGene.LENGTH0.0940.0000.094
hg16.sgpGene.LENGTH0.0530.0000.054
hg17.acembly.LENGTH0.3990.0010.400
hg17.acescan.LENGTH0.0090.0000.010
hg17.ccdsGene.LENGTH0.0210.0010.022
hg17.ensGene.LENGTH0.1030.0000.104
hg17.exoniphy.LENGTH0.3740.0000.374
hg17.geneSymbol.LENGTH0.10.00.1
hg17.geneid.LENGTH0.0700.0000.071
hg17.genscan.LENGTH0.0530.0000.054
hg17.knownGene.LENGTH0.1030.0000.102
hg17.refGene.LENGTH0.0920.0010.093
hg17.sgpGene.LENGTH0.0690.0000.069
hg17.vegaGene.LENGTH0.0390.0000.039
hg17.vegaPseudoGene.LENGTH0.0170.0000.017
hg17.xenoRefGene.LENGTH0.4220.0000.422
hg18.acembly.LENGTH0.4120.0000.412
hg18.acescan.LENGTH0.0070.0020.009
hg18.ccdsGene.LENGTH0.0300.0010.031
hg18.ensGene.LENGTH0.1740.0010.175
hg18.exoniphy.LENGTH0.4260.0020.428
hg18.geneSymbol.LENGTH0.0960.0000.096
hg18.geneid.LENGTH0.0680.0010.069
hg18.genscan.LENGTH0.0550.0010.056
hg18.knownGene.LENGTH0.1430.0010.143
hg18.knownGeneOld3.LENGTH0.0650.0010.066
hg18.refGene.LENGTH0.0890.0010.090
hg18.sgpGene.LENGTH0.0720.0010.072
hg18.sibGene.LENGTH0.6850.0060.691
hg18.xenoRefGene.LENGTH0.2970.0000.298
hg19.ccdsGene.LENGTH0.0370.0000.037
hg19.ensGene.LENGTH0.2600.0000.261
hg19.exoniphy.LENGTH0.4070.0010.409
hg19.geneSymbol.LENGTH0.0940.0000.094
hg19.knownGene.LENGTH0.160.000.16
hg19.nscanGene.LENGTH0.1450.0010.145
hg19.refGene.LENGTH0.0890.0020.091
hg19.xenoRefGene.LENGTH0.3200.0010.320
loxAfr3.xenoRefGene.LENGTH0.6620.0020.664
mm7.ensGene.LENGTH0.1050.0000.104
mm7.geneSymbol.LENGTH0.0860.0000.087
mm7.geneid.LENGTH0.0760.0010.077
mm7.genscan.LENGTH0.0630.0010.063
mm7.knownGene.LENGTH0.0930.0000.093
mm7.refGene.LENGTH0.0810.0000.081
mm7.sgpGene.LENGTH0.0750.0000.074
mm7.xenoRefGene.LENGTH0.2850.0030.287
mm8.ccdsGene.LENGTH0.0210.0010.021
mm8.ensGene.LENGTH0.0730.0010.074
mm8.geneSymbol.LENGTH0.0850.0010.086
mm8.geneid.LENGTH0.0730.0010.074
mm8.genscan.LENGTH0.0570.0020.059
mm8.knownGene.LENGTH0.0870.0010.087
mm8.nscanGene.LENGTH0.0570.0030.060
mm8.refGene.LENGTH0.3110.0020.313
mm8.sgpGene.LENGTH0.0740.0000.074
mm8.sibGene.LENGTH0.2360.0000.235
mm8.xenoRefGene.LENGTH0.3320.0000.332
mm9.acembly.LENGTH0.2980.0020.300
mm9.ccdsGene.LENGTH0.0280.0010.029
mm9.ensGene.LENGTH0.1400.0000.139
mm9.exoniphy.LENGTH0.410.000.41
mm9.geneSymbol.LENGTH0.0870.0000.087
mm9.geneid.LENGTH0.0830.0010.083
mm9.genscan.LENGTH0.0630.0010.065
mm9.knownGene.LENGTH0.1080.0000.109
mm9.nscanGene.LENGTH0.0610.0000.061
mm9.refGene.LENGTH0.0840.0000.083
mm9.sgpGene.LENGTH0.0820.0010.082
mm9.xenoRefGene.LENGTH0.7130.0020.714
monDom1.genscan.LENGTH0.0590.0010.059
monDom4.ensGene.LENGTH0.0670.0010.067
monDom4.geneSymbol.LENGTH0.0030.0000.003
monDom4.genscan.LENGTH0.0500.0010.051
monDom4.nscanGene.LENGTH0.0500.0020.052
monDom4.refGene.LENGTH0.0040.0000.003
monDom4.xenoRefGene.LENGTH0.3150.0010.318
monDom5.ensGene.LENGTH0.1030.0010.103
monDom5.geneSymbol.LENGTH0.0020.0010.003
monDom5.genscan.LENGTH0.0530.0000.054
monDom5.nscanGene.LENGTH0.110.000.11
monDom5.refGene.LENGTH0.0030.0000.003
monDom5.xenoRefGene.LENGTH0.5640.0000.564
ornAna1.ensGene.LENGTH0.0910.0000.091
ornAna1.geneSymbol.LENGTH0.0020.0000.003
ornAna1.refGene.LENGTH0.0020.0000.002
ornAna1.xenoRefGene.LENGTH0.5140.0020.516
oryLat2.ensGene.LENGTH1.1600.1131.274
oryLat2.geneSymbol.LENGTH0.0030.0000.004
oryLat2.refGene.LENGTH0.0030.0000.003
oryLat2.xenoRefGene.LENGTH0.4440.0020.447
panTro1.ensGene.LENGTH0.0910.0000.091
panTro1.geneid.LENGTH0.0430.0010.044
panTro1.genscan.LENGTH0.0530.0000.054
panTro1.xenoRefGene.LENGTH0.1040.0000.104
panTro2.ensGene.LENGTH0.0990.0000.100
panTro2.geneSymbol.LENGTH0.0880.0000.089
panTro2.genscan.LENGTH0.0530.0000.053
panTro2.nscanGene.LENGTH0.0560.0000.055
panTro2.refGene.LENGTH0.0910.0010.092
panTro2.xenoRefGene.LENGTH0.4430.0020.445
petMar1.xenoRefGene.LENGTH0.2460.0020.248
ponAbe2.ensGene.LENGTH0.0770.0000.077
ponAbe2.geneSymbol.LENGTH0.0120.0000.012
ponAbe2.genscan.LENGTH0.0570.0000.057
ponAbe2.nscanGene.LENGTH0.0540.0000.054
ponAbe2.refGene.LENGTH0.0100.0000.011
ponAbe2.xenoRefGene.LENGTH0.5660.0040.570
priPac1.xenoRefGene.LENGTH0.3220.0010.323
rheMac2.ensGene.LENGTH0.1100.0010.110
rheMac2.geneSymbol.LENGTH0.0050.0000.004
rheMac2.geneid.LENGTH0.0620.0010.063
rheMac2.nscanGene.LENGTH0.0540.0000.055
rheMac2.refGene.LENGTH0.0050.0000.004
rheMac2.sgpGene.LENGTH0.0630.0010.064
rheMac2.xenoRefGene.LENGTH0.4180.0020.421
rn3.ensGene.LENGTH0.0890.0000.090
rn3.geneSymbol.LENGTH0.0490.0000.049
rn3.geneid.LENGTH0.0470.0010.047
rn3.genscan.LENGTH0.0560.0020.057
rn3.knownGene.LENGTH0.0220.0000.022
rn3.nscanGene.LENGTH0.0540.0020.056
rn3.refGene.LENGTH0.0460.0000.047
rn3.sgpGene.LENGTH0.0500.0020.052
rn3.xenoRefGene.LENGTH0.4910.0030.494
rn4.ensGene.LENGTH0.1170.0000.117
rn4.geneSymbol.LENGTH0.0480.0000.048
rn4.geneid.LENGTH0.0770.0010.078
rn4.genscan.LENGTH0.0550.0020.057
rn4.knownGene.LENGTH0.0230.0000.023
rn4.nscanGene.LENGTH0.0480.0000.048
rn4.refGene.LENGTH0.0440.0010.046
rn4.sgpGene.LENGTH0.0720.0000.072
rn4.xenoRefGene.LENGTH0.3180.0010.319
sacCer1.ensGene.LENGTH0.0160.0010.017
sacCer2.ensGene.LENGTH0.0150.0000.016
strPur1.geneSymbol.LENGTH0.0040.0000.004
strPur1.genscan.LENGTH0.0600.0020.062
strPur1.refGene.LENGTH0.0040.0000.004
strPur1.xenoRefGene.LENGTH0.4290.0050.434
strPur2.geneSymbol.LENGTH0.0040.0000.004
strPur2.genscan.LENGTH0.1010.0000.101
strPur2.refGene.LENGTH0.0030.0000.004
strPur2.xenoRefGene.LENGTH0.6330.0040.637
supportedGeneIDs3.2140.1945.301
supportedGenomes0.2600.0321.112
taeGut1.ensGene.LENGTH0.0570.0020.060
taeGut1.geneSymbol.LENGTH0.0020.0000.002
taeGut1.genscan.LENGTH0.0280.0020.029
taeGut1.nscanGene.LENGTH0.0240.0000.024
taeGut1.refGene.LENGTH0.0020.0000.003
taeGut1.xenoRefGene.LENGTH0.4100.0060.417
tetNig1.ensGene.LENGTH0.0860.0010.086
tetNig1.geneid.LENGTH0.0600.0020.062
tetNig1.genscan.LENGTH0.0490.0070.056
tetNig1.nscanGene.LENGTH0.0630.0030.066
tetNig2.ensGene.LENGTH0.0670.0010.069
unfactor0.0030.0010.003
xenTro1.genscan.LENGTH0.0790.0030.081
xenTro2.ensGene.LENGTH0.0820.0020.084
xenTro2.geneSymbol.LENGTH0.0290.0000.029
xenTro2.genscan.LENGTH0.0660.0010.067
xenTro2.refGene.LENGTH0.0280.0000.027