| Back to Build/check report for BioC 3.22 annotations | 
 | 
This page was generated on 2025-10-29 06:45 -0400 (Wed, 29 Oct 2025).
| Hostname | OS | Arch (*) | R version | Installed pkgs | 
|---|---|---|---|---|
| nebbiolo2 | Linux (Ubuntu 24.04.3 LTS) | x86_64 | 4.5.1 Patched (2025-08-23 r88802) -- "Great Square Root" | 4901 | 
| Click on any hostname to see more info about the system (e.g. compilers) (*) as reported by 'uname -p', except on Windows and Mac OS X | ||||
| Package 25/49 | Hostname | OS / Arch | INSTALL | BUILD | CHECK | ||||||||
| geneplast.data 0.99.9  (landing page) Leonardo Campos 
 | nebbiolo2 | Linux (Ubuntu 24.04.3 LTS) / x86_64 | OK | OK | OK |  | |||||||
| To the developers/maintainers of the geneplast.data package: - Use the following Renviron settings to reproduce errors and warnings. - If 'R CMD check' started to fail recently on the Linux builder(s) over a missing dependency, add the missing dependency to 'Suggests:' in your DESCRIPTION file. See Renviron.bioc for more information. | 
| Package: geneplast.data | 
| Version: 0.99.9 | 
| Command: /home/biocbuild/bbs-3.22-bioc/R/bin/R CMD build --keep-empty-dirs --no-resave-data geneplast.data | 
| StartedAt: 2025-10-29 05:56:31 -0400 (Wed, 29 Oct 2025) | 
| EndedAt: 2025-10-29 05:57:21 -0400 (Wed, 29 Oct 2025) | 
| EllapsedTime: 49.6 seconds | 
| RetCode: 0 | 
| Status: OK | 
| PackageFile: geneplast.data_0.99.9.tar.gz | 
| PackageFileSize: 3.244 MiB | 
##############################################################################
##############################################################################
###
### Running command:
###
###   /home/biocbuild/bbs-3.22-bioc/R/bin/R CMD build --keep-empty-dirs --no-resave-data geneplast.data
###
##############################################################################
##############################################################################
* checking for file ‘geneplast.data/DESCRIPTION’ ... OK
* preparing ‘geneplast.data’:
* checking DESCRIPTION meta-information ... OK
* installing the package to build vignettes
* creating vignettes ... OK
* checking for LF line-endings in source and make files and shell scripts
* checking for empty or unneeded directories
  NB: this package now depends on R (>= 4.1.0)
  WARNING: Added dependency on R >= 4.1.0 because package code uses the
  pipe |> or function shorthand \(...) syntax added in R 4.1.0.
  File(s) using such syntax:
    ‘make_cogdata.R’ ‘make_phylo_tree.R’
* building ‘geneplast.data_0.99.9.tar.gz’