| Back to Rapid builds (Linux only) of a subset of BioC 3.22 Report updated every 6 hours |
This page was generated on 2025-06-17 22:14 -0400 (Tue, 17 Jun 2025).
| Hostname | OS | Arch (*) | R version | Installed pkgs |
|---|---|---|---|---|
| teran2 | Linux (Ubuntu 24.04.1 LTS) | x86_64 | 4.5.0 (2025-04-11) -- "How About a Twenty-Six" | 886 |
| Click on any hostname to see more info about the system (e.g. compilers) (*) as reported by 'uname -p', except on Windows and Mac OS X | ||||
| Package 84/221 | Hostname | OS / Arch | INSTALL | BUILD | CHECK | |||||||
| fishpond 2.15.0 (landing page) Michael Love
| teran2 | Linux (Ubuntu 24.04.1 LTS) / x86_64 | OK | OK | OK | |||||||
|
To the developers/maintainers of the fishpond package: - Use the following Renviron settings to reproduce errors and warnings. - If 'R CMD check' started to fail recently on the Linux builder(s) over a missing dependency, add the missing dependency to 'Suggests:' in your DESCRIPTION file. See Renviron.bioc for more information. |
| Package: fishpond |
| Version: 2.15.0 |
| Command: /home/rapidbuild/bbs-3.22-bioc-rapid/R/bin/R CMD check --install=check:fishpond.install-out.txt --library=/home/rapidbuild/bbs-3.22-bioc-rapid/R/site-library --timings fishpond_2.15.0.tar.gz |
| StartedAt: 2025-06-17 20:35:31 -0400 (Tue, 17 Jun 2025) |
| EndedAt: 2025-06-17 20:43:15 -0400 (Tue, 17 Jun 2025) |
| EllapsedTime: 463.5 seconds |
| RetCode: 0 |
| Status: OK |
| CheckDir: fishpond.Rcheck |
| Warnings: 0 |
##############################################################################
##############################################################################
###
### Running command:
###
### /home/rapidbuild/bbs-3.22-bioc-rapid/R/bin/R CMD check --install=check:fishpond.install-out.txt --library=/home/rapidbuild/bbs-3.22-bioc-rapid/R/site-library --timings fishpond_2.15.0.tar.gz
###
##############################################################################
##############################################################################
* using log directory ‘/media/volume/teran2_disk/rapidbuild/bbs-3.22-bioc-rapid/meat/fishpond.Rcheck’
* using R version 4.5.0 (2025-04-11)
* using platform: x86_64-pc-linux-gnu
* R was compiled by
gcc (Ubuntu 13.3.0-6ubuntu2~24.04) 13.3.0
GNU Fortran (Ubuntu 13.3.0-6ubuntu2~24.04) 13.3.0
* running under: Ubuntu 24.04.2 LTS
* using session charset: UTF-8
* checking for file ‘fishpond/DESCRIPTION’ ... OK
* this is package ‘fishpond’ version ‘2.15.0’
* package encoding: UTF-8
* checking package namespace information ... OK
* checking package dependencies ... OK
* checking if this is a source package ... OK
* checking if there is a namespace ... OK
* checking for hidden files and directories ... OK
* checking for portable file names ... OK
* checking for sufficient/correct file permissions ... OK
* checking whether package ‘fishpond’ can be installed ... OK
* checking installed package size ... OK
* checking package directory ... OK
* checking ‘build’ directory ... OK
* checking DESCRIPTION meta-information ... OK
* checking top-level files ... OK
* checking for left-over files ... OK
* checking index information ... OK
* checking package subdirectories ... OK
* checking code files for non-ASCII characters ... OK
* checking R files for syntax errors ... OK
* checking whether the package can be loaded ... OK
* checking whether the package can be loaded with stated dependencies ... OK
* checking whether the package can be unloaded cleanly ... OK
* checking whether the namespace can be loaded with stated dependencies ... OK
* checking whether the namespace can be unloaded cleanly ... OK
* checking loading without being on the library search path ... OK
* checking dependencies in R code ... NOTE
Unexported objects imported by ':::' calls:
'samr:::localfdr' 'samr:::predictlocalfdr' 'samr:::qvalue.func'
'samr:::samr.compute.delta.table.seq'
See the note in ?`:::` about the use of this operator.
* checking S3 generic/method consistency ... OK
* checking replacement functions ... OK
* checking foreign function calls ... OK
* checking R code for possible problems ... OK
* checking Rd files ... OK
* checking Rd metadata ... OK
* checking Rd cross-references ... OK
* checking for missing documentation entries ... OK
* checking for code/documentation mismatches ... OK
* checking Rd \usage sections ... OK
* checking Rd contents ... OK
* checking for unstated dependencies in examples ... OK
* checking files in ‘vignettes’ ... OK
* checking examples ... OK
* checking for unstated dependencies in ‘tests’ ... OK
* checking tests ...
Running ‘testthat.R’
OK
* checking for unstated dependencies in vignettes ... OK
* checking package vignettes ... OK
* checking re-building of vignette outputs ... OK
* checking PDF version of manual ... OK
* DONE
Status: 1 NOTE
See
‘/media/volume/teran2_disk/rapidbuild/bbs-3.22-bioc-rapid/meat/fishpond.Rcheck/00check.log’
for details.
fishpond.Rcheck/00install.out
############################################################################## ############################################################################## ### ### Running command: ### ### /home/rapidbuild/bbs-3.22-bioc-rapid/R/bin/R CMD INSTALL fishpond ### ############################################################################## ############################################################################## * installing to library ‘/media/volume/teran2_disk/rapidbuild/bbs-3.22-bioc-rapid/R/site-library’ * installing *source* package ‘fishpond’ ... ** this is package ‘fishpond’ version ‘2.15.0’ ** using staged installation ** R ** inst ** byte-compile and prepare package for lazy loading ** help *** installing help indices *** copying figures ** building package indices ** installing vignettes ** testing if installed package can be loaded from temporary location ** testing if installed package can be loaded from final location ** testing if installed package keeps a record of temporary installation path * DONE (fishpond)
fishpond.Rcheck/tests/testthat.Rout
R version 4.5.0 (2025-04-11) -- "How About a Twenty-Six"
Copyright (C) 2025 The R Foundation for Statistical Computing
Platform: x86_64-pc-linux-gnu
R is free software and comes with ABSOLUTELY NO WARRANTY.
You are welcome to redistribute it under certain conditions.
Type 'license()' or 'licence()' for distribution details.
R is a collaborative project with many contributors.
Type 'contributors()' for more information and
'citation()' on how to cite R or R packages in publications.
Type 'demo()' for some demos, 'help()' for on-line help, or
'help.start()' for an HTML browser interface to help.
Type 'q()' to quit R.
> library(testthat)
> library(fishpond)
>
> test_check("fishpond")
Progress: 1 on 2 Progress: 2 on 2 [ FAIL 0 | WARN 0 | SKIP 6 | PASS 43 ]
══ Skipped tests (6) ═══════════════════════════════════════════════════════════
• empty test (6): 'test_allelic.R:5:1', 'test_compress.R:5:1',
'test_correlation.R:5:1', 'test_swish.R:120:1', 'test_swish.R:129:1',
'test_swish.R:154:1'
[ FAIL 0 | WARN 0 | SKIP 6 | PASS 43 ]
>
> proc.time()
user system elapsed
45.457 1.127 53.095
fishpond.Rcheck/fishpond-Ex.timings
| name | user | system | elapsed | |
| deswish | 0.077 | 0.019 | 0.096 | |
| getTrace | 0.100 | 0.000 | 0.101 | |
| labelKeep | 0.196 | 0.004 | 0.206 | |
| loadFry | 0.181 | 0.004 | 0.192 | |
| makeInfReps | 0.119 | 0.003 | 0.121 | |
| makeSimSwishData | 0.091 | 0.002 | 0.092 | |
| makeTx2Tss | 0 | 0 | 0 | |
| plotInfReps | 0.187 | 0.003 | 0.191 | |
| plotMASwish | 1.485 | 0.052 | 1.679 | |
| scaleInfReps | 0.177 | 0.009 | 0.208 | |
| swish | 0.588 | 0.011 | 0.600 | |