| Back to Rapid builds (Linux only) of a subset of BioC 3.22 Report updated every 6 hours |
This page was generated on 2025-06-17 22:14 -0400 (Tue, 17 Jun 2025).
| Hostname | OS | Arch (*) | R version | Installed pkgs |
|---|---|---|---|---|
| teran2 | Linux (Ubuntu 24.04.1 LTS) | x86_64 | 4.5.0 (2025-04-11) -- "How About a Twenty-Six" | 886 |
| Click on any hostname to see more info about the system (e.g. compilers) (*) as reported by 'uname -p', except on Windows and Mac OS X | ||||
| Package 79/221 | Hostname | OS / Arch | INSTALL | BUILD | CHECK | |||||||
| enrichplot 1.29.1 (landing page) Guangchuang Yu
| teran2 | Linux (Ubuntu 24.04.1 LTS) / x86_64 | OK | OK | OK | |||||||
|
To the developers/maintainers of the enrichplot package: - Use the following Renviron settings to reproduce errors and warnings. - If 'R CMD check' started to fail recently on the Linux builder(s) over a missing dependency, add the missing dependency to 'Suggests:' in your DESCRIPTION file. See Renviron.bioc for more information. |
| Package: enrichplot |
| Version: 1.29.1 |
| Command: /home/rapidbuild/bbs-3.22-bioc-rapid/R/bin/R CMD build --keep-empty-dirs --no-resave-data enrichplot |
| StartedAt: 2025-06-17 18:48:06 -0400 (Tue, 17 Jun 2025) |
| EndedAt: 2025-06-17 18:48:28 -0400 (Tue, 17 Jun 2025) |
| EllapsedTime: 22.0 seconds |
| RetCode: 0 |
| Status: OK |
| PackageFile: enrichplot_1.29.1.tar.gz |
| PackageFileSize: 96.57 KiB |
##############################################################################
##############################################################################
###
### Running command:
###
### /home/rapidbuild/bbs-3.22-bioc-rapid/R/bin/R CMD build --keep-empty-dirs --no-resave-data enrichplot
###
##############################################################################
##############################################################################
* checking for file ‘enrichplot/DESCRIPTION’ ... OK
* preparing ‘enrichplot’:
* checking DESCRIPTION meta-information ... OK
* installing the package to build vignettes
* creating vignettes ... OK
* checking for LF line-endings in source and make files and shell scripts
* checking for empty or unneeded directories
NB: this package now depends on R (>= 4.1.0)
WARNING: Added dependency on R >= 4.1.0 because package code uses the
pipe |> or function shorthand \(...) syntax added in R 4.1.0.
File(s) using such syntax:
‘dotplot.R’ ‘gseaplot.R’ ‘utilities.R’
* building ‘enrichplot_1.29.1.tar.gz’