| Back to Rapid builds (Linux only) of a subset of BioC 3.22 Report updated every 6 hours |
This page was generated on 2025-06-17 22:14 -0400 (Tue, 17 Jun 2025).
| Hostname | OS | Arch (*) | R version | Installed pkgs |
|---|---|---|---|---|
| teran2 | Linux (Ubuntu 24.04.1 LTS) | x86_64 | 4.5.0 (2025-04-11) -- "How About a Twenty-Six" | 886 |
| Click on any hostname to see more info about the system (e.g. compilers) (*) as reported by 'uname -p', except on Windows and Mac OS X | ||||
| Package 53/221 | Hostname | OS / Arch | INSTALL | BUILD | CHECK | |||||||
| clusterProfiler 4.17.0 (landing page) Guangchuang Yu
| teran2 | Linux (Ubuntu 24.04.1 LTS) / x86_64 | OK | OK | OK | |||||||
|
To the developers/maintainers of the clusterProfiler package: - Use the following Renviron settings to reproduce errors and warnings. - If 'R CMD check' started to fail recently on the Linux builder(s) over a missing dependency, add the missing dependency to 'Suggests:' in your DESCRIPTION file. See Renviron.bioc for more information. |
| Package: clusterProfiler |
| Version: 4.17.0 |
| Command: /home/rapidbuild/bbs-3.22-bioc-rapid/R/bin/R CMD build --keep-empty-dirs --no-resave-data clusterProfiler |
| StartedAt: 2025-06-17 18:41:12 -0400 (Tue, 17 Jun 2025) |
| EndedAt: 2025-06-17 18:41:35 -0400 (Tue, 17 Jun 2025) |
| EllapsedTime: 22.6 seconds |
| RetCode: 0 |
| Status: OK |
| PackageFile: clusterProfiler_4.17.0.tar.gz |
| PackageFileSize: 611 KiB |
##############################################################################
##############################################################################
###
### Running command:
###
### /home/rapidbuild/bbs-3.22-bioc-rapid/R/bin/R CMD build --keep-empty-dirs --no-resave-data clusterProfiler
###
##############################################################################
##############################################################################
* checking for file ‘clusterProfiler/DESCRIPTION’ ... OK
* preparing ‘clusterProfiler’:
* checking DESCRIPTION meta-information ... OK
* installing the package to build vignettes
* creating vignettes ... OK
* checking for LF line-endings in source and make files and shell scripts
* checking for empty or unneeded directories
* looking to see if a ‘data/datalist’ file should be added
NB: this package now depends on R (>= 4.2.0)
WARNING: Added dependency on R >= 4.2.0 because package code uses the
pipe placeholder syntax added in R 4.2.0
File(s) using such syntax:
‘pathwayCommons.R’
* building ‘clusterProfiler_4.17.0.tar.gz’