| Back to Rapid builds (Linux only) of a subset of BioC 3.22 Report updated every 6 hours |
This page was generated on 2025-06-17 22:14 -0400 (Tue, 17 Jun 2025).
| Hostname | OS | Arch (*) | R version | Installed pkgs |
|---|---|---|---|---|
| teran2 | Linux (Ubuntu 24.04.1 LTS) | x86_64 | 4.5.0 (2025-04-11) -- "How About a Twenty-Six" | 886 |
| Click on any hostname to see more info about the system (e.g. compilers) (*) as reported by 'uname -p', except on Windows and Mac OS X | ||||
| Package 22/221 | Hostname | OS / Arch | INSTALL | BUILD | CHECK | |||||||
| basilisk.utils 1.21.2 (landing page) Aaron Lun
| teran2 | Linux (Ubuntu 24.04.1 LTS) / x86_64 | OK | OK | OK | |||||||
|
To the developers/maintainers of the basilisk.utils package: - Use the following Renviron settings to reproduce errors and warnings. - If 'R CMD check' started to fail recently on the Linux builder(s) over a missing dependency, add the missing dependency to 'Suggests:' in your DESCRIPTION file. See Renviron.bioc for more information. |
| Package: basilisk.utils |
| Version: 1.21.2 |
| Command: /home/rapidbuild/bbs-3.22-bioc-rapid/R/bin/R CMD check --install=check:basilisk.utils.install-out.txt --library=/home/rapidbuild/bbs-3.22-bioc-rapid/R/site-library --timings basilisk.utils_1.21.2.tar.gz |
| StartedAt: 2025-06-17 19:58:02 -0400 (Tue, 17 Jun 2025) |
| EndedAt: 2025-06-17 19:59:38 -0400 (Tue, 17 Jun 2025) |
| EllapsedTime: 96.0 seconds |
| RetCode: 0 |
| Status: OK |
| CheckDir: basilisk.utils.Rcheck |
| Warnings: 0 |
##############################################################################
##############################################################################
###
### Running command:
###
### /home/rapidbuild/bbs-3.22-bioc-rapid/R/bin/R CMD check --install=check:basilisk.utils.install-out.txt --library=/home/rapidbuild/bbs-3.22-bioc-rapid/R/site-library --timings basilisk.utils_1.21.2.tar.gz
###
##############################################################################
##############################################################################
* using log directory ‘/media/volume/teran2_disk/rapidbuild/bbs-3.22-bioc-rapid/meat/basilisk.utils.Rcheck’
* using R version 4.5.0 (2025-04-11)
* using platform: x86_64-pc-linux-gnu
* R was compiled by
gcc (Ubuntu 13.3.0-6ubuntu2~24.04) 13.3.0
GNU Fortran (Ubuntu 13.3.0-6ubuntu2~24.04) 13.3.0
* running under: Ubuntu 24.04.2 LTS
* using session charset: UTF-8
* checking for file ‘basilisk.utils/DESCRIPTION’ ... OK
* this is package ‘basilisk.utils’ version ‘1.21.2’
* package encoding: UTF-8
* checking package namespace information ... OK
* checking package dependencies ... OK
* checking if this is a source package ... OK
* checking if there is a namespace ... OK
* checking for hidden files and directories ... OK
* checking for portable file names ... OK
* checking for sufficient/correct file permissions ... OK
* checking whether package ‘basilisk.utils’ can be installed ... OK
* checking installed package size ... OK
* checking package directory ... OK
* checking ‘build’ directory ... OK
* checking DESCRIPTION meta-information ... OK
* checking top-level files ... OK
* checking for left-over files ... OK
* checking index information ... OK
* checking package subdirectories ... OK
* checking code files for non-ASCII characters ... OK
* checking R files for syntax errors ... OK
* checking whether the package can be loaded ... OK
* checking whether the package can be loaded with stated dependencies ... OK
* checking whether the package can be unloaded cleanly ... OK
* checking whether the namespace can be loaded with stated dependencies ... OK
* checking whether the namespace can be unloaded cleanly ... OK
* checking loading without being on the library search path ... OK
* checking dependencies in R code ... OK
* checking S3 generic/method consistency ... OK
* checking replacement functions ... OK
* checking foreign function calls ... OK
* checking R code for possible problems ... OK
* checking Rd files ... OK
* checking Rd metadata ... OK
* checking Rd cross-references ... OK
* checking for missing documentation entries ... OK
* checking for code/documentation mismatches ... OK
* checking Rd \usage sections ... OK
* checking Rd contents ... OK
* checking for unstated dependencies in examples ... OK
* checking files in ‘vignettes’ ... OK
* checking examples ... OK
* checking for unstated dependencies in ‘tests’ ... OK
* checking tests ...
Running ‘testthat.R’
OK
* checking for unstated dependencies in vignettes ... OK
* checking package vignettes ... OK
* checking re-building of vignette outputs ... OK
* checking PDF version of manual ... OK
* DONE
Status: OK
basilisk.utils.Rcheck/00install.out
############################################################################## ############################################################################## ### ### Running command: ### ### /home/rapidbuild/bbs-3.22-bioc-rapid/R/bin/R CMD INSTALL basilisk.utils ### ############################################################################## ############################################################################## * installing to library ‘/media/volume/teran2_disk/rapidbuild/bbs-3.22-bioc-rapid/R/site-library’ * installing *source* package ‘basilisk.utils’ ... ** this is package ‘basilisk.utils’ version ‘1.21.2’ ** using staged installation ** R ** inst ** byte-compile and prepare package for lazy loading ** help *** installing help indices ** building package indices ** installing vignettes ** testing if installed package can be loaded from temporary location ** testing if installed package can be loaded from final location ** testing if installed package keeps a record of temporary installation path * DONE (basilisk.utils)
basilisk.utils.Rcheck/tests/testthat.Rout
R version 4.5.0 (2025-04-11) -- "How About a Twenty-Six"
Copyright (C) 2025 The R Foundation for Statistical Computing
Platform: x86_64-pc-linux-gnu
R is free software and comes with ABSOLUTELY NO WARRANTY.
You are welcome to redistribute it under certain conditions.
Type 'license()' or 'licence()' for distribution details.
R is a collaborative project with many contributors.
Type 'contributors()' for more information and
'citation()' on how to cite R or R packages in publications.
Type 'demo()' for some demos, 'help()' for on-line help, or
'help.start()' for an HTML browser interface to help.
Type 'q()' to quit R.
> library(testthat)
> library(basilisk.utils)
Attaching package: 'basilisk.utils'
The following object is masked from 'package:utils':
find
> test_check("basilisk.utils")
Channels:
- conda-forge
Platform: linux-64
Collecting package metadata (repodata.json): ...working... done
Solving environment: ...working... done
## Package Plan ##
environment location: /tmp/Rtmp78kpBH/file3270923d6b9d11/foo/biocconda/more-test-env
added / updated specs:
- pandas
The following NEW packages will be INSTALLED:
_libgcc_mutex conda-forge/linux-64::_libgcc_mutex-0.1-conda_forge
_openmp_mutex conda-forge/linux-64::_openmp_mutex-4.5-2_gnu
bzip2 conda-forge/linux-64::bzip2-1.0.8-h4bc722e_7
ca-certificates conda-forge/noarch::ca-certificates-2025.6.15-hbd8a1cb_0
ld_impl_linux-64 conda-forge/linux-64::ld_impl_linux-64-2.43-h1423503_5
libblas conda-forge/linux-64::libblas-3.9.0-31_h59b9bed_openblas
libcblas conda-forge/linux-64::libcblas-3.9.0-31_he106b2a_openblas
libexpat conda-forge/linux-64::libexpat-2.7.0-h5888daf_0
libffi conda-forge/linux-64::libffi-3.4.6-h2dba641_1
libgcc conda-forge/linux-64::libgcc-15.1.0-h767d61c_2
libgcc-ng conda-forge/linux-64::libgcc-ng-15.1.0-h69a702a_2
libgfortran conda-forge/linux-64::libgfortran-15.1.0-h69a702a_2
libgfortran5 conda-forge/linux-64::libgfortran5-15.1.0-hcea5267_2
libgomp conda-forge/linux-64::libgomp-15.1.0-h767d61c_2
liblapack conda-forge/linux-64::liblapack-3.9.0-31_h7ac8fdf_openblas
liblzma conda-forge/linux-64::liblzma-5.8.1-hb9d3cd8_2
libmpdec conda-forge/linux-64::libmpdec-4.0.0-hb9d3cd8_0
libopenblas conda-forge/linux-64::libopenblas-0.3.29-pthreads_h94d23a6_0
libsqlite conda-forge/linux-64::libsqlite-3.50.1-hee588c1_0
libstdcxx conda-forge/linux-64::libstdcxx-15.1.0-h8f9b012_2
libuuid conda-forge/linux-64::libuuid-2.38.1-h0b41bf4_0
libzlib conda-forge/linux-64::libzlib-1.3.1-hb9d3cd8_2
ncurses conda-forge/linux-64::ncurses-6.5-h2d0b736_3
numpy conda-forge/linux-64::numpy-2.3.0-py313h17eae1a_0
openssl conda-forge/linux-64::openssl-3.5.0-h7b32b05_1
pandas conda-forge/linux-64::pandas-2.3.0-py313ha87cce1_0
pip conda-forge/noarch::pip-25.1.1-pyh145f28c_0
python conda-forge/linux-64::python-3.13.5-hec9711d_102_cp313
python-dateutil conda-forge/noarch::python-dateutil-2.9.0.post0-pyhff2d567_1
python-tzdata conda-forge/noarch::python-tzdata-2025.2-pyhd8ed1ab_0
python_abi conda-forge/noarch::python_abi-3.13-7_cp313
pytz conda-forge/noarch::pytz-2025.2-pyhd8ed1ab_0
readline conda-forge/linux-64::readline-8.2-h8c095d6_2
six conda-forge/noarch::six-1.17.0-pyhd8ed1ab_0
tk conda-forge/linux-64::tk-8.6.13-noxft_hd72426e_102
tzdata conda-forge/noarch::tzdata-2025b-h78e105d_0
Preparing transaction: ...working... done
Verifying transaction: ...working... done
Executing transaction: ...working... done
Retrieving notices: ...working... done
Channels:
- conda-forge
Platform: linux-64
Collecting package metadata (repodata.json): ...working... done
Solving environment: ...working... done
## Package Plan ##
environment location: /tmp/Rtmp78kpBH/file3270923d6b9d11/foo/biocconda/test-env
added / updated specs:
- hdf5
The following NEW packages will be INSTALLED:
_libgcc_mutex conda-forge/linux-64::_libgcc_mutex-0.1-conda_forge
_openmp_mutex conda-forge/linux-64::_openmp_mutex-4.5-2_gnu
c-ares conda-forge/linux-64::c-ares-1.34.5-hb9d3cd8_0
ca-certificates conda-forge/noarch::ca-certificates-2025.6.15-hbd8a1cb_0
hdf5 conda-forge/linux-64::hdf5-1.14.6-nompi_h2d575fe_101
keyutils conda-forge/linux-64::keyutils-1.6.1-h166bdaf_0
krb5 conda-forge/linux-64::krb5-1.21.3-h659f571_0
libaec conda-forge/linux-64::libaec-1.1.4-h3f801dc_0
libcurl conda-forge/linux-64::libcurl-8.14.1-h332b0f4_0
libedit conda-forge/linux-64::libedit-3.1.20250104-pl5321h7949ede_0
libev conda-forge/linux-64::libev-4.33-hd590300_2
libgcc conda-forge/linux-64::libgcc-15.1.0-h767d61c_2
libgcc-ng conda-forge/linux-64::libgcc-ng-15.1.0-h69a702a_2
libgfortran conda-forge/linux-64::libgfortran-15.1.0-h69a702a_2
libgfortran5 conda-forge/linux-64::libgfortran5-15.1.0-hcea5267_2
libgomp conda-forge/linux-64::libgomp-15.1.0-h767d61c_2
libnghttp2 conda-forge/linux-64::libnghttp2-1.64.0-h161d5f1_0
libssh2 conda-forge/linux-64::libssh2-1.11.1-hcf80075_0
libstdcxx conda-forge/linux-64::libstdcxx-15.1.0-h8f9b012_2
libstdcxx-ng conda-forge/linux-64::libstdcxx-ng-15.1.0-h4852527_2
libzlib conda-forge/linux-64::libzlib-1.3.1-hb9d3cd8_2
ncurses conda-forge/linux-64::ncurses-6.5-h2d0b736_3
openssl conda-forge/linux-64::openssl-3.5.0-h7b32b05_1
zstd conda-forge/linux-64::zstd-1.5.7-hb8e6e7a_2
Preparing transaction: ...working... done
Verifying transaction: ...working... done
Executing transaction: ...working... done
Channels:
- conda-forge
Platform: linux-64
Collecting package metadata (repodata.json): ...working... done
Solving environment: ...working... done
## Package Plan ##
environment location: /tmp/Rtmp78kpBH/file3270927b03c2e3/test_env/1.0.0
added / updated specs:
- hdf5
The following NEW packages will be INSTALLED:
_libgcc_mutex conda-forge/linux-64::_libgcc_mutex-0.1-conda_forge
_openmp_mutex conda-forge/linux-64::_openmp_mutex-4.5-2_gnu
c-ares conda-forge/linux-64::c-ares-1.34.5-hb9d3cd8_0
ca-certificates conda-forge/noarch::ca-certificates-2025.6.15-hbd8a1cb_0
hdf5 conda-forge/linux-64::hdf5-1.14.6-nompi_h2d575fe_101
keyutils conda-forge/linux-64::keyutils-1.6.1-h166bdaf_0
krb5 conda-forge/linux-64::krb5-1.21.3-h659f571_0
libaec conda-forge/linux-64::libaec-1.1.4-h3f801dc_0
libcurl conda-forge/linux-64::libcurl-8.14.1-h332b0f4_0
libedit conda-forge/linux-64::libedit-3.1.20250104-pl5321h7949ede_0
libev conda-forge/linux-64::libev-4.33-hd590300_2
libgcc conda-forge/linux-64::libgcc-15.1.0-h767d61c_2
libgcc-ng conda-forge/linux-64::libgcc-ng-15.1.0-h69a702a_2
libgfortran conda-forge/linux-64::libgfortran-15.1.0-h69a702a_2
libgfortran5 conda-forge/linux-64::libgfortran5-15.1.0-hcea5267_2
libgomp conda-forge/linux-64::libgomp-15.1.0-h767d61c_2
libnghttp2 conda-forge/linux-64::libnghttp2-1.64.0-h161d5f1_0
libssh2 conda-forge/linux-64::libssh2-1.11.1-hcf80075_0
libstdcxx conda-forge/linux-64::libstdcxx-15.1.0-h8f9b012_2
libstdcxx-ng conda-forge/linux-64::libstdcxx-ng-15.1.0-h4852527_2
libzlib conda-forge/linux-64::libzlib-1.3.1-hb9d3cd8_2
ncurses conda-forge/linux-64::ncurses-6.5-h2d0b736_3
openssl conda-forge/linux-64::openssl-3.5.0-h7b32b05_1
zstd conda-forge/linux-64::zstd-1.5.7-hb8e6e7a_2
Preparing transaction: ...working... done
Verifying transaction: ...working... done
Executing transaction: ...working... done
Channels:
- conda-forge
Platform: linux-64
Collecting package metadata (repodata.json): ...working... done
Solving environment: ...working... done
## Package Plan ##
environment location: /tmp/Rtmp78kpBH/file3270927b03c2e3/test_env/1.0.1
added / updated specs:
- hdf5
The following NEW packages will be INSTALLED:
_libgcc_mutex conda-forge/linux-64::_libgcc_mutex-0.1-conda_forge
_openmp_mutex conda-forge/linux-64::_openmp_mutex-4.5-2_gnu
c-ares conda-forge/linux-64::c-ares-1.34.5-hb9d3cd8_0
ca-certificates conda-forge/noarch::ca-certificates-2025.6.15-hbd8a1cb_0
hdf5 conda-forge/linux-64::hdf5-1.14.6-nompi_h2d575fe_101
keyutils conda-forge/linux-64::keyutils-1.6.1-h166bdaf_0
krb5 conda-forge/linux-64::krb5-1.21.3-h659f571_0
libaec conda-forge/linux-64::libaec-1.1.4-h3f801dc_0
libcurl conda-forge/linux-64::libcurl-8.14.1-h332b0f4_0
libedit conda-forge/linux-64::libedit-3.1.20250104-pl5321h7949ede_0
libev conda-forge/linux-64::libev-4.33-hd590300_2
libgcc conda-forge/linux-64::libgcc-15.1.0-h767d61c_2
libgcc-ng conda-forge/linux-64::libgcc-ng-15.1.0-h69a702a_2
libgfortran conda-forge/linux-64::libgfortran-15.1.0-h69a702a_2
libgfortran5 conda-forge/linux-64::libgfortran5-15.1.0-hcea5267_2
libgomp conda-forge/linux-64::libgomp-15.1.0-h767d61c_2
libnghttp2 conda-forge/linux-64::libnghttp2-1.64.0-h161d5f1_0
libssh2 conda-forge/linux-64::libssh2-1.11.1-hcf80075_0
libstdcxx conda-forge/linux-64::libstdcxx-15.1.0-h8f9b012_2
libstdcxx-ng conda-forge/linux-64::libstdcxx-ng-15.1.0-h4852527_2
libzlib conda-forge/linux-64::libzlib-1.3.1-hb9d3cd8_2
ncurses conda-forge/linux-64::ncurses-6.5-h2d0b736_3
openssl conda-forge/linux-64::openssl-3.5.0-h7b32b05_1
zstd conda-forge/linux-64::zstd-1.5.7-hb8e6e7a_2
Preparing transaction: ...working... done
Verifying transaction: ...working... done
Executing transaction: ...working... done
Channels:
- conda-forge
Platform: linux-64
Collecting package metadata (repodata.json): ...working... done
Solving environment: ...working... done
## Package Plan ##
environment location: /tmp/Rtmp78kpBH/file3270927b03c2e3/test_env/1.0.0
added / updated specs:
- hdf5
The following NEW packages will be INSTALLED:
_libgcc_mutex conda-forge/linux-64::_libgcc_mutex-0.1-conda_forge
_openmp_mutex conda-forge/linux-64::_openmp_mutex-4.5-2_gnu
c-ares conda-forge/linux-64::c-ares-1.34.5-hb9d3cd8_0
ca-certificates conda-forge/noarch::ca-certificates-2025.6.15-hbd8a1cb_0
hdf5 conda-forge/linux-64::hdf5-1.14.6-nompi_h2d575fe_101
keyutils conda-forge/linux-64::keyutils-1.6.1-h166bdaf_0
krb5 conda-forge/linux-64::krb5-1.21.3-h659f571_0
libaec conda-forge/linux-64::libaec-1.1.4-h3f801dc_0
libcurl conda-forge/linux-64::libcurl-8.14.1-h332b0f4_0
libedit conda-forge/linux-64::libedit-3.1.20250104-pl5321h7949ede_0
libev conda-forge/linux-64::libev-4.33-hd590300_2
libgcc conda-forge/linux-64::libgcc-15.1.0-h767d61c_2
libgcc-ng conda-forge/linux-64::libgcc-ng-15.1.0-h69a702a_2
libgfortran conda-forge/linux-64::libgfortran-15.1.0-h69a702a_2
libgfortran5 conda-forge/linux-64::libgfortran5-15.1.0-hcea5267_2
libgomp conda-forge/linux-64::libgomp-15.1.0-h767d61c_2
libnghttp2 conda-forge/linux-64::libnghttp2-1.64.0-h161d5f1_0
libssh2 conda-forge/linux-64::libssh2-1.11.1-hcf80075_0
libstdcxx conda-forge/linux-64::libstdcxx-15.1.0-h8f9b012_2
libstdcxx-ng conda-forge/linux-64::libstdcxx-ng-15.1.0-h4852527_2
libzlib conda-forge/linux-64::libzlib-1.3.1-hb9d3cd8_2
ncurses conda-forge/linux-64::ncurses-6.5-h2d0b736_3
openssl conda-forge/linux-64::openssl-3.5.0-h7b32b05_1
zstd conda-forge/linux-64::zstd-1.5.7-hb8e6e7a_2
Preparing transaction: ...working... done
Verifying transaction: ...working... done
Executing transaction: ...working... done
Channels:
- conda-forge
Platform: linux-64
Collecting package metadata (repodata.json): ...working... done
Solving environment: ...working... failed
PackagesNotFoundError: The following packages are not available from current channels:
- aaronrandompackageshouldntexist
Current channels:
- https://conda.anaconda.org/conda-forge
To search for alternate channels that may provide the conda package you're
looking for, navigate to
https://anaconda.org
and use the search bar at the top of the page.
[ FAIL 0 | WARN 0 | SKIP 0 | PASS 23 ]
>
> proc.time()
user system elapsed
33.190 14.640 73.797
basilisk.utils.Rcheck/basilisk.utils-Ex.timings
| name | user | system | elapsed | |
| binaryPath | 0.000 | 0.000 | 0.001 | |
| configureEnvironments | 0 | 0 | 0 | |
| createEnvironment | 0.003 | 0.000 | 0.005 | |
| defaults | 0 | 0 | 0 | |
| download | 0.002 | 0.001 | 0.006 | |
| find | 0.301 | 0.116 | 1.861 | |