| Back to Rapid builds (Linux only) of a subset of BioC 3.22 Report updated every 6 hours |
This page was generated on 2025-06-17 22:14 -0400 (Tue, 17 Jun 2025).
| Hostname | OS | Arch (*) | R version | Installed pkgs |
|---|---|---|---|---|
| teran2 | Linux (Ubuntu 24.04.1 LTS) | x86_64 | 4.5.0 (2025-04-11) -- "How About a Twenty-Six" | 886 |
| Click on any hostname to see more info about the system (e.g. compilers) (*) as reported by 'uname -p', except on Windows and Mac OS X | ||||
| Package 35/221 | Hostname | OS / Arch | INSTALL | BUILD | CHECK | |||||||
| BiocPkgTools 1.27.6 (landing page) Sean Davis
| teran2 | Linux (Ubuntu 24.04.1 LTS) / x86_64 | OK | OK | OK | |||||||
|
To the developers/maintainers of the BiocPkgTools package: - Use the following Renviron settings to reproduce errors and warnings. - If 'R CMD check' started to fail recently on the Linux builder(s) over a missing dependency, add the missing dependency to 'Suggests:' in your DESCRIPTION file. See Renviron.bioc for more information. |
| Package: BiocPkgTools |
| Version: 1.27.6 |
| Command: /home/rapidbuild/bbs-3.22-bioc-rapid/R/bin/R CMD check --install=check:BiocPkgTools.install-out.txt --library=/home/rapidbuild/bbs-3.22-bioc-rapid/R/site-library --timings BiocPkgTools_1.27.6.tar.gz |
| StartedAt: 2025-06-17 20:03:31 -0400 (Tue, 17 Jun 2025) |
| EndedAt: 2025-06-17 20:08:32 -0400 (Tue, 17 Jun 2025) |
| EllapsedTime: 301.6 seconds |
| RetCode: 0 |
| Status: OK |
| CheckDir: BiocPkgTools.Rcheck |
| Warnings: 0 |
##############################################################################
##############################################################################
###
### Running command:
###
### /home/rapidbuild/bbs-3.22-bioc-rapid/R/bin/R CMD check --install=check:BiocPkgTools.install-out.txt --library=/home/rapidbuild/bbs-3.22-bioc-rapid/R/site-library --timings BiocPkgTools_1.27.6.tar.gz
###
##############################################################################
##############################################################################
* using log directory ‘/media/volume/teran2_disk/rapidbuild/bbs-3.22-bioc-rapid/meat/BiocPkgTools.Rcheck’
* using R version 4.5.0 (2025-04-11)
* using platform: x86_64-pc-linux-gnu
* R was compiled by
gcc (Ubuntu 13.3.0-6ubuntu2~24.04) 13.3.0
GNU Fortran (Ubuntu 13.3.0-6ubuntu2~24.04) 13.3.0
* running under: Ubuntu 24.04.2 LTS
* using session charset: UTF-8
* checking for file ‘BiocPkgTools/DESCRIPTION’ ... OK
* checking extension type ... Package
* this is package ‘BiocPkgTools’ version ‘1.27.6’
* package encoding: UTF-8
* checking package namespace information ... OK
* checking package dependencies ... INFO
Imports includes 25 non-default packages.
Importing from so many packages makes the package vulnerable to any of
them becoming unavailable. Move as many as possible to Suggests and
use conditionally.
* checking if this is a source package ... OK
* checking if there is a namespace ... OK
* checking for hidden files and directories ... OK
* checking for portable file names ... OK
* checking for sufficient/correct file permissions ... OK
* checking whether package ‘BiocPkgTools’ can be installed ... OK
* checking installed package size ... OK
* checking package directory ... OK
* checking ‘build’ directory ... OK
* checking DESCRIPTION meta-information ... NOTE
License stub is invalid DCF.
* checking top-level files ... OK
* checking for left-over files ... OK
* checking index information ... OK
* checking package subdirectories ... OK
* checking code files for non-ASCII characters ... OK
* checking R files for syntax errors ... OK
* checking whether the package can be loaded ... OK
* checking whether the package can be loaded with stated dependencies ... OK
* checking whether the package can be unloaded cleanly ... OK
* checking whether the namespace can be loaded with stated dependencies ... OK
* checking whether the namespace can be unloaded cleanly ... OK
* checking loading without being on the library search path ... OK
* checking dependencies in R code ... NOTE
Unexported objects imported by ':::' calls:
‘BiocManager:::.repositories’ ‘BiocManager:::.repositories_bioc’
‘BiocManager:::.repository_container_version’
‘BiocManager:::.version_bioc’
See the note in ?`:::` about the use of this operator.
* checking S3 generic/method consistency ... OK
* checking replacement functions ... OK
* checking foreign function calls ... OK
* checking R code for possible problems ... OK
* checking Rd files ... OK
* checking Rd metadata ... OK
* checking Rd cross-references ... OK
* checking for missing documentation entries ... OK
* checking for code/documentation mismatches ... OK
* checking Rd \usage sections ... OK
* checking Rd contents ... OK
* checking for unstated dependencies in examples ... OK
* checking files in ‘vignettes’ ... OK
* checking examples ... OK
Examples with CPU (user + system) or elapsed time > 5s
user system elapsed
biocBuildReport 10.945 8.328 22.940
firstInBioc 10.035 0.217 11.386
get_bioc_data 9.024 0.119 10.019
biocDownloadStats 7.756 0.212 9.300
pkgCombDependencyGain 7.765 0.142 9.880
class-dependencies 5.006 0.272 5.570
pkgDepMetrics 4.409 0.093 6.379
* checking for unstated dependencies in ‘tests’ ... OK
* checking tests ...
Running ‘testthat.R’
OK
* checking for unstated dependencies in vignettes ... OK
* checking package vignettes ... OK
* checking re-building of vignette outputs ... OK
* checking PDF version of manual ... OK
* DONE
Status: 2 NOTEs
See
‘/media/volume/teran2_disk/rapidbuild/bbs-3.22-bioc-rapid/meat/BiocPkgTools.Rcheck/00check.log’
for details.
BiocPkgTools.Rcheck/00install.out
############################################################################## ############################################################################## ### ### Running command: ### ### /home/rapidbuild/bbs-3.22-bioc-rapid/R/bin/R CMD INSTALL BiocPkgTools ### ############################################################################## ############################################################################## * installing to library ‘/media/volume/teran2_disk/rapidbuild/bbs-3.22-bioc-rapid/R/site-library’ * installing *source* package ‘BiocPkgTools’ ... ** this is package ‘BiocPkgTools’ version ‘1.27.6’ ** using staged installation ** R ** inst ** byte-compile and prepare package for lazy loading ** help *** installing help indices ** building package indices ** installing vignettes ** testing if installed package can be loaded from temporary location ** testing if installed package can be loaded from final location ** testing if installed package keeps a record of temporary installation path * DONE (BiocPkgTools)
BiocPkgTools.Rcheck/tests/testthat.Rout
R version 4.5.0 (2025-04-11) -- "How About a Twenty-Six"
Copyright (C) 2025 The R Foundation for Statistical Computing
Platform: x86_64-pc-linux-gnu
R is free software and comes with ABSOLUTELY NO WARRANTY.
You are welcome to redistribute it under certain conditions.
Type 'license()' or 'licence()' for distribution details.
R is a collaborative project with many contributors.
Type 'contributors()' for more information and
'citation()' on how to cite R or R packages in publications.
Type 'demo()' for some demos, 'help()' for on-line help, or
'help.start()' for an HTML browser interface to help.
Type 'q()' to quit R.
> library(testthat)
> library(BiocPkgTools)
Loading required package: htmlwidgets
>
> test_check("BiocPkgTools")
trying URL 'https://bioconductor.org/packages/3.21/bioc/vignettes/a4/inst/doc/a4vignette.pdf'
Content type 'application/pdf' length 1397541 bytes (1.3 MB)
==================================================
downloaded 1.3 MB
[ FAIL 0 | WARN 2 | SKIP 0 | PASS 27 ]
[ FAIL 0 | WARN 2 | SKIP 0 | PASS 27 ]
>
> proc.time()
user system elapsed
21.299 5.676 37.907
BiocPkgTools.Rcheck/BiocPkgTools-Ex.timings
| name | user | system | elapsed | |
| activitySince | 0 | 0 | 0 | |
| anacondaDownloadStats | 1.762 | 0.056 | 2.560 | |
| biocBuildReport | 10.945 | 8.328 | 22.940 | |
| biocDownloadStats | 7.756 | 0.212 | 9.300 | |
| biocMaintained | 2.797 | 0.048 | 4.622 | |
| biocPkgList | 0.852 | 0.005 | 1.017 | |
| biocPkgRanges | 0.001 | 0.000 | 0.001 | |
| biocRevDepEmail | 1.712 | 0.034 | 3.256 | |
| buildPkgDependencyDataFrame | 1.849 | 0.014 | 2.455 | |
| buildPkgDependencyIgraph | 0.935 | 0.003 | 1.123 | |
| class-dependencies | 5.006 | 0.272 | 5.570 | |
| firstInBioc | 10.035 | 0.217 | 11.386 | |
| generateBiocPkgDOI | 0 | 0 | 0 | |
| getBiocVignette | 0.871 | 0.008 | 1.298 | |
| getPkgYearsInBioc | 0.000 | 0.001 | 0.000 | |
| get_bioc_data | 9.024 | 0.119 | 10.019 | |
| get_cre_orcids | 0.007 | 0.000 | 0.007 | |
| githubDetails | 1.064 | 0.050 | 1.626 | |
| githubURLParts | 0.820 | 0.003 | 1.000 | |
| inducedSubgraphByPkgs | 3.049 | 0.020 | 4.637 | |
| latestPkgStats | 0.000 | 0.000 | 0.001 | |
| orcid_table | 0 | 0 | 0 | |
| pkgBiocDeps | 0.795 | 0.002 | 0.853 | |
| pkgBiocRevDeps | 1.277 | 0.000 | 1.317 | |
| pkgCombDependencyGain | 7.765 | 0.142 | 9.880 | |
| pkgDepImports | 0.12 | 0.00 | 0.12 | |
| pkgDepMetrics | 4.409 | 0.093 | 6.379 | |
| pkgDownloadRank | 1.024 | 0.013 | 1.423 | |
| pkgDownloadStats | 0.106 | 0.000 | 0.131 | |
| problemPage | 0 | 0 | 0 | |
| repositoryStats | 0.040 | 0.001 | 0.041 | |
| subgraphByDegree | 0.823 | 0.005 | 1.189 | |