| Back to Rapid builds (Linux only) of a subset of BioC 3.22 Report updated every 6 hours |
This page was generated on 2025-07-24 09:37 -0400 (Thu, 24 Jul 2025).
| Hostname | OS | Arch (*) | R version | Installed pkgs |
|---|---|---|---|---|
| teran2 | Linux (Ubuntu 24.04.1 LTS) | x86_64 | 4.5.0 (2025-04-11) -- "How About a Twenty-Six" | 914 |
| Click on any hostname to see more info about the system (e.g. compilers) (*) as reported by 'uname -p', except on Windows and Mac OS X | ||||
| Package 128/229 | Hostname | OS / Arch | INSTALL | BUILD | CHECK | |||||||
| karyoploteR 1.35.3 (landing page) Bernat Gel
| teran2 | Linux (Ubuntu 24.04.1 LTS) / x86_64 | OK | OK | OK | |||||||
|
To the developers/maintainers of the karyoploteR package: - Use the following Renviron settings to reproduce errors and warnings. - If 'R CMD check' started to fail recently on the Linux builder(s) over a missing dependency, add the missing dependency to 'Suggests:' in your DESCRIPTION file. See Renviron.bioc for more information. |
| Package: karyoploteR |
| Version: 1.35.3 |
| Command: /home/rapidbuild/bbs-3.22-bioc-rapid/R/bin/R CMD check --install=check:karyoploteR.install-out.txt --library=/home/rapidbuild/bbs-3.22-bioc-rapid/R/site-library --timings karyoploteR_1.35.3.tar.gz |
| StartedAt: 2025-07-24 08:30:48 -0400 (Thu, 24 Jul 2025) |
| EndedAt: 2025-07-24 08:37:10 -0400 (Thu, 24 Jul 2025) |
| EllapsedTime: 381.7 seconds |
| RetCode: 0 |
| Status: OK |
| CheckDir: karyoploteR.Rcheck |
| Warnings: 0 |
##############################################################################
##############################################################################
###
### Running command:
###
### /home/rapidbuild/bbs-3.22-bioc-rapid/R/bin/R CMD check --install=check:karyoploteR.install-out.txt --library=/home/rapidbuild/bbs-3.22-bioc-rapid/R/site-library --timings karyoploteR_1.35.3.tar.gz
###
##############################################################################
##############################################################################
* using log directory ‘/media/volume/teran2_disk/rapidbuild/bbs-3.22-bioc-rapid/meat/karyoploteR.Rcheck’
* using R version 4.5.0 (2025-04-11)
* using platform: x86_64-pc-linux-gnu
* R was compiled by
gcc (Ubuntu 13.3.0-6ubuntu2~24.04) 13.3.0
GNU Fortran (Ubuntu 13.3.0-6ubuntu2~24.04) 13.3.0
* running under: Ubuntu 24.04.2 LTS
* using session charset: UTF-8
* checking for file ‘karyoploteR/DESCRIPTION’ ... OK
* checking extension type ... Package
* this is package ‘karyoploteR’ version ‘1.35.3’
* package encoding: UTF-8
* checking package namespace information ... OK
* checking package dependencies ... OK
* checking if this is a source package ... OK
* checking if there is a namespace ... OK
* checking for hidden files and directories ... OK
* checking for portable file names ... OK
* checking for sufficient/correct file permissions ... OK
* checking whether package ‘karyoploteR’ can be installed ... OK
* checking installed package size ... OK
* checking package directory ... OK
* checking ‘build’ directory ... OK
* checking DESCRIPTION meta-information ... NOTE
Packages listed in more than one of Depends, Imports, Suggests, Enhances:
‘regioneR’ ‘GenomicRanges’
A package should be listed in only one of these fields.
* checking top-level files ... OK
* checking for left-over files ... OK
* checking index information ... OK
* checking package subdirectories ... NOTE
Problems with news in ‘NEWS’:
Cannot process chunk/lines:
NEW FEATURES
Cannot process chunk/lines:
SIGNIFICANT USER-VISIBLE CHANGES
Cannot process chunk/lines:
NEW FEATURES
Cannot process chunk/lines:
SIGNIFICANT USER-VISIBLE CHANGES
* checking code files for non-ASCII characters ... OK
* checking R files for syntax errors ... OK
* checking whether the package can be loaded ... OK
* checking whether the package can be loaded with stated dependencies ... OK
* checking whether the package can be unloaded cleanly ... OK
* checking whether the namespace can be loaded with stated dependencies ... OK
* checking whether the namespace can be unloaded cleanly ... OK
* checking loading without being on the library search path ... OK
* checking whether startup messages can be suppressed ... OK
* checking dependencies in R code ... OK
* checking S3 generic/method consistency ... OK
* checking replacement functions ... OK
* checking foreign function calls ... OK
* checking R code for possible problems ... OK
* checking Rd files ... NOTE
checkRd: (-1) kpPlotBAMCoverage.Rd:48: Lost braces
48 | There's more information at the \url{https://bernatgel.github.io/karyoploter_tutorial/}{karyoploteR tutorial}.
| ^
checkRd: (-1) kpPlotBAMDensity.Rd:48: Lost braces
48 | There's more information at the \url{https://bernatgel.github.io/karyoploter_tutorial/}{karyoploteR tutorial}.
| ^
checkRd: (-1) kpPlotCoverage.Rd:46: Lost braces
46 | There's more information at the \url{https://bernatgel.github.io/karyoploter_tutorial/}{karyoploteR tutorial}.
| ^
checkRd: (-1) kpPlotDensity.Rd:42: Lost braces
42 | There's more information at the \url{https://bernatgel.github.io/karyoploter_tutorial/}{karyoploteR tutorial}.
| ^
checkRd: (-1) kpPlotManhattan.Rd:80: Lost braces
80 | There's more information at the \url{https://bernatgel.github.io/karyoploter_tutorial/}{karyoploteR tutorial}.
| ^
checkRd: (-1) kpPlotMarkers.Rd:81: Lost braces
81 | There's more information at the \url{https://bernatgel.github.io/karyoploter_tutorial/}{karyoploteR tutorial}.
| ^
checkRd: (-1) kpPlotRainfall.Rd:47: Lost braces
47 | There's more information at the \url{https://bernatgel.github.io/karyoploter_tutorial/}{karyoploteR tutorial}.
| ^
checkRd: (-1) kpPoints.Rd:54: Lost braces
54 | There's more information at the \url{https://bernatgel.github.io/karyoploter_tutorial/}{karyoploteR tutorial}.
| ^
checkRd: (-1) kpRect.Rd:55: Lost braces
55 | There's more information at the \url{https://bernatgel.github.io/karyoploter_tutorial/}{karyoploteR tutorial}.
| ^
checkRd: (-1) plotKaryotype.Rd:61: Lost braces
61 | There's more information at the \url{https://bernatgel.github.io/karyoploter_tutorial/}{karyoploteR tutorial}.
| ^
* checking Rd metadata ... OK
* checking Rd cross-references ... NOTE
Found the following Rd file(s) with Rd \link{} targets missing package
anchors:
getCytobands.Rd: GenomicRanges, memoise, forget
kpPlotBAMCoverage.Rd: bamsignals
kpPlotBAMDensity.Rd: Rsamtools
kpPlotBigWig.Rd: BigWigFile
Please provide package anchors for all Rd \link{} targets not in the
package itself and the base packages.
* checking for missing documentation entries ... OK
* checking for code/documentation mismatches ... OK
* checking Rd \usage sections ... OK
* checking Rd contents ... OK
* checking for unstated dependencies in examples ... OK
* checking R/sysdata.rda ... OK
* checking files in ‘vignettes’ ... OK
* checking examples ... OK
Examples with CPU (user + system) or elapsed time > 5s
user system elapsed
kpPlotDensity 23.026 4.620 27.652
kpPlotGenes 13.254 0.108 13.369
mergeTranscripts 10.808 0.015 10.829
kpPlotHorizon 9.376 0.005 9.387
kpPlotRegions 8.170 0.003 8.175
kpPlotBAMCoverage 4.987 0.177 5.166
* checking for unstated dependencies in ‘tests’ ... OK
* checking tests ...
Running ‘testthat.R’
OK
* checking for unstated dependencies in vignettes ... OK
* checking package vignettes ... OK
* checking re-building of vignette outputs ... OK
* checking PDF version of manual ... OK
* DONE
Status: 4 NOTEs
See
‘/media/volume/teran2_disk/rapidbuild/bbs-3.22-bioc-rapid/meat/karyoploteR.Rcheck/00check.log’
for details.
karyoploteR.Rcheck/00install.out
############################################################################## ############################################################################## ### ### Running command: ### ### /home/rapidbuild/bbs-3.22-bioc-rapid/R/bin/R CMD INSTALL karyoploteR ### ############################################################################## ############################################################################## * installing to library ‘/media/volume/teran2_disk/rapidbuild/bbs-3.22-bioc-rapid/R/site-library’ * installing *source* package ‘karyoploteR’ ... ** this is package ‘karyoploteR’ version ‘1.35.3’ ** using staged installation ** R ** inst ** byte-compile and prepare package for lazy loading ** help *** installing help indices ** building package indices ** installing vignettes ** testing if installed package can be loaded from temporary location ** testing if installed package can be loaded from final location ** testing if installed package keeps a record of temporary installation path * DONE (karyoploteR)
karyoploteR.Rcheck/tests/testthat.Rout
R version 4.5.0 (2025-04-11) -- "How About a Twenty-Six"
Copyright (C) 2025 The R Foundation for Statistical Computing
Platform: x86_64-pc-linux-gnu
R is free software and comes with ABSOLUTELY NO WARRANTY.
You are welcome to redistribute it under certain conditions.
Type 'license()' or 'licence()' for distribution details.
R is a collaborative project with many contributors.
Type 'contributors()' for more information and
'citation()' on how to cite R or R packages in publications.
Type 'demo()' for some demos, 'help()' for on-line help, or
'help.start()' for an HTML browser interface to help.
Type 'q()' to quit R.
> library(testthat)
> library(karyoploteR)
Loading required package: regioneR
Loading required package: GenomicRanges
Loading required package: stats4
Loading required package: BiocGenerics
Loading required package: generics
Attaching package: 'generics'
The following objects are masked from 'package:base':
as.difftime, as.factor, as.ordered, intersect, is.element, setdiff,
setequal, union
Attaching package: 'BiocGenerics'
The following objects are masked from 'package:stats':
IQR, mad, sd, var, xtabs
The following objects are masked from 'package:base':
Filter, Find, Map, Position, Reduce, anyDuplicated, aperm, append,
as.data.frame, basename, cbind, colnames, dirname, do.call,
duplicated, eval, evalq, get, grep, grepl, is.unsorted, lapply,
mapply, match, mget, order, paste, pmax, pmax.int, pmin, pmin.int,
rank, rbind, rownames, sapply, saveRDS, table, tapply, unique,
unsplit, which.max, which.min
Loading required package: S4Vectors
Attaching package: 'S4Vectors'
The following object is masked from 'package:utils':
findMatches
The following objects are masked from 'package:base':
I, expand.grid, unname
Loading required package: IRanges
Loading required package: Seqinfo
>
> test_check("karyoploteR")
[ FAIL 0 | WARN 0 | SKIP 3 | PASS 177 ]
══ Skipped tests (3) ═══════════════════════════════════════════════════════════
• empty test (3): 'test_plotKaryotype.R:27:1', 'test_plotKaryotype.R:34:1',
'test_plotKaryotype.R:44:1'
[ FAIL 0 | WARN 0 | SKIP 3 | PASS 177 ]
>
> proc.time()
user system elapsed
12.534 0.866 13.389
karyoploteR.Rcheck/karyoploteR-Ex.timings
| name | user | system | elapsed | |
| addGeneNames | 2.202 | 0.106 | 2.309 | |
| autotrack | 0.000 | 0.001 | 0.001 | |
| colByCategory | 0.001 | 0.000 | 0.001 | |
| colByChr | 0.325 | 0.000 | 0.325 | |
| colByRegion | 0.678 | 0.159 | 0.837 | |
| colByValue | 0.120 | 0.003 | 0.122 | |
| darker | 0.000 | 0.001 | 0.000 | |
| filterParams | 0.000 | 0.000 | 0.001 | |
| findIntersections | 0.076 | 0.000 | 0.076 | |
| getChromosomeNamesBoundingBox | 0.034 | 0.000 | 0.034 | |
| getColorSchemas | 0.001 | 0.001 | 0.001 | |
| getCytobandColors | 0.000 | 0.001 | 0.001 | |
| getCytobands | 0.001 | 0.000 | 0.001 | |
| getDataPanelBoundingBox | 0.031 | 0.000 | 0.030 | |
| getDefaultPlotParams | 0.048 | 0.000 | 0.048 | |
| getMainTitleBoundingBox | 0.023 | 0.001 | 0.024 | |
| getTextSize | 0.051 | 0.000 | 0.052 | |
| getVariantsColors | 0.000 | 0.000 | 0.001 | |
| horizonColors | 0.002 | 0.000 | 0.002 | |
| is.color | 0.000 | 0.000 | 0.001 | |
| kpAbline | 0.614 | 0.024 | 0.639 | |
| kpAddBaseNumbers | 0.220 | 0.002 | 0.223 | |
| kpAddChromosomeNames | 0.023 | 0.000 | 0.024 | |
| kpAddChromosomeSeparators | 0.288 | 0.002 | 0.290 | |
| kpAddColorRect | 0.104 | 0.000 | 0.103 | |
| kpAddCytobandLabels | 0.26 | 0.00 | 0.26 | |
| kpAddCytobands | 0.023 | 0.000 | 0.023 | |
| kpAddCytobandsAsLine | 0.047 | 0.000 | 0.047 | |
| kpAddLabels | 0.278 | 0.004 | 0.283 | |
| kpAddMainTitle | 0.023 | 0.001 | 0.024 | |
| kpArea | 0.213 | 0.001 | 0.214 | |
| kpArrows | 0.370 | 0.004 | 0.374 | |
| kpAxis | 0.189 | 0.000 | 0.188 | |
| kpBars | 0.118 | 0.001 | 0.119 | |
| kpDataBackground | 0.142 | 0.001 | 0.143 | |
| kpHeatmap | 0.088 | 0.000 | 0.088 | |
| kpLines | 0.17 | 0.00 | 0.17 | |
| kpPlotBAMCoverage | 4.987 | 0.177 | 5.166 | |
| kpPlotBAMDensity | 1.170 | 0.013 | 1.182 | |
| kpPlotBigWig | 0.542 | 0.002 | 0.558 | |
| kpPlotCoverage | 0.286 | 0.001 | 0.287 | |
| kpPlotDensity | 23.026 | 4.620 | 27.652 | |
| kpPlotGenes | 13.254 | 0.108 | 13.369 | |
| kpPlotHorizon | 9.376 | 0.005 | 9.387 | |
| kpPlotLinks | 0.671 | 0.003 | 0.677 | |
| kpPlotLoess | 0.044 | 0.000 | 0.044 | |
| kpPlotManhattan | 3.507 | 0.036 | 3.546 | |
| kpPlotMarkers | 1.150 | 0.001 | 1.151 | |
| kpPlotNames | 0.075 | 0.000 | 0.075 | |
| kpPlotRainfall | 0.522 | 0.002 | 0.523 | |
| kpPlotRegions | 8.170 | 0.003 | 8.175 | |
| kpPlotRibbon | 0.062 | 0.000 | 0.062 | |
| kpPlotTranscripts | 4.773 | 0.003 | 4.779 | |
| kpPoints | 0.176 | 0.000 | 0.178 | |
| kpPolygon | 0.148 | 0.000 | 0.148 | |
| kpRect | 0.550 | 0.001 | 0.551 | |
| kpSegments | 0.354 | 0.000 | 0.355 | |
| kpText | 0.169 | 0.002 | 0.171 | |
| lighter | 0.001 | 0.000 | 0.000 | |
| makeGenesDataFromTxDb | 1.934 | 0.012 | 1.947 | |
| mergeTranscripts | 10.808 | 0.015 | 10.829 | |
| plotDefaultPlotParams | 0.106 | 0.000 | 0.106 | |
| plotKaryotype | 0.633 | 0.004 | 0.636 | |
| plotPalettes | 0.013 | 0.000 | 0.014 | |
| prepareParameters2 | 0.023 | 0.000 | 0.023 | |
| prepareParameters4 | 0.024 | 0.000 | 0.023 | |
| processClipping | 0.07 | 0.00 | 0.07 | |
| transparent | 0.000 | 0.001 | 0.001 | |