| Back to Rapid builds (Linux only) of a subset of BioC 3.22 Report updated every 6 hours |
This page was generated on 2025-07-24 09:37 -0400 (Thu, 24 Jul 2025).
| Hostname | OS | Arch (*) | R version | Installed pkgs |
|---|---|---|---|---|
| teran2 | Linux (Ubuntu 24.04.1 LTS) | x86_64 | 4.5.0 (2025-04-11) -- "How About a Twenty-Six" | 914 |
| Click on any hostname to see more info about the system (e.g. compilers) (*) as reported by 'uname -p', except on Windows and Mac OS X | ||||
| Package 106/229 | Hostname | OS / Arch | INSTALL | BUILD | CHECK | |||||||
| ggtree 3.17.1 (landing page) Guangchuang Yu
| teran2 | Linux (Ubuntu 24.04.1 LTS) / x86_64 | OK | OK | OK | |||||||
|
To the developers/maintainers of the ggtree package: - Use the following Renviron settings to reproduce errors and warnings. - If 'R CMD check' started to fail recently on the Linux builder(s) over a missing dependency, add the missing dependency to 'Suggests:' in your DESCRIPTION file. See Renviron.bioc for more information. |
| Package: ggtree |
| Version: 3.17.1 |
| Command: /home/rapidbuild/bbs-3.22-bioc-rapid/R/bin/R CMD check --install=check:ggtree.install-out.txt --library=/home/rapidbuild/bbs-3.22-bioc-rapid/R/site-library --timings ggtree_3.17.1.tar.gz |
| StartedAt: 2025-07-24 08:20:47 -0400 (Thu, 24 Jul 2025) |
| EndedAt: 2025-07-24 08:21:43 -0400 (Thu, 24 Jul 2025) |
| EllapsedTime: 55.6 seconds |
| RetCode: 0 |
| Status: OK |
| CheckDir: ggtree.Rcheck |
| Warnings: 0 |
##############################################################################
##############################################################################
###
### Running command:
###
### /home/rapidbuild/bbs-3.22-bioc-rapid/R/bin/R CMD check --install=check:ggtree.install-out.txt --library=/home/rapidbuild/bbs-3.22-bioc-rapid/R/site-library --timings ggtree_3.17.1.tar.gz
###
##############################################################################
##############################################################################
* using log directory ‘/media/volume/teran2_disk/rapidbuild/bbs-3.22-bioc-rapid/meat/ggtree.Rcheck’
* using R version 4.5.0 (2025-04-11)
* using platform: x86_64-pc-linux-gnu
* R was compiled by
gcc (Ubuntu 13.3.0-6ubuntu2~24.04) 13.3.0
GNU Fortran (Ubuntu 13.3.0-6ubuntu2~24.04) 13.3.0
* running under: Ubuntu 24.04.2 LTS
* using session charset: UTF-8
* checking for file ‘ggtree/DESCRIPTION’ ... OK
* checking extension type ... Package
* this is package ‘ggtree’ version ‘3.17.1’
* package encoding: UTF-8
* checking package namespace information ... OK
* checking package dependencies ... OK
* checking if this is a source package ... OK
* checking if there is a namespace ... OK
* checking for hidden files and directories ... OK
* checking for portable file names ... OK
* checking for sufficient/correct file permissions ... OK
* checking whether package ‘ggtree’ can be installed ... OK
* checking installed package size ... OK
* checking package directory ... OK
* checking ‘build’ directory ... OK
* checking DESCRIPTION meta-information ... OK
* checking top-level files ... OK
* checking for left-over files ... OK
* checking index information ... OK
* checking package subdirectories ... OK
* checking code files for non-ASCII characters ... OK
* checking R files for syntax errors ... OK
* checking whether the package can be loaded ... OK
* checking whether the package can be loaded with stated dependencies ... OK
* checking whether the package can be unloaded cleanly ... OK
* checking whether the namespace can be loaded with stated dependencies ... OK
* checking whether the namespace can be unloaded cleanly ... OK
* checking loading without being on the library search path ... OK
* checking whether startup messages can be suppressed ... OK
* checking dependencies in R code ... OK
* checking S3 generic/method consistency ... OK
* checking replacement functions ... OK
* checking foreign function calls ... OK
* checking R code for possible problems ... OK
* checking Rd files ... OK
* checking Rd metadata ... OK
* checking Rd cross-references ... NOTE
Non-topic package-anchored link(s) in Rd file 'reexports.Rd':
‘[ggfun:attacher]{%<+%}’ ‘[ggplot2:scale_manual]{scale_color_manual}’
‘[ggplot2:scale_manual]{scale_colour_manual}’
‘[ggplot2:scale_manual]{scale_fill_manual}’
‘[ggplot2:scale_continuous]{scale_x_continuous}’
‘[magrittr:pipe]{%>%}’
See section 'Cross-references' in the 'Writing R Extensions' manual.
* checking for missing documentation entries ... OK
* checking for code/documentation mismatches ... OK
* checking Rd \usage sections ... OK
* checking Rd contents ... OK
* checking for unstated dependencies in examples ... OK
* checking files in ‘vignettes’ ... OK
* checking examples ... OK
* checking for unstated dependencies in ‘tests’ ... OK
* checking tests ...
Running ‘testthat.R’
OK
* checking for unstated dependencies in vignettes ... OK
* checking package vignettes ... OK
* checking re-building of vignette outputs ... OK
* checking PDF version of manual ... OK
* DONE
Status: 1 NOTE
See
‘/media/volume/teran2_disk/rapidbuild/bbs-3.22-bioc-rapid/meat/ggtree.Rcheck/00check.log’
for details.
ggtree.Rcheck/00install.out
############################################################################## ############################################################################## ### ### Running command: ### ### /home/rapidbuild/bbs-3.22-bioc-rapid/R/bin/R CMD INSTALL ggtree ### ############################################################################## ############################################################################## * installing to library ‘/media/volume/teran2_disk/rapidbuild/bbs-3.22-bioc-rapid/R/site-library’ * installing *source* package ‘ggtree’ ... ** this is package ‘ggtree’ version ‘3.17.1’ ** using staged installation ** R ** inst ** byte-compile and prepare package for lazy loading ** help *** installing help indices ** building package indices ** installing vignettes ** testing if installed package can be loaded from temporary location ** testing if installed package can be loaded from final location ** testing if installed package keeps a record of temporary installation path * DONE (ggtree)
ggtree.Rcheck/tests/testthat.Rout
R version 4.5.0 (2025-04-11) -- "How About a Twenty-Six"
Copyright (C) 2025 The R Foundation for Statistical Computing
Platform: x86_64-pc-linux-gnu
R is free software and comes with ABSOLUTELY NO WARRANTY.
You are welcome to redistribute it under certain conditions.
Type 'license()' or 'licence()' for distribution details.
R is a collaborative project with many contributors.
Type 'contributors()' for more information and
'citation()' on how to cite R or R packages in publications.
Type 'demo()' for some demos, 'help()' for on-line help, or
'help.start()' for an HTML browser interface to help.
Type 'q()' to quit R.
> library(testthat)
> library(ggtree)
ggtree v3.17.1 Learn more at https://yulab-smu.top/contribution-tree-data/
Please cite:
S Xu, Z Dai, P Guo, X Fu, S Liu, L Zhou, W Tang, T Feng, M Chen, L
Zhan, T Wu, E Hu, Y Jiang, X Bo, G Yu. ggtreeExtra: Compact
visualization of richly annotated phylogenetic data. Molecular Biology
and Evolution. 2021, 38(9):4039-4042. doi: 10.1093/molbev/msab166
>
> test_check("ggtree")
[ FAIL 0 | WARN 10 | SKIP 0 | PASS 14 ]
[ FAIL 0 | WARN 10 | SKIP 0 | PASS 14 ]
>
> proc.time()
user system elapsed
2.181 0.155 2.325
ggtree.Rcheck/ggtree-Ex.timings
| name | user | system | elapsed | |
| collapse | 0.615 | 0.047 | 0.664 | |
| expand | 0.263 | 0.000 | 0.263 | |
| facet-plot | 0.237 | 0.000 | 0.236 | |
| flip | 0.206 | 0.001 | 0.206 | |
| geom-hilight | 1.483 | 0.006 | 1.489 | |
| geom_balance | 0.265 | 0.002 | 0.266 | |
| geom_cladelab | 0.439 | 0.001 | 0.445 | |
| geom_label2 | 0.245 | 0.000 | 0.246 | |
| geom_point2 | 1.012 | 0.004 | 1.016 | |
| geom_rootedge | 0.955 | 0.001 | 0.958 | |
| geom_rootpoint | 0.361 | 0.001 | 0.362 | |
| geom_strip | 0.199 | 0.000 | 0.199 | |
| geom_striplab | 0.229 | 0.000 | 0.229 | |
| geom_tiplab | 0.187 | 0.001 | 0.188 | |
| geom_tiplab2 | 0.246 | 0.000 | 0.246 | |
| geom_tippoint | 0.185 | 0.000 | 0.184 | |
| geom_tree | 0.112 | 0.001 | 0.112 | |
| get_taxa_name | 0.088 | 0.000 | 0.087 | |
| ggdensitree | 2.171 | 0.004 | 2.174 | |
| ggexpand | 0.257 | 0.001 | 0.259 | |
| ggtree-format-painter | 0.228 | 0.000 | 0.228 | |
| ggtree | 0.182 | 0.000 | 0.182 | |
| label_pad | 0.000 | 0.001 | 0.001 | |
| open_tree | 0.243 | 0.000 | 0.242 | |
| reexports | 0.254 | 0.000 | 0.253 | |
| revts | 0.224 | 0.001 | 0.225 | |
| rotate | 0.198 | 0.000 | 0.198 | |
| rotate_tree | 0.246 | 0.000 | 0.246 | |
| scaleClade | 0.228 | 0.000 | 0.228 | |
| theme_tree | 0.222 | 0.000 | 0.221 | |
| theme_tree2 | 0.246 | 0.000 | 0.246 | |
| tree-layout | 1.129 | 0.000 | 1.128 | |
| viewClade | 0.264 | 0.000 | 0.264 | |
| xlim_expand | 0.301 | 0.000 | 0.302 | |
| xlim_tree | 0.314 | 0.000 | 0.314 | |
| zoomClade | 0 | 0 | 0 | |