| Back to Rapid builds (Linux only) of a subset of BioC 3.22 Report updated every 6 hours |
This page was generated on 2025-07-24 09:37 -0400 (Thu, 24 Jul 2025).
| Hostname | OS | Arch (*) | R version | Installed pkgs |
|---|---|---|---|---|
| teran2 | Linux (Ubuntu 24.04.1 LTS) | x86_64 | 4.5.0 (2025-04-11) -- "How About a Twenty-Six" | 914 |
| Click on any hostname to see more info about the system (e.g. compilers) (*) as reported by 'uname -p', except on Windows and Mac OS X | ||||
| Package 24/229 | Hostname | OS / Arch | INSTALL | BUILD | CHECK | |||||||
| beachmat 2.25.3 (landing page) Aaron Lun
| teran2 | Linux (Ubuntu 24.04.1 LTS) / x86_64 | OK | OK | OK | |||||||
|
To the developers/maintainers of the beachmat package: - Use the following Renviron settings to reproduce errors and warnings. - If 'R CMD check' started to fail recently on the Linux builder(s) over a missing dependency, add the missing dependency to 'Suggests:' in your DESCRIPTION file. See Renviron.bioc for more information. |
| Package: beachmat |
| Version: 2.25.3 |
| Command: /home/rapidbuild/bbs-3.22-bioc-rapid/R/bin/R CMD check --install=check:beachmat.install-out.txt --library=/home/rapidbuild/bbs-3.22-bioc-rapid/R/site-library --timings beachmat_2.25.3.tar.gz |
| StartedAt: 2025-07-24 07:38:09 -0400 (Thu, 24 Jul 2025) |
| EndedAt: 2025-07-24 07:42:13 -0400 (Thu, 24 Jul 2025) |
| EllapsedTime: 244.4 seconds |
| RetCode: 0 |
| Status: OK |
| CheckDir: beachmat.Rcheck |
| Warnings: 0 |
##############################################################################
##############################################################################
###
### Running command:
###
### /home/rapidbuild/bbs-3.22-bioc-rapid/R/bin/R CMD check --install=check:beachmat.install-out.txt --library=/home/rapidbuild/bbs-3.22-bioc-rapid/R/site-library --timings beachmat_2.25.3.tar.gz
###
##############################################################################
##############################################################################
* using log directory ‘/media/volume/teran2_disk/rapidbuild/bbs-3.22-bioc-rapid/meat/beachmat.Rcheck’
* using R version 4.5.0 (2025-04-11)
* using platform: x86_64-pc-linux-gnu
* R was compiled by
gcc (Ubuntu 13.3.0-6ubuntu2~24.04) 13.3.0
GNU Fortran (Ubuntu 13.3.0-6ubuntu2~24.04) 13.3.0
* running under: Ubuntu 24.04.2 LTS
* using session charset: UTF-8
* checking for file ‘beachmat/DESCRIPTION’ ... OK
* this is package ‘beachmat’ version ‘2.25.3’
* package encoding: UTF-8
* checking package namespace information ... OK
* checking package dependencies ... OK
* checking if this is a source package ... OK
* checking if there is a namespace ... OK
* checking for hidden files and directories ... OK
* checking for portable file names ... OK
* checking for sufficient/correct file permissions ... OK
* checking whether package ‘beachmat’ can be installed ... OK
* used C++ compiler: ‘g++ (Ubuntu 13.3.0-6ubuntu2~24.04) 13.3.0’
* checking C++ specification ... OK
* checking installed package size ... INFO
installed size is 28.8Mb
sub-directories of 1Mb or more:
libs 28.3Mb
* checking package directory ... OK
* checking ‘build’ directory ... OK
* checking DESCRIPTION meta-information ... NOTE
Versioned 'LinkingTo' value for ‘assorthead’ is only usable in R >= 3.0.2
* checking top-level files ... OK
* checking for left-over files ... OK
* checking index information ... OK
* checking package subdirectories ... OK
* checking code files for non-ASCII characters ... OK
* checking R files for syntax errors ... OK
* checking whether the package can be loaded ... OK
* checking whether the package can be loaded with stated dependencies ... OK
* checking whether the package can be unloaded cleanly ... OK
* checking whether the namespace can be loaded with stated dependencies ... OK
* checking whether the namespace can be unloaded cleanly ... OK
* checking loading without being on the library search path ... OK
* checking dependencies in R code ... NOTE
Unexported object imported by a ':::' call: ‘DelayedArray:::bplapply2’
See the note in ?`:::` about the use of this operator.
* checking S3 generic/method consistency ... OK
* checking replacement functions ... OK
* checking foreign function calls ... OK
* checking R code for possible problems ... OK
* checking Rd files ... OK
* checking Rd metadata ... OK
* checking Rd cross-references ... OK
* checking for missing documentation entries ... OK
* checking for code/documentation mismatches ... OK
* checking Rd \usage sections ... OK
* checking Rd contents ... OK
* checking for unstated dependencies in examples ... OK
* checking line endings in C/C++/Fortran sources/headers ... OK
* checking line endings in Makefiles ... OK
* checking compilation flags in Makevars ... OK
* checking for GNU extensions in Makefiles ... OK
* checking for portable use of $(BLAS_LIBS) and $(LAPACK_LIBS) ... OK
* checking use of PKG_*FLAGS in Makefiles ... OK
* checking compiled code ... NOTE
Note: information on .o files is not available
* checking files in ‘vignettes’ ... OK
* checking examples ... OK
Examples with CPU (user + system) or elapsed time > 5s
user system elapsed
colBlockApply 9.845 1.902 19.414
* checking for unstated dependencies in ‘tests’ ... OK
* checking tests ...
Running ‘testthat.R’
OK
* checking for unstated dependencies in vignettes ... OK
* checking package vignettes ... OK
* checking re-building of vignette outputs ... OK
* checking PDF version of manual ... OK
* DONE
Status: 3 NOTEs
See
‘/media/volume/teran2_disk/rapidbuild/bbs-3.22-bioc-rapid/meat/beachmat.Rcheck/00check.log’
for details.
beachmat.Rcheck/00install.out
##############################################################################
##############################################################################
###
### Running command:
###
### /home/rapidbuild/bbs-3.22-bioc-rapid/R/bin/R CMD INSTALL beachmat
###
##############################################################################
##############################################################################
* installing to library ‘/media/volume/teran2_disk/rapidbuild/bbs-3.22-bioc-rapid/R/site-library’
* installing *source* package ‘beachmat’ ...
** this is package ‘beachmat’ version ‘2.25.3’
** using staged installation
** libs
using C++ compiler: ‘g++ (Ubuntu 13.3.0-6ubuntu2~24.04) 13.3.0’
using C++17
g++ -std=gnu++17 -I"/home/rapidbuild/bbs-3.22-bioc-rapid/R/include" -DNDEBUG -I../inst/include -I'/media/volume/teran2_disk/rapidbuild/bbs-3.22-bioc-rapid/R/site-library/Rcpp/include' -I'/media/volume/teran2_disk/rapidbuild/bbs-3.22-bioc-rapid/R/site-library/assorthead/include' -I/usr/local/include -fpic -g -O2 -Wall -Werror=format-security -c RcppExports.cpp -o RcppExports.o
g++ -std=gnu++17 -I"/home/rapidbuild/bbs-3.22-bioc-rapid/R/include" -DNDEBUG -I../inst/include -I'/media/volume/teran2_disk/rapidbuild/bbs-3.22-bioc-rapid/R/site-library/Rcpp/include' -I'/media/volume/teran2_disk/rapidbuild/bbs-3.22-bioc-rapid/R/site-library/assorthead/include' -I/usr/local/include -fpic -g -O2 -Wall -Werror=format-security -c constant_matrix.cpp -o constant_matrix.o
g++ -std=gnu++17 -I"/home/rapidbuild/bbs-3.22-bioc-rapid/R/include" -DNDEBUG -I../inst/include -I'/media/volume/teran2_disk/rapidbuild/bbs-3.22-bioc-rapid/R/site-library/Rcpp/include' -I'/media/volume/teran2_disk/rapidbuild/bbs-3.22-bioc-rapid/R/site-library/assorthead/include' -I/usr/local/include -fpic -g -O2 -Wall -Werror=format-security -c delayed_isometric_binary.cpp -o delayed_isometric_binary.o
g++ -std=gnu++17 -I"/home/rapidbuild/bbs-3.22-bioc-rapid/R/include" -DNDEBUG -I../inst/include -I'/media/volume/teran2_disk/rapidbuild/bbs-3.22-bioc-rapid/R/site-library/Rcpp/include' -I'/media/volume/teran2_disk/rapidbuild/bbs-3.22-bioc-rapid/R/site-library/assorthead/include' -I/usr/local/include -fpic -g -O2 -Wall -Werror=format-security -c delayed_isometric_math.cpp -o delayed_isometric_math.o
g++ -std=gnu++17 -I"/home/rapidbuild/bbs-3.22-bioc-rapid/R/include" -DNDEBUG -I../inst/include -I'/media/volume/teran2_disk/rapidbuild/bbs-3.22-bioc-rapid/R/site-library/Rcpp/include' -I'/media/volume/teran2_disk/rapidbuild/bbs-3.22-bioc-rapid/R/site-library/assorthead/include' -I/usr/local/include -fpic -g -O2 -Wall -Werror=format-security -c delayed_isometric_unary.cpp -o delayed_isometric_unary.o
delayed_isometric_unary.cpp: In function ‘SEXPREC* apply_delayed_comparison(SEXP, Rcpp::NumericVector, bool, std::string)’:
delayed_isometric_unary.cpp:123:17: warning: unused variable ‘shared’ [-Wunused-variable]
123 | const auto& shared = input->ptr;
| ^~~~~~
delayed_isometric_unary.cpp: In function ‘SEXPREC* apply_delayed_boolean(SEXP, Rcpp::LogicalVector, bool, std::string)’:
delayed_isometric_unary.cpp:174:17: warning: unused variable ‘shared’ [-Wunused-variable]
174 | const auto& shared = input->ptr;
| ^~~~~~
g++ -std=gnu++17 -I"/home/rapidbuild/bbs-3.22-bioc-rapid/R/include" -DNDEBUG -I../inst/include -I'/media/volume/teran2_disk/rapidbuild/bbs-3.22-bioc-rapid/R/site-library/Rcpp/include' -I'/media/volume/teran2_disk/rapidbuild/bbs-3.22-bioc-rapid/R/site-library/assorthead/include' -I/usr/local/include -fpic -g -O2 -Wall -Werror=format-security -c delayed_other.cpp -o delayed_other.o
g++ -std=gnu++17 -I"/home/rapidbuild/bbs-3.22-bioc-rapid/R/include" -DNDEBUG -I../inst/include -I'/media/volume/teran2_disk/rapidbuild/bbs-3.22-bioc-rapid/R/site-library/Rcpp/include' -I'/media/volume/teran2_disk/rapidbuild/bbs-3.22-bioc-rapid/R/site-library/assorthead/include' -I/usr/local/include -fpic -g -O2 -Wall -Werror=format-security -c dense_matrix.cpp -o dense_matrix.o
g++ -std=gnu++17 -I"/home/rapidbuild/bbs-3.22-bioc-rapid/R/include" -DNDEBUG -I../inst/include -I'/media/volume/teran2_disk/rapidbuild/bbs-3.22-bioc-rapid/R/site-library/Rcpp/include' -I'/media/volume/teran2_disk/rapidbuild/bbs-3.22-bioc-rapid/R/site-library/assorthead/include' -I/usr/local/include -fpic -g -O2 -Wall -Werror=format-security -c fragment_sparse_rows.cpp -o fragment_sparse_rows.o
g++ -std=gnu++17 -I"/home/rapidbuild/bbs-3.22-bioc-rapid/R/include" -DNDEBUG -I../inst/include -I'/media/volume/teran2_disk/rapidbuild/bbs-3.22-bioc-rapid/R/site-library/Rcpp/include' -I'/media/volume/teran2_disk/rapidbuild/bbs-3.22-bioc-rapid/R/site-library/assorthead/include' -I/usr/local/include -fpic -g -O2 -Wall -Werror=format-security -c get_executor.cpp -o get_executor.o
g++ -std=gnu++17 -I"/home/rapidbuild/bbs-3.22-bioc-rapid/R/include" -DNDEBUG -I../inst/include -I'/media/volume/teran2_disk/rapidbuild/bbs-3.22-bioc-rapid/R/site-library/Rcpp/include' -I'/media/volume/teran2_disk/rapidbuild/bbs-3.22-bioc-rapid/R/site-library/assorthead/include' -I/usr/local/include -fpic -g -O2 -Wall -Werror=format-security -c na_cast.cpp -o na_cast.o
g++ -std=gnu++17 -I"/home/rapidbuild/bbs-3.22-bioc-rapid/R/include" -DNDEBUG -I../inst/include -I'/media/volume/teran2_disk/rapidbuild/bbs-3.22-bioc-rapid/R/site-library/Rcpp/include' -I'/media/volume/teran2_disk/rapidbuild/bbs-3.22-bioc-rapid/R/site-library/assorthead/include' -I/usr/local/include -fpic -g -O2 -Wall -Werror=format-security -c sparse_matrix.cpp -o sparse_matrix.o
g++ -std=gnu++17 -I"/home/rapidbuild/bbs-3.22-bioc-rapid/R/include" -DNDEBUG -I../inst/include -I'/media/volume/teran2_disk/rapidbuild/bbs-3.22-bioc-rapid/R/site-library/Rcpp/include' -I'/media/volume/teran2_disk/rapidbuild/bbs-3.22-bioc-rapid/R/site-library/assorthead/include' -I/usr/local/include -fpic -g -O2 -Wall -Werror=format-security -c tatami_utils.cpp -o tatami_utils.o
g++ -std=gnu++17 -I"/home/rapidbuild/bbs-3.22-bioc-rapid/R/include" -DNDEBUG -I../inst/include -I'/media/volume/teran2_disk/rapidbuild/bbs-3.22-bioc-rapid/R/site-library/Rcpp/include' -I'/media/volume/teran2_disk/rapidbuild/bbs-3.22-bioc-rapid/R/site-library/assorthead/include' -I/usr/local/include -fpic -g -O2 -Wall -Werror=format-security -c unknown_matrix.cpp -o unknown_matrix.o
g++ -std=gnu++17 -shared -L/usr/local/lib -o beachmat.so RcppExports.o constant_matrix.o delayed_isometric_binary.o delayed_isometric_math.o delayed_isometric_unary.o delayed_other.o dense_matrix.o fragment_sparse_rows.o get_executor.o na_cast.o sparse_matrix.o tatami_utils.o unknown_matrix.o
installing to /media/volume/teran2_disk/rapidbuild/bbs-3.22-bioc-rapid/R/site-library/00LOCK-beachmat/00new/beachmat/libs
** R
** inst
** byte-compile and prepare package for lazy loading
** help
*** installing help indices
** building package indices
** installing vignettes
** testing if installed package can be loaded from temporary location
** checking absolute paths in shared objects and dynamic libraries
** testing if installed package can be loaded from final location
** testing if installed package keeps a record of temporary installation path
* DONE (beachmat)
beachmat.Rcheck/tests/testthat.Rout
R version 4.5.0 (2025-04-11) -- "How About a Twenty-Six"
Copyright (C) 2025 The R Foundation for Statistical Computing
Platform: x86_64-pc-linux-gnu
R is free software and comes with ABSOLUTELY NO WARRANTY.
You are welcome to redistribute it under certain conditions.
Type 'license()' or 'licence()' for distribution details.
R is a collaborative project with many contributors.
Type 'contributors()' for more information and
'citation()' on how to cite R or R packages in publications.
Type 'demo()' for some demos, 'help()' for on-line help, or
'help.start()' for an HTML browser interface to help.
Type 'q()' to quit R.
> library(testthat)
> library(beachmat)
> test_check("beachmat")
[ FAIL 0 | WARN 0 | SKIP 0 | PASS 20606 ]
>
> proc.time()
user system elapsed
54.522 0.812 136.315
beachmat.Rcheck/beachmat-Ex.timings
| name | user | system | elapsed | |
| checkMemoryCache | 0.466 | 0.001 | 0.467 | |
| colBlockApply | 9.845 | 1.902 | 19.414 | |
| getExecutor | 0 | 0 | 0 | |
| initializeCpp | 0.006 | 0.001 | 0.006 | |
| realizeFileBackedMatrix | 0.452 | 0.077 | 0.529 | |
| tatami-utils | 0.005 | 0.001 | 0.006 | |
| toCsparse | 0.071 | 0.013 | 0.084 | |
| whichNonZero | 0.550 | 0.091 | 0.641 | |