| Back to Multiple platform build/check report for BioC 3.22: simplified long |
|
This page was generated on 2025-10-25 12:04 -0400 (Sat, 25 Oct 2025).
| Hostname | OS | Arch (*) | R version | Installed pkgs |
|---|---|---|---|---|
| nebbiolo2 | Linux (Ubuntu 24.04.3 LTS) | x86_64 | 4.5.1 Patched (2025-08-23 r88802) -- "Great Square Root" | 4901 |
| lconway | macOS 12.7.6 Monterey | x86_64 | 4.5.1 Patched (2025-09-10 r88807) -- "Great Square Root" | 4691 |
| kjohnson3 | macOS 13.7.7 Ventura | arm64 | 4.5.1 Patched (2025-09-10 r88807) -- "Great Square Root" | 4637 |
| taishan | Linux (openEuler 24.03 LTS) | aarch64 | 4.5.0 (2025-04-11) -- "How About a Twenty-Six" | 4658 |
| Click on any hostname to see more info about the system (e.g. compilers) (*) as reported by 'uname -p', except on Windows and Mac OS X | ||||
| Package 2210/2361 | Hostname | OS / Arch | INSTALL | BUILD | CHECK | BUILD BIN | ||||||||
| tidyFlowCore 1.3.0 (landing page) Timothy Keyes
| nebbiolo2 | Linux (Ubuntu 24.04.3 LTS) / x86_64 | OK | OK | OK | |||||||||
| lconway | macOS 12.7.6 Monterey / x86_64 | OK | OK | OK | OK | |||||||||
| kjohnson3 | macOS 13.7.7 Ventura / arm64 | OK | OK | OK | OK | |||||||||
| taishan | Linux (openEuler 24.03 LTS) / aarch64 | OK | NA | NA | ||||||||||
|
To the developers/maintainers of the tidyFlowCore package: - Allow up to 24 hours (and sometimes 48 hours) for your latest push to git@git.bioconductor.org:packages/tidyFlowCore.git to reflect on this report. See Troubleshooting Build Report for more information. - Use the following Renviron settings to reproduce errors and warnings. - If 'R CMD check' started to fail recently on the Linux builder(s) over a missing dependency, add the missing dependency to 'Suggests:' in your DESCRIPTION file. See Renviron.bioc for more information. |
| Package: tidyFlowCore |
| Version: 1.3.0 |
| Command: /home/biocbuild/bbs-3.22-bioc/R/bin/R CMD check --install=check:tidyFlowCore.install-out.txt --library=/home/biocbuild/bbs-3.22-bioc/R/site-library --timings tidyFlowCore_1.3.0.tar.gz |
| StartedAt: 2025-10-25 04:56:17 -0400 (Sat, 25 Oct 2025) |
| EndedAt: 2025-10-25 04:58:33 -0400 (Sat, 25 Oct 2025) |
| EllapsedTime: 136.1 seconds |
| RetCode: 0 |
| Status: OK |
| CheckDir: tidyFlowCore.Rcheck |
| Warnings: 0 |
##############################################################################
##############################################################################
###
### Running command:
###
### /home/biocbuild/bbs-3.22-bioc/R/bin/R CMD check --install=check:tidyFlowCore.install-out.txt --library=/home/biocbuild/bbs-3.22-bioc/R/site-library --timings tidyFlowCore_1.3.0.tar.gz
###
##############################################################################
##############################################################################
* using log directory ‘/home/biocbuild/bbs-3.22-bioc/meat/tidyFlowCore.Rcheck’
* using R version 4.5.1 Patched (2025-08-23 r88802)
* using platform: x86_64-pc-linux-gnu
* R was compiled by
gcc (Ubuntu 13.3.0-6ubuntu2~24.04) 13.3.0
GNU Fortran (Ubuntu 13.3.0-6ubuntu2~24.04) 13.3.0
* running under: Ubuntu 24.04.3 LTS
* using session charset: UTF-8
* checking for file ‘tidyFlowCore/DESCRIPTION’ ... OK
* checking extension type ... Package
* this is package ‘tidyFlowCore’ version ‘1.3.0’
* package encoding: UTF-8
* checking package namespace information ... OK
* checking package dependencies ... OK
* checking if this is a source package ... OK
* checking if there is a namespace ... OK
* checking for hidden files and directories ... OK
* checking for portable file names ... OK
* checking for sufficient/correct file permissions ... OK
* checking whether package ‘tidyFlowCore’ can be installed ... OK
* checking installed package size ... OK
* checking package directory ... OK
* checking ‘build’ directory ... OK
* checking DESCRIPTION meta-information ... OK
* checking top-level files ... OK
* checking for left-over files ... OK
* checking index information ... OK
* checking package subdirectories ... OK
* checking code files for non-ASCII characters ... OK
* checking R files for syntax errors ... OK
* checking whether the package can be loaded ... OK
* checking whether the package can be loaded with stated dependencies ... OK
* checking whether the package can be unloaded cleanly ... OK
* checking whether the namespace can be loaded with stated dependencies ... OK
* checking whether the namespace can be unloaded cleanly ... OK
* checking loading without being on the library search path ... OK
* checking dependencies in R code ... OK
* checking S3 generic/method consistency ... OK
* checking replacement functions ... OK
* checking foreign function calls ... OK
* checking R code for possible problems ... OK
* checking Rd files ... OK
* checking Rd metadata ... OK
* checking Rd cross-references ... OK
* checking for missing documentation entries ... OK
* checking for code/documentation mismatches ... OK
* checking Rd \usage sections ... OK
* checking Rd contents ... OK
* checking for unstated dependencies in examples ... OK
* checking contents of ‘data’ directory ... OK
* checking data for non-ASCII characters ... OK
* checking data for ASCII and uncompressed saves ... OK
* checking files in ‘vignettes’ ... OK
* checking examples ... OK
* checking for unstated dependencies in ‘tests’ ... OK
* checking tests ...
Running ‘testthat.R’
OK
* checking for unstated dependencies in vignettes ... OK
* checking package vignettes ... OK
* checking re-building of vignette outputs ... OK
* checking PDF version of manual ... OK
* DONE
Status: OK
tidyFlowCore.Rcheck/00install.out
############################################################################## ############################################################################## ### ### Running command: ### ### /home/biocbuild/bbs-3.22-bioc/R/bin/R CMD INSTALL tidyFlowCore ### ############################################################################## ############################################################################## * installing to library ‘/home/biocbuild/bbs-3.22-bioc/R/site-library’ * installing *source* package ‘tidyFlowCore’ ... ** this is package ‘tidyFlowCore’ version ‘1.3.0’ ** using staged installation ** R ** data ** inst ** byte-compile and prepare package for lazy loading ** help *** installing help indices *** copying figures ** building package indices ** installing vignettes ** testing if installed package can be loaded from temporary location ** testing if installed package can be loaded from final location ** testing if installed package keeps a record of temporary installation path * DONE (tidyFlowCore)
tidyFlowCore.Rcheck/tests/testthat.Rout
R version 4.5.1 Patched (2025-08-23 r88802) -- "Great Square Root"
Copyright (C) 2025 The R Foundation for Statistical Computing
Platform: x86_64-pc-linux-gnu
R is free software and comes with ABSOLUTELY NO WARRANTY.
You are welcome to redistribute it under certain conditions.
Type 'license()' or 'licence()' for distribution details.
R is a collaborative project with many contributors.
Type 'contributors()' for more information and
'citation()' on how to cite R or R packages in publications.
Type 'demo()' for some demos, 'help()' for on-line help, or
'help.start()' for an HTML browser interface to help.
Type 'q()' to quit R.
> # This file is part of the standard setup for testthat.
> # It is recommended that you do not modify it.
> #
> # Where should you do additional test configuration?
> # Learn more about the roles of various files in:
> # * https://r-pkgs.org/testing-design.html#sec-tests-files-overview
> # * https://testthat.r-lib.org/articles/special-files.html
>
> library(testthat)
> library(tidyFlowCore)
>
> test_check("tidyFlowCore")
Attaching package: 'dplyr'
The following object is masked from 'package:testthat':
matches
The following objects are masked from 'package:stats':
filter, lag
The following objects are masked from 'package:base':
intersect, setdiff, setequal, union
Attaching package: 'tidyr'
The following object is masked from 'package:testthat':
matches
[ FAIL 0 | WARN 0 | SKIP 0 | PASS 104 ]
>
> proc.time()
user system elapsed
12.768 0.487 13.257
tidyFlowCore.Rcheck/tidyFlowCore-Ex.timings
| name | user | system | elapsed | |
| arrange.flowFrame | 0.231 | 0.008 | 0.238 | |
| arrange.flowSet | 0.586 | 0.033 | 0.621 | |
| as_flowFrame | 0.000 | 0.000 | 0.001 | |
| as_flowSet | 0 | 0 | 0 | |
| as_tof_tbl | 0.029 | 0.006 | 0.035 | |
| count.flowFrame | 0.275 | 0.031 | 0.306 | |
| count.flowSet | 0.161 | 0.002 | 0.163 | |
| filter.flowFrame | 0.146 | 0.000 | 0.146 | |
| filter.flowSet | 0.384 | 0.002 | 0.386 | |
| ggplot.flowFrame | 0.166 | 0.000 | 0.166 | |
| ggplot.flowSet | 0.147 | 0.000 | 0.147 | |
| group_by.flowFrame | 0.380 | 0.004 | 0.384 | |
| make_flowcore_annotated_data_frame | 0 | 0 | 0 | |
| mutate.flowFrame | 0.329 | 0.000 | 0.330 | |
| mutate.flowSet | 0.401 | 0.119 | 0.521 | |
| nest.flowFrame | 0.365 | 0.116 | 0.482 | |
| pull.flowFrame | 0.094 | 0.003 | 0.096 | |
| pull.flowSet | 0.114 | 0.013 | 0.128 | |
| reexports | 0 | 0 | 0 | |
| rename.flowFrame | 0.144 | 0.004 | 0.148 | |
| rename.flowSet | 0.402 | 0.026 | 0.428 | |
| rename_with.flowFrame | 0.144 | 0.013 | 0.157 | |
| rename_with.flowSet | 0.353 | 0.008 | 0.362 | |
| select.flowFrame | 0.14 | 0.00 | 0.14 | |
| select.flowSet | 0.338 | 0.009 | 0.348 | |
| simulate_cytometry_data | 0.086 | 0.005 | 0.091 | |
| slice.flowFrame | 0.150 | 0.001 | 0.151 | |
| slice.flowSet | 0.374 | 0.003 | 0.377 | |
| slice_head.flowFrame | 0.142 | 0.001 | 0.143 | |
| slice_head.flowSet | 0.385 | 0.039 | 0.424 | |
| slice_max.flowFrame | 0.144 | 0.011 | 0.155 | |
| slice_max.flowSet | 0.354 | 0.009 | 0.363 | |
| slice_min.flowFrame | 0.137 | 0.001 | 0.139 | |
| slice_min.flowSet | 0.363 | 0.002 | 0.365 | |
| slice_sample.flowFrame | 0.148 | 0.002 | 0.150 | |
| slice_sample.flowSet | 0.367 | 0.003 | 0.371 | |
| slice_tail.flowFrame | 0.137 | 0.002 | 0.139 | |
| slice_tail.flowSet | 0.357 | 0.005 | 0.362 | |
| summarise.flowFrame | 0.102 | 0.002 | 0.104 | |
| summarise.flowSet | 0.152 | 0.004 | 0.156 | |
| summarize.flowFrame | 0.150 | 0.003 | 0.153 | |
| summarize.flowSet | 0.161 | 0.020 | 0.181 | |
| tof_get_panel | 0 | 0 | 0 | |
| tof_set_panel | 0 | 0 | 0 | |
| transmute.flowFrame | 0.146 | 0.010 | 0.156 | |
| transmute.flowSet | 0.346 | 0.016 | 0.362 | |
| ungroup.flowSet | 0.174 | 0.001 | 0.174 | |
| unnest.flowSet | 0.316 | 0.002 | 0.318 | |