Back to Build/check report for BioC 3.22:   simplified   long
ABCDEFGHIJKLMNOPQR[S]TUVWXYZ

This page was generated on 2025-10-27 12:45 -0400 (Mon, 27 Oct 2025).

HostnameOSArch (*)R versionInstalled pkgs
kjohnson3macOS 13.7.7 Venturaarm644.5.1 Patched (2025-09-10 r88807) -- "Great Square Root" 4637
Click on any hostname to see more info about the system (e.g. compilers)      (*) as reported by 'uname -p', except on Windows and Mac OS X

Package 2054/2361HostnameOS / ArchINSTALLBUILDCHECKBUILD BIN
snapcount 1.21.0  (landing page)
Rone Charles
Snapshot Date: 2025-10-26 13:45 -0400 (Sun, 26 Oct 2025)
git_url: https://git.bioconductor.org/packages/snapcount
git_branch: devel
git_last_commit: 537580c
git_last_commit_date: 2025-04-15 11:58:44 -0400 (Tue, 15 Apr 2025)
kjohnson3macOS 13.7.7 Ventura / arm64  OK    ERROR  skippedskipped


BUILD results for snapcount on kjohnson3

To the developers/maintainers of the snapcount package:
- Allow up to 24 hours (and sometimes 48 hours) for your latest push to git@git.bioconductor.org:packages/snapcount.git to reflect on this report. See Troubleshooting Build Report for more information.
- Use the following Renviron settings to reproduce errors and warnings.
- If 'R CMD check' started to fail recently on the Linux builder(s) over a missing dependency, add the missing dependency to 'Suggests:' in your DESCRIPTION file. See Renviron.bioc for more information.

raw results


Summary

Package: snapcount
Version: 1.21.0
Command: /Library/Frameworks/R.framework/Resources/bin/R CMD build --keep-empty-dirs --no-resave-data snapcount
StartedAt: 2025-10-26 18:03:25 -0400 (Sun, 26 Oct 2025)
EndedAt: 2025-10-26 18:04:00 -0400 (Sun, 26 Oct 2025)
EllapsedTime: 35.4 seconds
RetCode: 1
Status:   ERROR  
PackageFile: None
PackageFileSize: NA

Command output

##############################################################################
##############################################################################
###
### Running command:
###
###   /Library/Frameworks/R.framework/Resources/bin/R CMD build --keep-empty-dirs --no-resave-data snapcount
###
##############################################################################
##############################################################################


* checking for file ‘snapcount/DESCRIPTION’ ... OK
* preparing ‘snapcount’:
* checking DESCRIPTION meta-information ... OK
* installing the package to build vignettes
      -----------------------------------
* installing *source* package ‘snapcount’ ...
** this is package ‘snapcount’ version ‘1.21.0’
** using staged installation
** R
** inst
** byte-compile and prepare package for lazy loading
** help
*** installing help indices
** building package indices
** installing vignettes
** testing if installed package can be loaded from temporary location
Error: package or namespace load failed for ‘snapcount’:
 .onLoad failed in loadNamespace() for 'snapcount', details:
  call: curl::curl_fetch_memory(url, handle = handle)
  error: Timeout was reached [snaptron.cs.jhu.edu]:
Resolving timed out after 10003 milliseconds
Error: loading failed
Execution halted
ERROR: loading failed
* removing ‘/private/var/folders/r0/l4fjk6cj5xj0j3brt4bplpl40000gt/T/Rtmp2kP9OT/Rinst4d6c60e9aa62/snapcount’
      -----------------------------------
ERROR: package installation failed