| Back to Multiple platform build/check report for BioC 3.22: simplified long |
|
This page was generated on 2025-10-23 12:05 -0400 (Thu, 23 Oct 2025).
| Hostname | OS | Arch (*) | R version | Installed pkgs |
|---|---|---|---|---|
| nebbiolo2 | Linux (Ubuntu 24.04.3 LTS) | x86_64 | 4.5.1 Patched (2025-08-23 r88802) -- "Great Square Root" | 4894 |
| lconway | macOS 12.7.6 Monterey | x86_64 | 4.5.1 Patched (2025-09-10 r88807) -- "Great Square Root" | 4684 |
| kjohnson3 | macOS 13.7.7 Ventura | arm64 | 4.5.1 Patched (2025-09-10 r88807) -- "Great Square Root" | 4629 |
| taishan | Linux (openEuler 24.03 LTS) | aarch64 | 4.5.0 (2025-04-11) -- "How About a Twenty-Six" | 4642 |
| Click on any hostname to see more info about the system (e.g. compilers) (*) as reported by 'uname -p', except on Windows and Mac OS X | ||||
| Package 2007/2355 | Hostname | OS / Arch | INSTALL | BUILD | CHECK | BUILD BIN | ||||||||
| signatureSearch 1.23.0 (landing page) Brendan Gongol
| nebbiolo2 | Linux (Ubuntu 24.04.3 LTS) / x86_64 | OK | OK | OK | |||||||||
| lconway | macOS 12.7.6 Monterey / x86_64 | OK | OK | OK | OK | |||||||||
| kjohnson3 | macOS 13.7.7 Ventura / arm64 | OK | OK | OK | OK | |||||||||
| taishan | Linux (openEuler 24.03 LTS) / aarch64 | OK | OK | NA | ||||||||||
|
To the developers/maintainers of the signatureSearch package: - Allow up to 24 hours (and sometimes 48 hours) for your latest push to git@git.bioconductor.org:packages/signatureSearch.git to reflect on this report. See Troubleshooting Build Report for more information. - Use the following Renviron settings to reproduce errors and warnings. - If 'R CMD check' started to fail recently on the Linux builder(s) over a missing dependency, add the missing dependency to 'Suggests:' in your DESCRIPTION file. See Renviron.bioc for more information. |
| Package: signatureSearch |
| Version: 1.23.0 |
| Command: /Library/Frameworks/R.framework/Resources/bin/R CMD check --install=check:signatureSearch.install-out.txt --library=/Library/Frameworks/R.framework/Resources/library --no-vignettes --timings signatureSearch_1.23.0.tar.gz |
| StartedAt: 2025-10-23 00:10:59 -0400 (Thu, 23 Oct 2025) |
| EndedAt: 2025-10-23 00:22:37 -0400 (Thu, 23 Oct 2025) |
| EllapsedTime: 697.9 seconds |
| RetCode: 0 |
| Status: OK |
| CheckDir: signatureSearch.Rcheck |
| Warnings: 0 |
##############################################################################
##############################################################################
###
### Running command:
###
### /Library/Frameworks/R.framework/Resources/bin/R CMD check --install=check:signatureSearch.install-out.txt --library=/Library/Frameworks/R.framework/Resources/library --no-vignettes --timings signatureSearch_1.23.0.tar.gz
###
##############################################################################
##############################################################################
* using log directory ‘/Users/biocbuild/bbs-3.22-bioc/meat/signatureSearch.Rcheck’
* using R version 4.5.1 Patched (2025-09-10 r88807)
* using platform: x86_64-apple-darwin20
* R was compiled by
Apple clang version 14.0.0 (clang-1400.0.29.202)
GNU Fortran (GCC) 14.2.0
* running under: macOS Monterey 12.7.6
* using session charset: UTF-8
* using option ‘--no-vignettes’
* checking for file ‘signatureSearch/DESCRIPTION’ ... OK
* this is package ‘signatureSearch’ version ‘1.23.0’
* package encoding: UTF-8
* checking package namespace information ... OK
* checking package dependencies ... INFO
Imports includes 25 non-default packages.
Importing from so many packages makes the package vulnerable to any of
them becoming unavailable. Move as many as possible to Suggests and
use conditionally.
* checking if this is a source package ... OK
* checking if there is a namespace ... OK
* checking for hidden files and directories ... OK
* checking for portable file names ... OK
* checking for sufficient/correct file permissions ... OK
* checking whether package ‘signatureSearch’ can be installed ... OK
* used C compiler: ‘Apple clang version 14.0.0 (clang-1400.0.29.202)’
* used C++ compiler: ‘Apple clang version 14.0.0 (clang-1400.0.29.202)’
* used SDK: ‘MacOSX11.3.1.sdk’
* checking C++ specification ... NOTE
Specified C++11: please drop specification unless essential
* checking installed package size ... INFO
installed size is 85.3Mb
sub-directories of 1Mb or more:
R 81.0Mb
data 2.0Mb
extdata 1.9Mb
* checking package directory ... OK
* checking ‘build’ directory ... OK
* checking DESCRIPTION meta-information ... OK
* checking top-level files ... OK
* checking for left-over files ... OK
* checking index information ... OK
* checking package subdirectories ... OK
* checking code files for non-ASCII characters ... OK
* checking R files for syntax errors ... OK
* checking whether the package can be loaded ... OK
* checking whether the package can be loaded with stated dependencies ... OK
* checking whether the package can be unloaded cleanly ... OK
* checking whether the namespace can be loaded with stated dependencies ... OK
* checking whether the namespace can be unloaded cleanly ... OK
* checking dependencies in R code ... OK
* checking S3 generic/method consistency ... OK
* checking replacement functions ... OK
* checking foreign function calls ... OK
* checking R code for possible problems ... OK
* checking Rd files ... OK
* checking Rd metadata ... OK
* checking Rd cross-references ... OK
* checking for missing documentation entries ... OK
* checking for code/documentation mismatches ... OK
* checking Rd \usage sections ... OK
* checking Rd contents ... OK
* checking for unstated dependencies in examples ... OK
* checking contents of ‘data’ directory ... OK
* checking data for non-ASCII characters ... OK
* checking data for ASCII and uncompressed saves ... OK
* checking R/sysdata.rda ... OK
* checking line endings in C/C++/Fortran sources/headers ... OK
* checking compiled code ... NOTE
Note: information on .o files is not available
* checking files in ‘vignettes’ ... OK
* checking examples ... OK
Examples with CPU (user + system) or elapsed time > 5s
user system elapsed
set_readable 230.001 12.020 243.711
rand_query_ES 8.785 2.893 11.574
runWF 7.502 0.926 9.027
* checking for unstated dependencies in ‘tests’ ... OK
* checking tests ...
Running ‘testthat.R’
OK
* checking for unstated dependencies in vignettes ... OK
* checking package vignettes ... OK
* checking running R code from vignettes ... SKIPPED
* checking re-building of vignette outputs ... SKIPPED
* checking PDF version of manual ... OK
* DONE
Status: 2 NOTEs
See
‘/Users/biocbuild/bbs-3.22-bioc/meat/signatureSearch.Rcheck/00check.log’
for details.
signatureSearch.Rcheck/00install.out
############################################################################## ############################################################################## ### ### Running command: ### ### /Library/Frameworks/R.framework/Resources/bin/R CMD INSTALL signatureSearch ### ############################################################################## ############################################################################## * installing to library ‘/Library/Frameworks/R.framework/Versions/4.5-x86_64/Resources/library’ * installing *source* package ‘signatureSearch’ ... ** this is package ‘signatureSearch’ version ‘1.23.0’ ** using staged installation ** libs using C compiler: ‘Apple clang version 14.0.0 (clang-1400.0.29.202)’ using C++ compiler: ‘Apple clang version 14.0.0 (clang-1400.0.29.202)’ using C++11 using SDK: ‘MacOSX11.3.1.sdk’ clang++ -arch x86_64 -std=gnu++11 -I"/Library/Frameworks/R.framework/Resources/include" -DNDEBUG -I'/Library/Frameworks/R.framework/Versions/4.5-x86_64/Resources/library/Rcpp/include' -I/opt/R/x86_64/include -fPIC -falign-functions=64 -Wall -g -O2 -c RcppExports.cpp -o RcppExports.o clang++ -arch x86_64 -std=gnu++11 -I"/Library/Frameworks/R.framework/Resources/include" -DNDEBUG -I'/Library/Frameworks/R.framework/Versions/4.5-x86_64/Resources/library/Rcpp/include' -I/opt/R/x86_64/include -fPIC -falign-functions=64 -Wall -g -O2 -c fastGSEA.cpp -o fastGSEA.o clang -arch x86_64 -I"/Library/Frameworks/R.framework/Resources/include" -DNDEBUG -I'/Library/Frameworks/R.framework/Versions/4.5-x86_64/Resources/library/Rcpp/include' -I/opt/R/x86_64/include -fPIC -falign-functions=64 -Wall -g -O2 -c fgsea_init.c -o fgsea_init.o clang++ -arch x86_64 -std=gnu++11 -dynamiclib -Wl,-headerpad_max_install_names -undefined dynamic_lookup -L/Library/Frameworks/R.framework/Resources/lib -L/opt/R/x86_64/lib -o signatureSearch.so RcppExports.o fastGSEA.o fgsea_init.o -F/Library/Frameworks/R.framework/.. -framework R installing to /Library/Frameworks/R.framework/Versions/4.5-x86_64/Resources/library/00LOCK-signatureSearch/00new/signatureSearch/libs ** R ** data ** inst ** byte-compile and prepare package for lazy loading ** help *** installing help indices ** building package indices ** installing vignettes ** testing if installed package can be loaded from temporary location ** checking absolute paths in shared objects and dynamic libraries ** testing if installed package can be loaded from final location ** testing if installed package keeps a record of temporary installation path * DONE (signatureSearch)
signatureSearch.Rcheck/tests/testthat.Rout
R version 4.5.1 Patched (2025-09-10 r88807) -- "Great Square Root"
Copyright (C) 2025 The R Foundation for Statistical Computing
Platform: x86_64-apple-darwin20
R is free software and comes with ABSOLUTELY NO WARRANTY.
You are welcome to redistribute it under certain conditions.
Type 'license()' or 'licence()' for distribution details.
R is a collaborative project with many contributors.
Type 'contributors()' for more information and
'citation()' on how to cite R or R packages in publications.
Type 'demo()' for some demos, 'help()' for on-line help, or
'help.start()' for an HTML browser interface to help.
Type 'q()' to quit R.
> # library(testthat)
> # library(signatureSearch)
> #
> # test_check("signatureSearch")
>
> proc.time()
user system elapsed
0.180 0.071 0.246
signatureSearch.Rcheck/signatureSearch-Ex.timings
| name | user | system | elapsed | |
| addGESSannot | 3.772 | 0.223 | 4.209 | |
| addMOA | 0.236 | 0.028 | 0.264 | |
| add_pcid | 0.337 | 0.010 | 0.349 | |
| append2H5 | 0.073 | 0.014 | 0.088 | |
| build_custom_db | 0.313 | 0.061 | 0.377 | |
| cellNtestPlot | 0.946 | 0.108 | 1.130 | |
| cell_info | 0.021 | 0.002 | 0.023 | |
| cell_info2 | 0.036 | 0.003 | 0.039 | |
| chembl_moa_list | 0.008 | 0.004 | 0.012 | |
| clue_moa_list | 0.009 | 0.003 | 0.013 | |
| comp_fea_res | 0.523 | 0.007 | 0.533 | |
| create_empty_h5 | 0.021 | 0.002 | 0.024 | |
| dim-methods | 0.006 | 0.001 | 0.007 | |
| drug_cell_ranks | 0.010 | 0.001 | 0.010 | |
| drugs-methods | 0.003 | 0.001 | 0.003 | |
| drugs10 | 0.001 | 0.002 | 0.004 | |
| dtnetplot | 2.118 | 0.208 | 2.477 | |
| enrichGO2 | 0.000 | 0.001 | 0.000 | |
| enrichKEGG2 | 0 | 0 | 0 | |
| enrichMOA | 0.043 | 0.006 | 0.051 | |
| enrichReactome | 0 | 0 | 0 | |
| fea | 0.003 | 0.003 | 0.005 | |
| feaResult | 0.003 | 0.000 | 0.003 | |
| gctx2h5 | 0.666 | 0.157 | 0.829 | |
| gess | 0.001 | 0.001 | 0.002 | |
| gessResult | 0.002 | 0.000 | 0.002 | |
| gess_res_vis | 0.521 | 0.005 | 0.527 | |
| getSig | 1.430 | 0.177 | 1.769 | |
| getTreats | 0.640 | 0.071 | 0.788 | |
| get_targets | 2.025 | 0.159 | 2.323 | |
| gmt2h5 | 0.097 | 0.022 | 0.137 | |
| gseGO2 | 0.001 | 0.002 | 0.003 | |
| gseKEGG2 | 0.011 | 0.001 | 0.013 | |
| gseReactome | 0.011 | 0.001 | 0.012 | |
| head-methods | 0.006 | 0.000 | 0.006 | |
| lincs_expr_inst_info | 0.057 | 0.002 | 0.059 | |
| lincs_pert_info | 1.517 | 0.016 | 1.540 | |
| lincs_pert_info2 | 1.729 | 0.017 | 1.758 | |
| lincs_sig_info | 0.073 | 0.003 | 0.076 | |
| list2df | 0.002 | 0.000 | 0.002 | |
| list_rev | 0.002 | 0.001 | 0.002 | |
| mabsGO | 0.002 | 0.003 | 0.005 | |
| mabsKEGG | 0.012 | 0.001 | 0.013 | |
| mabsReactome | 0.012 | 0.000 | 0.013 | |
| matrix2h5 | 0.049 | 0.007 | 0.057 | |
| meanExpr2h5 | 0.551 | 0.201 | 0.759 | |
| moa_conn | 0.031 | 0.003 | 0.037 | |
| parse_gctx | 0.094 | 0.006 | 0.101 | |
| qSig | 1.064 | 0.138 | 1.379 | |
| rand_query_ES | 8.785 | 2.893 | 11.574 | |
| read_gmt | 0.003 | 0.003 | 0.007 | |
| result-methods | 0.039 | 0.020 | 0.059 | |
| runWF | 7.502 | 0.926 | 9.027 | |
| set_readable | 230.001 | 12.020 | 243.711 | |
| show-methods | 0.033 | 0.002 | 0.035 | |
| sim_score_grp | 0.009 | 0.001 | 0.009 | |
| tail-methods | 0.006 | 0.001 | 0.007 | |
| tarReduce | 0.000 | 0.000 | 0.001 | |
| targetList | 0.002 | 0.001 | 0.005 | |
| vec_char_redu | 0 | 0 | 0 | |