| Back to Multiple platform build/check report for BioC 3.22: simplified long | 
 | 
This page was generated on 2025-10-31 12:03 -0400 (Fri, 31 Oct 2025).
| Hostname | OS | Arch (*) | R version | Installed pkgs | 
|---|---|---|---|---|
| nebbiolo2 | Linux (Ubuntu 24.04.3 LTS) | x86_64 | 4.5.1 Patched (2025-08-23 r88802) -- "Great Square Root" | 4901 | 
| lconway | macOS 12.7.6 Monterey | x86_64 | 4.5.1 Patched (2025-09-10 r88807) -- "Great Square Root" | 4691 | 
| kjohnson3 | macOS 13.7.7 Ventura | arm64 | 4.5.1 Patched (2025-09-10 r88807) -- "Great Square Root" | 4637 | 
| Click on any hostname to see more info about the system (e.g. compilers) (*) as reported by 'uname -p', except on Windows and Mac OS X | ||||
| Package 1889/2361 | Hostname | OS / Arch | INSTALL | BUILD | CHECK | BUILD BIN | ||||||||
| sarks 1.22.0  (landing page) Dennis Wylie 
 | nebbiolo2 | Linux (Ubuntu 24.04.3 LTS) / x86_64 | OK | OK | OK |  | ||||||||
| lconway | macOS 12.7.6 Monterey / x86_64 | OK | OK | OK | OK |  | ||||||||
| kjohnson3 | macOS 13.7.7 Ventura / arm64 | OK | OK | OK | OK |  | ||||||||
| To the developers/maintainers of the sarks package: - Allow up to 24 hours (and sometimes 48 hours) for your latest push to git@git.bioconductor.org:packages/sarks.git to reflect on this report. See Troubleshooting Build Report for more information. - Use the following Renviron settings to reproduce errors and warnings. - If 'R CMD check' started to fail recently on the Linux builder(s) over a missing dependency, add the missing dependency to 'Suggests:' in your DESCRIPTION file. See Renviron.bioc for more information. | 
| Package: sarks | 
| Version: 1.22.0 | 
| Command: /home/biocbuild/bbs-3.22-bioc/R/bin/R CMD check --install=check:sarks.install-out.txt --library=/home/biocbuild/bbs-3.22-bioc/R/site-library --timings sarks_1.22.0.tar.gz | 
| StartedAt: 2025-10-31 03:35:20 -0400 (Fri, 31 Oct 2025) | 
| EndedAt: 2025-10-31 03:36:51 -0400 (Fri, 31 Oct 2025) | 
| EllapsedTime: 91.1 seconds | 
| RetCode: 0 | 
| Status: OK | 
| CheckDir: sarks.Rcheck | 
| Warnings: 0 | 
##############################################################################
##############################################################################
###
### Running command:
###
###   /home/biocbuild/bbs-3.22-bioc/R/bin/R CMD check --install=check:sarks.install-out.txt --library=/home/biocbuild/bbs-3.22-bioc/R/site-library --timings sarks_1.22.0.tar.gz
###
##############################################################################
##############################################################################
* using log directory ‘/home/biocbuild/bbs-3.22-bioc/meat/sarks.Rcheck’
* using R version 4.5.1 Patched (2025-08-23 r88802)
* using platform: x86_64-pc-linux-gnu
* R was compiled by
    gcc (Ubuntu 13.3.0-6ubuntu2~24.04) 13.3.0
    GNU Fortran (Ubuntu 13.3.0-6ubuntu2~24.04) 13.3.0
* running under: Ubuntu 24.04.3 LTS
* using session charset: UTF-8
* checking for file ‘sarks/DESCRIPTION’ ... OK
* this is package ‘sarks’ version ‘1.22.0’
* package encoding: UTF-8
* checking package namespace information ... OK
* checking package dependencies ... OK
* checking if this is a source package ... OK
* checking if there is a namespace ... OK
* checking for hidden files and directories ... OK
* checking for portable file names ... OK
* checking for sufficient/correct file permissions ... OK
* checking whether package ‘sarks’ can be installed ... OK
* checking installed package size ... OK
* checking package directory ... OK
* checking ‘build’ directory ... OK
* checking DESCRIPTION meta-information ... NOTE
License stub is invalid DCF.
* checking top-level files ... OK
* checking for left-over files ... OK
* checking index information ... OK
* checking package subdirectories ... OK
* checking code files for non-ASCII characters ... OK
* checking R files for syntax errors ... OK
* checking whether the package can be loaded ... OK
* checking whether the package can be loaded with stated dependencies ... OK
* checking whether the package can be unloaded cleanly ... OK
* checking whether the namespace can be loaded with stated dependencies ... OK
* checking whether the namespace can be unloaded cleanly ... OK
* checking loading without being on the library search path ... OK
* checking whether startup messages can be suppressed ... OK
* checking dependencies in R code ... OK
* checking S3 generic/method consistency ... OK
* checking replacement functions ... OK
* checking foreign function calls ... OK
* checking R code for possible problems ... OK
* checking Rd files ... OK
* checking Rd metadata ... OK
* checking Rd cross-references ... OK
* checking for missing documentation entries ... OK
* checking for code/documentation mismatches ... OK
* checking Rd \usage sections ... OK
* checking Rd contents ... OK
* checking for unstated dependencies in examples ... OK
* checking contents of ‘data’ directory ... OK
* checking data for non-ASCII characters ... OK
* checking data for ASCII and uncompressed saves ... OK
* checking files in ‘vignettes’ ... OK
* checking examples ... OK
* checking for unstated dependencies in ‘tests’ ... OK
* checking tests ...
  Running ‘runTests.R’
 OK
* checking for unstated dependencies in vignettes ... OK
* checking package vignettes ... OK
* checking re-building of vignette outputs ... OK
* checking PDF version of manual ... OK
* DONE
Status: 1 NOTE
See
  ‘/home/biocbuild/bbs-3.22-bioc/meat/sarks.Rcheck/00check.log’
for details.
sarks.Rcheck/00install.out
############################################################################## ############################################################################## ### ### Running command: ### ### /home/biocbuild/bbs-3.22-bioc/R/bin/R CMD INSTALL sarks ### ############################################################################## ############################################################################## * installing to library ‘/home/biocbuild/bbs-3.22-bioc/R/site-library’ * installing *source* package ‘sarks’ ... ** this is package ‘sarks’ version ‘1.22.0’ ** using staged installation ** R ** data ** inst ** byte-compile and prepare package for lazy loading ** help *** installing help indices ** building package indices ** installing vignettes ** testing if installed package can be loaded from temporary location ** testing if installed package can be loaded from final location ** testing if installed package keeps a record of temporary installation path * DONE (sarks)
sarks.Rcheck/tests/runTests.Rout
R version 4.5.1 Patched (2025-08-23 r88802) -- "Great Square Root"
Copyright (C) 2025 The R Foundation for Statistical Computing
Platform: x86_64-pc-linux-gnu
R is free software and comes with ABSOLUTELY NO WARRANTY.
You are welcome to redistribute it under certain conditions.
Type 'license()' or 'licence()' for distribution details.
R is a collaborative project with many contributors.
Type 'contributors()' for more information and
'citation()' on how to cite R or R packages in publications.
Type 'demo()' for some demos, 'help()' for on-line help, or
'help.start()' for an HTML browser interface to help.
Type 'q()' to quit R.
> BiocGenerics:::testPackage('sarks')
RUNIT TEST PROTOCOL -- Fri Oct 31 03:36:35 2025 
*********************************************** 
Number of test functions: 5 
Number of errors: 0 
Number of failures: 0 
 
1 Test Suite : 
sarks RUnit Tests - 5 test functions, 0 errors, 0 failures
Number of test functions: 5 
Number of errors: 0 
Number of failures: 0 
> 
> proc.time()
   user  system elapsed 
  4.992   0.296   4.699 
sarks.Rcheck/sarks-Ex.timings
| name | user | system | elapsed | |
| Sarks | 0.082 | 0.009 | 0.057 | |
| blockInfo | 0.538 | 0.043 | 0.202 | |
| blockScores | 0.066 | 0.007 | 0.020 | |
| clusterCounts | 0.004 | 0.001 | 0.002 | |
| clusterKmers | 1.415 | 0.011 | 1.399 | |
| estimateFalsePositiveRate | 0.167 | 0.043 | 0.133 | |
| extendKmers | 0.266 | 0.015 | 0.125 | |
| kmerCounts | 0.014 | 0.000 | 0.007 | |
| kmerPeaks | 0.114 | 0.001 | 0.066 | |
| locateClusters | 0.005 | 0.000 | 0.003 | |
| locateKmers | 0.008 | 0.000 | 0.004 | |
| mergedKmerSubPeaks | 0.246 | 0.018 | 0.131 | |
| permutationDistribution | 0.168 | 0.018 | 0.061 | |
| permutationThresholds | 0.154 | 0.015 | 0.064 | |
| pruneIntervals | 0.164 | 0.025 | 0.075 | |
| regexCounts | 0.004 | 0.000 | 0.003 | |
| regexLocate | 0.002 | 0.000 | 0.002 | |
| sarksFilters | 0.067 | 0.002 | 0.062 | |
| sourceBlock | 0.010 | 0.001 | 0.011 | |