Back to Multiple platform build/check report for BioC 3.22:   simplified   long
ABCDEFGHIJKLMNOPQ[R]STUVWXYZ

This page was generated on 2025-11-12 11:58 -0500 (Wed, 12 Nov 2025).

HostnameOSArch (*)R versionInstalled pkgs
nebbiolo2Linux (Ubuntu 24.04.3 LTS)x86_644.5.1 Patched (2025-08-23 r88802) -- "Great Square Root" 4902
taishanLinux (openEuler 24.03 LTS)aarch644.5.0 (2025-04-11) -- "How About a Twenty-Six" 4668
Click on any hostname to see more info about the system (e.g. compilers)      (*) as reported by 'uname -p', except on Windows and Mac OS X

Package 1801/2361HostnameOS / ArchINSTALLBUILDCHECKBUILD BIN
rifi 1.14.0  (landing page)
Jens Georg
Snapshot Date: 2025-11-11 13:45 -0500 (Tue, 11 Nov 2025)
git_url: https://git.bioconductor.org/packages/rifi
git_branch: RELEASE_3_22
git_last_commit: ef65993
git_last_commit_date: 2025-10-29 11:16:59 -0500 (Wed, 29 Oct 2025)
nebbiolo2Linux (Ubuntu 24.04.3 LTS) / x86_64  OK    OK    WARNINGS  UNNEEDED, same version is already published
taishanLinux (openEuler 24.03 LTS) / aarch64  OK    TIMEOUT  skipped


BUILD results for rifi on taishan

To the developers/maintainers of the rifi package:
- Allow up to 24 hours (and sometimes 48 hours) for your latest push to git@git.bioconductor.org:packages/rifi.git to reflect on this report. See Troubleshooting Build Report for more information.
- Use the following Renviron settings to reproduce errors and warnings.
- If 'R CMD check' started to fail recently on the Linux builder(s) over a missing dependency, add the missing dependency to 'Suggests:' in your DESCRIPTION file. See Renviron.bioc for more information.
- See Martin Grigorov's blog post for how to debug Linux ARM64 related issues on a x86_64 host.

raw results


Summary

Package: rifi
Version: 1.14.0
Command: /home/biocbuild/R/R/bin/R CMD build --keep-empty-dirs --no-resave-data rifi
StartedAt: 2025-11-11 04:32:43 -0000 (Tue, 11 Nov 2025)
EndedAt: 2025-11-11 05:12:43 -0000 (Tue, 11 Nov 2025)
EllapsedTime: 2400.2 seconds
RetCode: None
Status:   TIMEOUT  
PackageFile: None
PackageFileSize: NA

Command output

##############################################################################
##############################################################################
###
### Running command:
###
###   /home/biocbuild/R/R/bin/R CMD build --keep-empty-dirs --no-resave-data rifi
###
##############################################################################
##############################################################################


* checking for file ‘rifi/DESCRIPTION’ ... OK
* preparing ‘rifi’:
* checking DESCRIPTION meta-information ... OK
Warning: /home/biocbuild/tmp/RtmpiYIOsV/Rbuilda31cd7345dbe6/rifi/man/apply_Ttest_delay.Rd:55: unexpected '}'
Warning: /home/biocbuild/tmp/RtmpiYIOsV/Rbuilda31cd7345dbe6/rifi/man/predict_ps_itss.Rd:57: unexpected '}'
* installing the package to build vignettes
* creating vignettes ...