Back to Build/check report for BioC 3.22:   simplified   long
ABCDEFGHIJKLMN[O]PQRSTUVWXYZ

This page was generated on 2025-10-27 12:45 -0400 (Mon, 27 Oct 2025).

HostnameOSArch (*)R versionInstalled pkgs
kjohnson3macOS 13.7.7 Venturaarm644.5.1 Patched (2025-09-10 r88807) -- "Great Square Root" 4637
Click on any hostname to see more info about the system (e.g. compilers)      (*) as reported by 'uname -p', except on Windows and Mac OS X

Package 1503/2361HostnameOS / ArchINSTALLBUILDCHECKBUILD BIN
omicsViewer 1.13.9  (landing page)
Chen Meng
Snapshot Date: 2025-10-26 13:45 -0400 (Sun, 26 Oct 2025)
git_url: https://git.bioconductor.org/packages/omicsViewer
git_branch: devel
git_last_commit: df40c8e
git_last_commit_date: 2025-10-24 15:06:46 -0400 (Fri, 24 Oct 2025)
kjohnson3macOS 13.7.7 Ventura / arm64  OK    OK    WARNINGS    OK  YES


BUILD results for omicsViewer on kjohnson3

To the developers/maintainers of the omicsViewer package:
- Allow up to 24 hours (and sometimes 48 hours) for your latest push to git@git.bioconductor.org:packages/omicsViewer.git to reflect on this report. See Troubleshooting Build Report for more information.
- Use the following Renviron settings to reproduce errors and warnings.
- If 'R CMD check' started to fail recently on the Linux builder(s) over a missing dependency, add the missing dependency to 'Suggests:' in your DESCRIPTION file. See Renviron.bioc for more information.

raw results


Summary

Package: omicsViewer
Version: 1.13.9
Command: /Library/Frameworks/R.framework/Resources/bin/R CMD build --keep-empty-dirs --no-resave-data omicsViewer
StartedAt: 2025-10-26 17:25:41 -0400 (Sun, 26 Oct 2025)
EndedAt: 2025-10-26 17:26:00 -0400 (Sun, 26 Oct 2025)
EllapsedTime: 19.2 seconds
RetCode: 0
Status:   OK  
PackageFile: omicsViewer_1.13.9.tar.gz
PackageFileSize: 4.332 MiB

Command output

##############################################################################
##############################################################################
###
### Running command:
###
###   /Library/Frameworks/R.framework/Resources/bin/R CMD build --keep-empty-dirs --no-resave-data omicsViewer
###
##############################################################################
##############################################################################


* checking for file ‘omicsViewer/DESCRIPTION’ ... OK
* preparing ‘omicsViewer’:
* checking DESCRIPTION meta-information ... OK
* installing the package to build vignettes
* creating vignettes ... OK
* checking for LF line-endings in source and make files and shell scripts
* checking for empty or unneeded directories
Omitted ‘LazyData’ from DESCRIPTION
* building ‘omicsViewer_1.13.9.tar.gz’