| Back to Multiple platform build/check report for BioC 3.22: simplified long |
|
This page was generated on 2025-11-17 11:58 -0500 (Mon, 17 Nov 2025).
| Hostname | OS | Arch (*) | R version | Installed pkgs |
|---|---|---|---|---|
| nebbiolo2 | Linux (Ubuntu 24.04.3 LTS) | x86_64 | 4.5.1 Patched (2025-08-23 r88802) -- "Great Square Root" | 4903 |
| taishan | Linux (openEuler 24.03 LTS) | aarch64 | 4.5.0 (2025-04-11) -- "How About a Twenty-Six" | 4668 |
| Click on any hostname to see more info about the system (e.g. compilers) (*) as reported by 'uname -p', except on Windows and Mac OS X | ||||
| Package 1475/2361 | Hostname | OS / Arch | INSTALL | BUILD | CHECK | BUILD BIN | ||||||||
| notameViz 1.0.0 (landing page) Vilhelm Suksi
| nebbiolo2 | Linux (Ubuntu 24.04.3 LTS) / x86_64 | OK | OK | OK | |||||||||
| taishan | Linux (openEuler 24.03 LTS) / aarch64 | OK | OK | OK | ||||||||||
|
To the developers/maintainers of the notameViz package: - Allow up to 24 hours (and sometimes 48 hours) for your latest push to git@git.bioconductor.org:packages/notameViz.git to reflect on this report. See Troubleshooting Build Report for more information. - Use the following Renviron settings to reproduce errors and warnings. - If 'R CMD check' started to fail recently on the Linux builder(s) over a missing dependency, add the missing dependency to 'Suggests:' in your DESCRIPTION file. See Renviron.bioc for more information. |
| Package: notameViz |
| Version: 1.0.0 |
| Command: /home/biocbuild/bbs-3.22-bioc/R/bin/R CMD check --install=check:notameViz.install-out.txt --library=/home/biocbuild/bbs-3.22-bioc/R/site-library --timings notameViz_1.0.0.tar.gz |
| StartedAt: 2025-11-17 02:20:56 -0500 (Mon, 17 Nov 2025) |
| EndedAt: 2025-11-17 02:25:53 -0500 (Mon, 17 Nov 2025) |
| EllapsedTime: 297.3 seconds |
| RetCode: 0 |
| Status: OK |
| CheckDir: notameViz.Rcheck |
| Warnings: 0 |
##############################################################################
##############################################################################
###
### Running command:
###
### /home/biocbuild/bbs-3.22-bioc/R/bin/R CMD check --install=check:notameViz.install-out.txt --library=/home/biocbuild/bbs-3.22-bioc/R/site-library --timings notameViz_1.0.0.tar.gz
###
##############################################################################
##############################################################################
* using log directory ‘/home/biocbuild/bbs-3.22-bioc/meat/notameViz.Rcheck’
* using R version 4.5.1 Patched (2025-08-23 r88802)
* using platform: x86_64-pc-linux-gnu
* R was compiled by
gcc (Ubuntu 13.3.0-6ubuntu2~24.04) 13.3.0
GNU Fortran (Ubuntu 13.3.0-6ubuntu2~24.04) 13.3.0
* running under: Ubuntu 24.04.3 LTS
* using session charset: UTF-8
* checking for file ‘notameViz/DESCRIPTION’ ... OK
* checking extension type ... Package
* this is package ‘notameViz’ version ‘1.0.0’
* package encoding: UTF-8
* checking package namespace information ... OK
* checking package dependencies ... OK
* checking if this is a source package ... OK
* checking if there is a namespace ... OK
* checking for hidden files and directories ... OK
* checking for portable file names ... OK
* checking for sufficient/correct file permissions ... OK
* checking whether package ‘notameViz’ can be installed ... OK
* checking installed package size ... OK
* checking package directory ... OK
* checking ‘build’ directory ... OK
* checking DESCRIPTION meta-information ... NOTE
License stub is invalid DCF.
* checking top-level files ... OK
* checking for left-over files ... OK
* checking index information ... OK
* checking package subdirectories ... OK
* checking code files for non-ASCII characters ... OK
* checking R files for syntax errors ... OK
* checking whether the package can be loaded ... OK
* checking whether the package can be loaded with stated dependencies ... OK
* checking whether the package can be unloaded cleanly ... OK
* checking whether the namespace can be loaded with stated dependencies ... OK
* checking whether the namespace can be unloaded cleanly ... OK
* checking loading without being on the library search path ... OK
* checking dependencies in R code ... OK
* checking S3 generic/method consistency ... OK
* checking replacement functions ... OK
* checking foreign function calls ... OK
* checking R code for possible problems ... OK
* checking Rd files ... OK
* checking Rd metadata ... OK
* checking Rd cross-references ... NOTE
Found the following Rd file(s) with Rd \link{} targets missing package
anchors:
save_dc_plots.Rd: correct_drift
Please provide package anchors for all Rd \link{} targets not in the
package itself and the base packages.
* checking for missing documentation entries ... OK
* checking for code/documentation mismatches ... OK
* checking Rd \usage sections ... OK
* checking Rd contents ... OK
* checking for unstated dependencies in examples ... OK
* checking files in ‘vignettes’ ... OK
* checking examples ... OK
Examples with CPU (user + system) or elapsed time > 5s
user system elapsed
plot_injection_lm 11.355 4.769 5.366
save_QC_plots 12.559 2.955 11.229
save_batch_plots 8.920 0.136 9.059
save_group_boxplots 7.845 0.107 7.953
manhattan_plot 6.472 1.266 4.659
save_group_lineplots 7.220 0.068 7.290
plot_effect_heatmap 4.945 1.412 3.215
mz_rt_plot 4.779 1.337 2.891
save_beeswarm_plots 5.942 0.039 5.969
plot_p_histogram 3.763 1.471 1.769
* checking for unstated dependencies in ‘tests’ ... OK
* checking tests ...
Running ‘testthat.R’
OK
* checking for unstated dependencies in vignettes ... OK
* checking package vignettes ... OK
* checking re-building of vignette outputs ... OK
* checking PDF version of manual ... OK
* DONE
Status: 2 NOTEs
See
‘/home/biocbuild/bbs-3.22-bioc/meat/notameViz.Rcheck/00check.log’
for details.
notameViz.Rcheck/00install.out
############################################################################## ############################################################################## ### ### Running command: ### ### /home/biocbuild/bbs-3.22-bioc/R/bin/R CMD INSTALL notameViz ### ############################################################################## ############################################################################## * installing to library ‘/home/biocbuild/bbs-3.22-bioc/R/site-library’ * installing *source* package ‘notameViz’ ... ** this is package ‘notameViz’ version ‘1.0.0’ ** using staged installation ** R ** inst ** byte-compile and prepare package for lazy loading ** help *** installing help indices ** building package indices ** installing vignettes ** testing if installed package can be loaded from temporary location ** testing if installed package can be loaded from final location ** testing if installed package keeps a record of temporary installation path * DONE (notameViz)
notameViz.Rcheck/tests/testthat.Rout
R version 4.5.1 Patched (2025-08-23 r88802) -- "Great Square Root"
Copyright (C) 2025 The R Foundation for Statistical Computing
Platform: x86_64-pc-linux-gnu
R is free software and comes with ABSOLUTELY NO WARRANTY.
You are welcome to redistribute it under certain conditions.
Type 'license()' or 'licence()' for distribution details.
R is a collaborative project with many contributors.
Type 'contributors()' for more information and
'citation()' on how to cite R or R packages in publications.
Type 'demo()' for some demos, 'help()' for on-line help, or
'help.start()' for an HTML browser interface to help.
Type 'q()' to quit R.
> library(testthat)
> library(notameViz)
Loading required package: ggplot2
Loading required package: SummarizedExperiment
Loading required package: MatrixGenerics
Loading required package: matrixStats
Attaching package: 'MatrixGenerics'
The following objects are masked from 'package:matrixStats':
colAlls, colAnyNAs, colAnys, colAvgsPerRowSet, colCollapse,
colCounts, colCummaxs, colCummins, colCumprods, colCumsums,
colDiffs, colIQRDiffs, colIQRs, colLogSumExps, colMadDiffs,
colMads, colMaxs, colMeans2, colMedians, colMins, colOrderStats,
colProds, colQuantiles, colRanges, colRanks, colSdDiffs, colSds,
colSums2, colTabulates, colVarDiffs, colVars, colWeightedMads,
colWeightedMeans, colWeightedMedians, colWeightedSds,
colWeightedVars, rowAlls, rowAnyNAs, rowAnys, rowAvgsPerColSet,
rowCollapse, rowCounts, rowCummaxs, rowCummins, rowCumprods,
rowCumsums, rowDiffs, rowIQRDiffs, rowIQRs, rowLogSumExps,
rowMadDiffs, rowMads, rowMaxs, rowMeans2, rowMedians, rowMins,
rowOrderStats, rowProds, rowQuantiles, rowRanges, rowRanks,
rowSdDiffs, rowSds, rowSums2, rowTabulates, rowVarDiffs, rowVars,
rowWeightedMads, rowWeightedMeans, rowWeightedMedians,
rowWeightedSds, rowWeightedVars
Loading required package: GenomicRanges
Loading required package: stats4
Loading required package: BiocGenerics
Loading required package: generics
Attaching package: 'generics'
The following objects are masked from 'package:base':
as.difftime, as.factor, as.ordered, intersect, is.element, setdiff,
setequal, union
Attaching package: 'BiocGenerics'
The following objects are masked from 'package:stats':
IQR, mad, sd, var, xtabs
The following objects are masked from 'package:base':
Filter, Find, Map, Position, Reduce, anyDuplicated, aperm, append,
as.data.frame, basename, cbind, colnames, dirname, do.call,
duplicated, eval, evalq, get, grep, grepl, is.unsorted, lapply,
mapply, match, mget, order, paste, pmax, pmax.int, pmin, pmin.int,
rank, rbind, rownames, sapply, saveRDS, table, tapply, unique,
unsplit, which.max, which.min
Loading required package: S4Vectors
Attaching package: 'S4Vectors'
The following object is masked from 'package:utils':
findMatches
The following objects are masked from 'package:base':
I, expand.grid, unname
Loading required package: IRanges
Loading required package: Seqinfo
Loading required package: Biobase
Welcome to Bioconductor
Vignettes contain introductory material; view with
'browseVignettes()'. To cite Bioconductor, see
'citation("Biobase")', and for packages 'citation("pkgname")'.
Attaching package: 'Biobase'
The following object is masked from 'package:MatrixGenerics':
rowMedians
The following objects are masked from 'package:matrixStats':
anyMissing, rowMedians
>
> test_check("notameViz")
Running tests in parallel requires the 3rd edition.
INFO [2025-11-17 02:25:11] Saved to: /tmp/RtmpQq0HdR\test\recursive/file9c54d75dbe9b7.pdf
INFO [2025-11-17 02:25:11] Saved to: /tmp/RtmpQq0HdR/file9c54d5cae46f6.pdf
INFO [2025-11-17 02:25:11] Saved to: /tmp/RtmpQq0HdR/file9c54d5b15dbb9.emf
INFO [2025-11-17 02:25:11] Saved to: /tmp/RtmpQq0HdR/file9c54d3710f30e.svg
INFO [2025-11-17 02:25:11] Saved to: /tmp/RtmpQq0HdR/file9c54d1c34d22c.png
INFO [2025-11-17 02:25:11] Saved to: /tmp/RtmpQq0HdR/file9c54d22671f57.tiff
INFO [2025-11-17 02:25:12] Saved to: /tmp/RtmpQq0HdR\test\/HILIC_neg_259_9623a4_4322.emf
INFO [2025-11-17 02:25:13] Saved to: /tmp/RtmpQq0HdR\test\/HILIC_neg_108_1065a2_6121.emf
INFO [2025-11-17 02:25:13] Saved to: /tmp/RtmpQq0HdR\test\/HILIC_neg_158_23a1_4128.emf
INFO [2025-11-17 02:25:13] Saved to: /tmp/RtmpQq0HdR\test\/HILIC_neg_251_0056a0_6161.emf
INFO [2025-11-17 02:25:14] Saved to: /tmp/RtmpQq0HdR\test\/HILIC_neg_401_52a4_211.emf
INFO [2025-11-17 02:25:14] Saved line plots with mean line to: /tmp/RtmpQq0HdR\test\
INFO [2025-11-17 02:25:14] Saved to: /tmp/RtmpQq0HdR\test\/Glucose.emf
INFO [2025-11-17 02:25:14] Saved to: /tmp/RtmpQq0HdR\test\/Threoline.emf
INFO [2025-11-17 02:25:14] Saved to: /tmp/RtmpQq0HdR\test\/5-AVAB.emf
INFO [2025-11-17 02:25:15] Saved to: /tmp/RtmpQq0HdR\test\/1_2 acid.emf
INFO [2025-11-17 02:25:15] Saved to: /tmp/RtmpQq0HdR\test\/20_0 carbon chain.emf
INFO [2025-11-17 02:25:15] Saved line plots with mean line to: /tmp/RtmpQq0HdR\test\
INFO [2025-11-17 02:25:15] Saved to: /tmp/RtmpQq0HdR\test\/HILIC_neg_259_9623a4_4322.emf
INFO [2025-11-17 02:25:16] Saved to: /tmp/RtmpQq0HdR\test\/HILIC_neg_108_1065a2_6121.emf
INFO [2025-11-17 02:25:16] Saved to: /tmp/RtmpQq0HdR\test\/HILIC_neg_158_23a1_4128.emf
INFO [2025-11-17 02:25:16] Saved to: /tmp/RtmpQq0HdR\test\/HILIC_neg_251_0056a0_6161.emf
INFO [2025-11-17 02:25:17] Saved to: /tmp/RtmpQq0HdR\test\/HILIC_neg_401_52a4_211.emf
INFO [2025-11-17 02:25:17] Saved group boxplots to: /tmp/RtmpQq0HdR\test\
INFO [2025-11-17 02:25:17] Saved to: /tmp/RtmpQq0HdR\test\/HILIC_neg_259_9623a4_4322.emf
INFO [2025-11-17 02:25:17] Saved to: /tmp/RtmpQq0HdR\test\/HILIC_neg_108_1065a2_6121.emf
INFO [2025-11-17 02:25:18] Saved to: /tmp/RtmpQq0HdR\test\/HILIC_neg_158_23a1_4128.emf
INFO [2025-11-17 02:25:18] Saved to: /tmp/RtmpQq0HdR\test\/HILIC_neg_251_0056a0_6161.emf
INFO [2025-11-17 02:25:18] Saved to: /tmp/RtmpQq0HdR\test\/HILIC_neg_401_52a4_211.emf
INFO [2025-11-17 02:25:18] Saved group boxplots to: /tmp/RtmpQq0HdR\test\
INFO [2025-11-17 02:25:19] Saved to: /tmp/RtmpQq0HdR\test\/HILIC_neg_259_9623a4_4322.emf
INFO [2025-11-17 02:25:19] Saved to: /tmp/RtmpQq0HdR\test\/HILIC_neg_108_1065a2_6121.emf
INFO [2025-11-17 02:25:19] Saved to: /tmp/RtmpQq0HdR\test\/HILIC_neg_158_23a1_4128.emf
INFO [2025-11-17 02:25:20] Saved to: /tmp/RtmpQq0HdR\test\/HILIC_neg_251_0056a0_6161.emf
INFO [2025-11-17 02:25:20] Saved to: /tmp/RtmpQq0HdR\test\/HILIC_neg_401_52a4_211.emf
INFO [2025-11-17 02:25:20] Saved beeswarm plots to: /tmp/RtmpQq0HdR\test\
INFO [2025-11-17 02:25:20] Saved to: /tmp/RtmpQq0HdR\test\/Glucose.emf
INFO [2025-11-17 02:25:20] Saved to: /tmp/RtmpQq0HdR\test\/Threoline.emf
INFO [2025-11-17 02:25:21] Saved to: /tmp/RtmpQq0HdR\test\/5-AVAB.emf
INFO [2025-11-17 02:25:21] Saved to: /tmp/RtmpQq0HdR\test\/1_2 acid.emf
INFO [2025-11-17 02:25:21] Saved to: /tmp/RtmpQq0HdR\test\/20_0 carbon chain.emf
INFO [2025-11-17 02:25:21] Saved beeswarm plots to: /tmp/RtmpQq0HdR\test\
INFO [2025-11-17 02:25:22] Saved to: /tmp/RtmpQq0HdR\test\/HILIC_neg_259_9623a4_4322.emf
INFO [2025-11-17 02:25:22] Saved to: /tmp/RtmpQq0HdR\test\/HILIC_neg_108_1065a2_6121.emf
INFO [2025-11-17 02:25:22] Saved to: /tmp/RtmpQq0HdR\test\/HILIC_neg_158_23a1_4128.emf
INFO [2025-11-17 02:25:22] Saved to: /tmp/RtmpQq0HdR\test\/HILIC_neg_251_0056a0_6161.emf
INFO [2025-11-17 02:25:23] Saved to: /tmp/RtmpQq0HdR\test\/HILIC_neg_401_52a4_211.emf
INFO [2025-11-17 02:25:23] Saved scatter plots to: /tmp/RtmpQq0HdR\test\
INFO [2025-11-17 02:25:23] Saved to: /tmp/RtmpQq0HdR\test\/HILIC_neg_259_9623a4_4322.emf
INFO [2025-11-17 02:25:23] Saved to: /tmp/RtmpQq0HdR\test\/HILIC_neg_108_1065a2_6121.emf
INFO [2025-11-17 02:25:24] Saved to: /tmp/RtmpQq0HdR\test\/HILIC_neg_158_23a1_4128.emf
INFO [2025-11-17 02:25:24] Saved to: /tmp/RtmpQq0HdR\test\/HILIC_neg_251_0056a0_6161.emf
INFO [2025-11-17 02:25:24] Saved to: /tmp/RtmpQq0HdR\test\/HILIC_neg_401_52a4_211.emf
INFO [2025-11-17 02:25:24] Saved scatter plots to: /tmp/RtmpQq0HdR\test\
INFO [2025-11-17 02:25:25] Saved to: /tmp/RtmpQq0HdR\test\/HILIC_neg_259_9623a4_4322.emf
INFO [2025-11-17 02:25:25] Saved to: /tmp/RtmpQq0HdR\test\/HILIC_neg_108_1065a2_6121.emf
INFO [2025-11-17 02:25:26] Saved to: /tmp/RtmpQq0HdR\test\/HILIC_neg_158_23a1_4128.emf
INFO [2025-11-17 02:25:26] Saved to: /tmp/RtmpQq0HdR\test\/HILIC_neg_251_0056a0_6161.emf
INFO [2025-11-17 02:25:26] Saved to: /tmp/RtmpQq0HdR\test\/HILIC_neg_401_52a4_211.emf
INFO [2025-11-17 02:25:26] Saved line plots with mean line to: /tmp/RtmpQq0HdR\test\
INFO [2025-11-17 02:25:27] Saved to: /tmp/RtmpQq0HdR\test\/HILIC_neg_259_9623a4_4322.emf
INFO [2025-11-17 02:25:27] Saved to: /tmp/RtmpQq0HdR\test\/HILIC_neg_108_1065a2_6121.emf
INFO [2025-11-17 02:25:28] Saved to: /tmp/RtmpQq0HdR\test\/HILIC_neg_158_23a1_4128.emf
INFO [2025-11-17 02:25:28] Saved to: /tmp/RtmpQq0HdR\test\/HILIC_neg_251_0056a0_6161.emf
INFO [2025-11-17 02:25:29] Saved to: /tmp/RtmpQq0HdR\test\/HILIC_neg_401_52a4_211.emf
INFO [2025-11-17 02:25:29] Saved line plots with mean line to: /tmp/RtmpQq0HdR\test\
INFO [2025-11-17 02:25:30]
Saved batch plots to: /tmp/RtmpQq0HdR\test\batch_plots.pdf
INFO [2025-11-17 02:25:30] Identified m/z column Average_Mz and retention time column Average_Rt_min
INFO [2025-11-17 02:25:30] Identified m/z column Average_Mz and retention time column Average_Rt_min
INFO [2025-11-17 02:25:30] Identified m/z column Average_Mz and retention time column Average_Rt_min
INFO [2025-11-17 02:25:30]
92% of features flagged for low quality
INFO [2025-11-17 02:25:30] Identified m/z column Average_Mz and retention time column Average_Rt_min
INFO [2025-11-17 02:25:30] Identified m/z column Average_Mz and retention time column Average_Rt_min
[ FAIL 0 | WARN 182 | SKIP 0 | PASS 26 ]
[ FAIL 0 | WARN 182 | SKIP 0 | PASS 26 ]
>
> proc.time()
user system elapsed
27.660 0.812 28.465
notameViz.Rcheck/notameViz-Ex.timings
| name | user | system | elapsed | |
| manhattan_plot | 6.472 | 1.266 | 4.659 | |
| mz_rt_plot | 4.779 | 1.337 | 2.891 | |
| plot_dendrogram | 0.516 | 0.045 | 0.561 | |
| plot_dist_density | 1.523 | 0.494 | 1.425 | |
| plot_effect_heatmap | 4.945 | 1.412 | 3.215 | |
| plot_injection_lm | 11.355 | 4.769 | 5.366 | |
| plot_p_histogram | 3.763 | 1.471 | 1.769 | |
| plot_pca | 0.420 | 0.025 | 0.444 | |
| plot_pca_arrows | 0.903 | 0.053 | 0.956 | |
| plot_pca_hexbin | 0.245 | 0.037 | 0.283 | |
| plot_pca_loadings | 0.318 | 0.008 | 0.326 | |
| plot_quality | 1.458 | 0.022 | 1.480 | |
| plot_sample_boxplots | 1.099 | 0.048 | 1.148 | |
| plot_sample_heatmap | 0.650 | 0.006 | 0.657 | |
| plot_tsne | 0.463 | 0.031 | 0.495 | |
| plot_tsne_arrows | 0.915 | 0.018 | 0.933 | |
| plot_tsne_hexbin | 0.290 | 0.003 | 0.294 | |
| save_QC_plots | 12.559 | 2.955 | 11.229 | |
| save_batch_plots | 8.920 | 0.136 | 9.059 | |
| save_beeswarm_plots | 5.942 | 0.039 | 5.969 | |
| save_dc_plots | 3.178 | 0.667 | 3.139 | |
| save_group_boxplots | 7.845 | 0.107 | 7.953 | |
| save_group_lineplots | 7.220 | 0.068 | 7.290 | |
| save_plot | 0.743 | 0.047 | 0.790 | |
| save_scatter_plots | 3.285 | 0.045 | 3.332 | |
| save_subject_line_plots | 3.663 | 0.294 | 3.958 | |
| visualize_clusters | 2.030 | 0.015 | 2.045 | |
| volcano_plot | 3.480 | 1.340 | 1.604 | |