Back to Multiple platform build/check report for BioC 3.22:   simplified   long
ABCDEFGHIJKLM[N]OPQRSTUVWXYZ

This page was generated on 2025-11-24 12:07 -0500 (Mon, 24 Nov 2025).

HostnameOSArch (*)R versionInstalled pkgs
nebbiolo2Linux (Ubuntu 24.04.3 LTS)x86_644.5.2 (2025-10-31) -- "[Not] Part in a Rumble" 4873
merida1macOS 12.7.6 Montereyx86_644.5.2 Patched (2025-11-05 r88990) -- "[Not] Part in a Rumble" 4654
kjohnson1macOS 13.7.5 Venturaarm644.5.2 Patched (2025-11-04 r88984) -- "[Not] Part in a Rumble" 4600
taishanLinux (openEuler 24.03 LTS)aarch644.5.0 (2025-04-11) -- "How About a Twenty-Six" 4668
Click on any hostname to see more info about the system (e.g. compilers)      (*) as reported by 'uname -p', except on Windows and Mac OS X

Package 1473/2361HostnameOS / ArchINSTALLBUILDCHECKBUILD BIN
notame 1.0.0  (landing page)
Vilhelm Suksi
Snapshot Date: 2025-11-20 15:01 -0500 (Thu, 20 Nov 2025)
git_url: https://git.bioconductor.org/packages/notame
git_branch: RELEASE_3_22
git_last_commit: e9edc04
git_last_commit_date: 2025-10-29 11:38:23 -0500 (Wed, 29 Oct 2025)
nebbiolo2Linux (Ubuntu 24.04.3 LTS) / x86_64  OK    OK    OK  UNNEEDED, same version is already published
merida1macOS 12.7.6 Monterey / x86_64  OK    OK    OK    OK  UNNEEDED, same version is already published
kjohnson1macOS 13.7.5 Ventura / arm64  OK    OK    OK    OK  UNNEEDED, same version is already published
taishanLinux (openEuler 24.03 LTS) / aarch64  OK    OK    OK  


CHECK results for notame on taishan

To the developers/maintainers of the notame package:
- Allow up to 24 hours (and sometimes 48 hours) for your latest push to git@git.bioconductor.org:packages/notame.git to reflect on this report. See Troubleshooting Build Report for more information.
- Use the following Renviron settings to reproduce errors and warnings.
- If 'R CMD check' started to fail recently on the Linux builder(s) over a missing dependency, add the missing dependency to 'Suggests:' in your DESCRIPTION file. See Renviron.bioc for more information.
- See Martin Grigorov's blog post for how to debug Linux ARM64 related issues on a x86_64 host.

raw results


Summary

Package: notame
Version: 1.0.0
Command: /home/biocbuild/R/R/bin/R CMD check --install=check:notame.install-out.txt --library=/home/biocbuild/R/R/site-library --no-vignettes --timings notame_1.0.0.tar.gz
StartedAt: 2025-11-21 13:42:00 -0000 (Fri, 21 Nov 2025)
EndedAt: 2025-11-21 13:49:41 -0000 (Fri, 21 Nov 2025)
EllapsedTime: 460.8 seconds
RetCode: 0
Status:   OK  
CheckDir: notame.Rcheck
Warnings: 0

Command output

##############################################################################
##############################################################################
###
### Running command:
###
###   /home/biocbuild/R/R/bin/R CMD check --install=check:notame.install-out.txt --library=/home/biocbuild/R/R/site-library --no-vignettes --timings notame_1.0.0.tar.gz
###
##############################################################################
##############################################################################


* using log directory ‘/home/biocbuild/bbs-3.22-bioc/meat/notame.Rcheck’
* using R version 4.5.0 (2025-04-11)
* using platform: aarch64-unknown-linux-gnu
* R was compiled by
    aarch64-unknown-linux-gnu-gcc (GCC) 14.2.0
    GNU Fortran (GCC) 14.2.0
* running under: openEuler 24.03 (LTS)
* using session charset: UTF-8
* using option ‘--no-vignettes’
* checking for file ‘notame/DESCRIPTION’ ... OK
* checking extension type ... Package
* this is package ‘notame’ version ‘1.0.0’
* package encoding: UTF-8
* checking package namespace information ... OK
* checking package dependencies ... OK
* checking if this is a source package ... OK
* checking if there is a namespace ... OK
* checking for hidden files and directories ... OK
* checking for portable file names ... OK
* checking for sufficient/correct file permissions ... OK
* checking whether package ‘notame’ can be installed ... OK
* checking installed package size ... OK
* checking package directory ... OK
* checking ‘build’ directory ... OK
* checking DESCRIPTION meta-information ... NOTE
License stub is invalid DCF.
* checking top-level files ... OK
* checking for left-over files ... OK
* checking index information ... OK
* checking package subdirectories ... OK
* checking code files for non-ASCII characters ... OK
* checking R files for syntax errors ... OK
* checking whether the package can be loaded ... OK
* checking whether the package can be loaded with stated dependencies ... OK
* checking whether the package can be unloaded cleanly ... OK
* checking whether the namespace can be loaded with stated dependencies ... OK
* checking whether the namespace can be unloaded cleanly ... OK
* checking loading without being on the library search path ... OK
* checking whether startup messages can be suppressed ... OK
* checking dependencies in R code ... OK
* checking S3 generic/method consistency ... OK
* checking replacement functions ... OK
* checking foreign function calls ... OK
* checking R code for possible problems ... OK
* checking Rd files ... OK
* checking Rd metadata ... OK
* checking Rd cross-references ... OK
* checking for missing documentation entries ... OK
* checking for code/documentation mismatches ... OK
* checking Rd \usage sections ... OK
* checking Rd contents ... OK
* checking for unstated dependencies in examples ... OK
* checking contents of ‘data’ directory ... OK
* checking data for non-ASCII characters ... OK
* checking data for ASCII and uncompressed saves ... OK
* checking files in ‘vignettes’ ... OK
* checking examples ... OK
Examples with CPU (user + system) or elapsed time > 5s
                        user system elapsed
pca_bhattacharyya_dist 8.606  0.766  11.196
impute_rf              1.514  0.110  10.172
* checking for unstated dependencies in ‘tests’ ... OK
* checking tests ...
  Running ‘testthat.R’
 OK
* checking for unstated dependencies in vignettes ... OK
* checking package vignettes ... OK
* checking running R code from vignettes ... SKIPPED
* checking re-building of vignette outputs ... SKIPPED
* checking PDF version of manual ... OK
* DONE

Status: 1 NOTE
See
  ‘/home/biocbuild/bbs-3.22-bioc/meat/notame.Rcheck/00check.log’
for details.


Installation output

notame.Rcheck/00install.out

##############################################################################
##############################################################################
###
### Running command:
###
###   /home/biocbuild/R/R/bin/R CMD INSTALL notame
###
##############################################################################
##############################################################################


* installing to library ‘/home/biocbuild/R/R-4.5.0/site-library’
* installing *source* package ‘notame’ ...
** this is package ‘notame’ version ‘1.0.0’
** using staged installation
** R
** data
** inst
** byte-compile and prepare package for lazy loading
** help
*** installing help indices
** building package indices
** installing vignettes
** testing if installed package can be loaded from temporary location
** testing if installed package can be loaded from final location
** testing if installed package keeps a record of temporary installation path
* DONE (notame)

Tests output

notame.Rcheck/tests/testthat.Rout


R version 4.5.0 (2025-04-11) -- "How About a Twenty-Six"
Copyright (C) 2025 The R Foundation for Statistical Computing
Platform: aarch64-unknown-linux-gnu

R is free software and comes with ABSOLUTELY NO WARRANTY.
You are welcome to redistribute it under certain conditions.
Type 'license()' or 'licence()' for distribution details.

R is a collaborative project with many contributors.
Type 'contributors()' for more information and
'citation()' on how to cite R or R packages in publications.

Type 'demo()' for some demos, 'help()' for on-line help, or
'help.start()' for an HTML browser interface to help.
Type 'q()' to quit R.

> library(testthat)
> library(notame)
Loading required package: ggplot2
Loading required package: SummarizedExperiment
Loading required package: MatrixGenerics
Loading required package: matrixStats

Attaching package: 'MatrixGenerics'

The following objects are masked from 'package:matrixStats':

    colAlls, colAnyNAs, colAnys, colAvgsPerRowSet, colCollapse,
    colCounts, colCummaxs, colCummins, colCumprods, colCumsums,
    colDiffs, colIQRDiffs, colIQRs, colLogSumExps, colMadDiffs,
    colMads, colMaxs, colMeans2, colMedians, colMins, colOrderStats,
    colProds, colQuantiles, colRanges, colRanks, colSdDiffs, colSds,
    colSums2, colTabulates, colVarDiffs, colVars, colWeightedMads,
    colWeightedMeans, colWeightedMedians, colWeightedSds,
    colWeightedVars, rowAlls, rowAnyNAs, rowAnys, rowAvgsPerColSet,
    rowCollapse, rowCounts, rowCummaxs, rowCummins, rowCumprods,
    rowCumsums, rowDiffs, rowIQRDiffs, rowIQRs, rowLogSumExps,
    rowMadDiffs, rowMads, rowMaxs, rowMeans2, rowMedians, rowMins,
    rowOrderStats, rowProds, rowQuantiles, rowRanges, rowRanks,
    rowSdDiffs, rowSds, rowSums2, rowTabulates, rowVarDiffs, rowVars,
    rowWeightedMads, rowWeightedMeans, rowWeightedMedians,
    rowWeightedSds, rowWeightedVars

Loading required package: GenomicRanges
Loading required package: stats4
Loading required package: BiocGenerics
Loading required package: generics

Attaching package: 'generics'

The following objects are masked from 'package:base':

    as.difftime, as.factor, as.ordered, intersect, is.element, setdiff,
    setequal, union


Attaching package: 'BiocGenerics'

The following objects are masked from 'package:stats':

    IQR, mad, sd, var, xtabs

The following objects are masked from 'package:base':

    Filter, Find, Map, Position, Reduce, anyDuplicated, aperm, append,
    as.data.frame, basename, cbind, colnames, dirname, do.call,
    duplicated, eval, evalq, get, grep, grepl, is.unsorted, lapply,
    mapply, match, mget, order, paste, pmax, pmax.int, pmin, pmin.int,
    rank, rbind, rownames, sapply, saveRDS, table, tapply, unique,
    unsplit, which.max, which.min

Loading required package: S4Vectors

Attaching package: 'S4Vectors'

The following object is masked from 'package:utils':

    findMatches

The following objects are masked from 'package:base':

    I, expand.grid, unname

Loading required package: IRanges
Loading required package: Seqinfo
Loading required package: Biobase
Welcome to Bioconductor

    Vignettes contain introductory material; view with
    'browseVignettes()'. To cite Bioconductor, see
    'citation("Biobase")', and for packages 'citation("pkgname")'.


Attaching package: 'Biobase'

The following object is masked from 'package:MatrixGenerics':

    rowMedians

The following objects are masked from 'package:matrixStats':

    anyMissing, rowMedians

> 
> test_check("notame")
Running tests in parallel requires the 3rd edition
INFO [2025-11-21 13:47:56] Pheno data was cleaned
INFO [2025-11-21 13:47:56] Checking provided sample ID column
INFO [2025-11-21 13:47:56] Column 'Sample_ID' created from id
INFO [2025-11-21 13:47:56] Pheno data was cleaned
INFO [2025-11-21 13:47:56] Sample ID generated from injection orders and prefix ID_
INFO [2025-11-21 13:47:56] Pheno data was cleaned
INFO [2025-11-21 13:47:56] Pheno data was cleaned
INFO [2025-11-21 13:47:56] Adding running index to 'QC' sample IDs
INFO [2025-11-21 13:47:56] Pheno data was cleaned
INFO [2025-11-21 13:47:56] Initializing 'Flag' column with unflagged features
INFO [2025-11-21 13:47:56] Assigning HILIC_pos as the value of the Split column for each feature
INFO [2025-11-21 13:47:56] Feature data was cleaned
INFO [2025-11-21 13:47:56] Initializing 'Flag' column with unflagged features
INFO [2025-11-21 13:47:56] Feature_ID column not found, creating feature IDs
INFO [2025-11-21 13:47:56] Initializing 'Flag' column with unflagged features
INFO [2025-11-21 13:47:56] Feature_ID column not found, creating feature IDs
INFO [2025-11-21 13:47:56] Initializing 'Flag' column with unflagged features
INFO [2025-11-21 13:47:56] Feature_ID column not found, creating feature IDs
INFO [2025-11-21 13:47:56] Identified m/z column Average_Mz and retention time column Average_Rt_min
INFO [2025-11-21 13:47:56] Identified m/z column Average_Mz and retention time column Average_Rt_min
INFO [2025-11-21 13:47:56] Creating feature IDs from Split, m/z and retention time
INFO [2025-11-21 13:47:56] Feature data was cleaned
INFO [2025-11-21 13:47:56] Identified m/z column Mass and retention time column RetentionTime
INFO [2025-11-21 13:47:56] Identified m/z column Mass and retention time column RetentionTime
INFO [2025-11-21 13:47:56] Creating feature IDs from Split, m/z and retention time
INFO [2025-11-21 13:47:57] Corner detected correctly at row 4, column D
INFO [2025-11-21 13:47:57] 
Extracting sample information from rows 1 to 4 and columns E to P
INFO [2025-11-21 13:47:57] Replacing spaces in sample information column names with underscores (_)
INFO [2025-11-21 13:47:57] Naming the last column of sample information "easy_Datafile"
INFO [2025-11-21 13:47:57] 
Extracting feature information from rows 5 to 14 and columns A to D
INFO [2025-11-21 13:47:57] 
Extracting feature abundances from rows 5 to 14 and columns E to P
INFO [2025-11-21 13:47:57] Sample ID generated from injection orders and prefix TEST_
INFO [2025-11-21 13:47:57] Pheno data was cleaned
INFO [2025-11-21 13:47:57] Initializing 'Flag' column with unflagged features
INFO [2025-11-21 13:47:57] Assigning easy as the value of the Split column for each feature
INFO [2025-11-21 13:47:57] Feature_ID column not found, creating feature IDs
INFO [2025-11-21 13:47:57] Identified m/z column Mass and retention time column RetentionTime
INFO [2025-11-21 13:47:57] Identified m/z column Mass and retention time column RetentionTime
INFO [2025-11-21 13:47:57] Creating feature IDs from Split, m/z and retention time
INFO [2025-11-21 13:47:57] Feature data was cleaned
INFO [2025-11-21 13:47:57] 
Checking sample information
INFO [2025-11-21 13:47:57] Checking 'Injection_order' column in feature data
INFO [2025-11-21 13:47:57] Checking 'Sample_ID' column in pheno data
INFO [2025-11-21 13:47:57] Checking 'QC' column in feature data
INFO [2025-11-21 13:47:57] Checking that feature abundances only contain numeric values
INFO [2025-11-21 13:47:57] 
Checking feature information
INFO [2025-11-21 13:47:57] Checking that feature IDs are unique and not storedas numbers
INFO [2025-11-21 13:47:57] Checking that m/z and retention time values are reasonable.
INFO [2025-11-21 13:47:57] Identified m/z column Mass and retention time column RetentionTime
INFO [2025-11-21 13:47:57] Identified m/z column Mass and retention time column RetentionTime
INFO [2025-11-21 13:47:57] Checking that feature data includes a 'Split' column
INFO [2025-11-21 13:47:57] Checking that feature data includes a 'Flag' column
INFO [2025-11-21 13:47:57] Identified m/z column Mass and retention time column RetentionTime
INFO [2025-11-21 13:47:57] Identified m/z column Mass and retention time column RetentionTime
INFO [2025-11-21 13:47:57] Creating feature IDs from Split, m/z and retention time
INFO [2025-11-21 13:47:57] Corner detected correctly at row 4, column F
INFO [2025-11-21 13:47:57] 
Extracting sample information from rows 1 to 4 and columns G to R
INFO [2025-11-21 13:47:57] Replacing spaces in sample information column names with underscores (_)
INFO [2025-11-21 13:47:57] Naming the last column of sample information "Datafile"
INFO [2025-11-21 13:47:57] 
Extracting feature information from rows 5 to 20 and columns A to F
INFO [2025-11-21 13:47:57] 
Extracting feature abundances from rows 5 to 20 and columns G to R
INFO [2025-11-21 13:47:57] Sample ID generated from injection orders and prefix TEST_
INFO [2025-11-21 13:47:57] Pheno data was cleaned
INFO [2025-11-21 13:47:57] Initializing 'Flag' column with unflagged features
INFO [2025-11-21 13:47:57] Creating Split column from Column, Mode
INFO [2025-11-21 13:47:57] Feature_ID column not found, creating feature IDs
INFO [2025-11-21 13:47:57] Identified m/z column Mass and retention time column RetentionTime
INFO [2025-11-21 13:47:57] Identified m/z column Mass and retention time column RetentionTime
INFO [2025-11-21 13:47:57] Creating feature IDs from Split, m/z and retention time
INFO [2025-11-21 13:47:57] Feature data was cleaned
INFO [2025-11-21 13:47:57] 
Checking sample information
INFO [2025-11-21 13:47:57] Checking 'Injection_order' column in feature data
INFO [2025-11-21 13:47:57] Checking 'Sample_ID' column in pheno data
INFO [2025-11-21 13:47:57] Checking 'QC' column in feature data
INFO [2025-11-21 13:47:57] Checking that feature abundances only contain numeric values
INFO [2025-11-21 13:47:57] 
Checking feature information
INFO [2025-11-21 13:47:57] Checking that feature IDs are unique and not storedas numbers
INFO [2025-11-21 13:47:57] Checking that m/z and retention time values are reasonable.
INFO [2025-11-21 13:47:57] Identified m/z column Mass and retention time column RetentionTime
INFO [2025-11-21 13:47:57] Identified m/z column Mass and retention time column RetentionTime
INFO [2025-11-21 13:47:57] Checking that feature data includes a 'Split' column
INFO [2025-11-21 13:47:57] Checking that feature data includes a 'Flag' column
INFO [2025-11-21 13:47:57] Pheno data was cleaned
INFO [2025-11-21 13:47:57] Feature data was cleaned
INFO [2025-11-21 13:47:57] Pheno data was cleaned
INFO [2025-11-21 13:47:58] Feature data was cleaned
INFO [2025-11-21 13:47:58] Detecting corner position
INFO [2025-11-21 13:47:58] Corner detected correctly at row 11, column H
INFO [2025-11-21 13:47:58] 
Extracting sample information from rows 1 to 11 and columns I to BF
INFO [2025-11-21 13:47:58] Replacing spaces in sample information column names with underscores (_)
INFO [2025-11-21 13:47:58] Naming the last column of sample information "hilic_neg_Datafile"
INFO [2025-11-21 13:47:58] 
Extracting feature information from rows 12 to 31 and columns A to H
INFO [2025-11-21 13:47:58] 
Extracting feature abundances from rows 12 to 31 and columns I to BF
INFO [2025-11-21 13:47:58] Pheno data was cleaned
INFO [2025-11-21 13:47:58] Feature data was cleaned
INFO [2025-11-21 13:47:58] 
Checking sample information
INFO [2025-11-21 13:47:58] Checking 'Injection_order' column in feature data
INFO [2025-11-21 13:47:58] Checking 'Sample_ID' column in pheno data
INFO [2025-11-21 13:47:58] Checking 'QC' column in feature data
INFO [2025-11-21 13:47:58] Checking that feature abundances only contain numeric values
INFO [2025-11-21 13:47:58] 
Checking feature information
INFO [2025-11-21 13:47:58] Checking that feature IDs are unique and not storedas numbers
INFO [2025-11-21 13:47:58] Checking that m/z and retention time values are reasonable.
INFO [2025-11-21 13:47:58] Identified m/z column Average_Mz and retention time column Average_Rt_min
INFO [2025-11-21 13:47:58] Identified m/z column Average_Mz and retention time column Average_Rt_min
INFO [2025-11-21 13:47:58] Checking that feature data includes a 'Split' column
INFO [2025-11-21 13:47:58] Checking that feature data includes a 'Flag' column
INFO [2025-11-21 13:47:58] Detecting corner position
INFO [2025-11-21 13:47:58] Corner detected correctly at row 11, column H
INFO [2025-11-21 13:47:58] 
Extracting sample information from rows 1 to 11 and columns I to BF
INFO [2025-11-21 13:47:58] Replacing spaces in sample information column names with underscores (_)
INFO [2025-11-21 13:47:58] Naming the last column of sample information "hilic_pos_Datafile"
INFO [2025-11-21 13:47:58] 
Extracting feature information from rows 12 to 31 and columns A to H
INFO [2025-11-21 13:47:58] 
Extracting feature abundances from rows 12 to 31 and columns I to BF
INFO [2025-11-21 13:47:58] Pheno data was cleaned
INFO [2025-11-21 13:47:58] Feature data was cleaned
INFO [2025-11-21 13:47:58] 
Checking sample information
INFO [2025-11-21 13:47:58] Checking 'Injection_order' column in feature data
INFO [2025-11-21 13:47:58] Checking 'Sample_ID' column in pheno data
INFO [2025-11-21 13:47:58] Checking 'QC' column in feature data
INFO [2025-11-21 13:47:58] Checking that feature abundances only contain numeric values
INFO [2025-11-21 13:47:58] 
Checking feature information
INFO [2025-11-21 13:47:58] Checking that feature IDs are unique and not storedas numbers
INFO [2025-11-21 13:47:58] Checking that m/z and retention time values are reasonable.
INFO [2025-11-21 13:47:58] Identified m/z column Average_Mz and retention time column Average_Rt_min
INFO [2025-11-21 13:47:58] Identified m/z column Average_Mz and retention time column Average_Rt_min
INFO [2025-11-21 13:47:58] Checking that feature data includes a 'Split' column
INFO [2025-11-21 13:47:58] Checking that feature data includes a 'Flag' column
INFO [2025-11-21 13:47:58] Detecting corner position
INFO [2025-11-21 13:47:59] Corner detected correctly at row 11, column H
INFO [2025-11-21 13:47:59] 
Extracting sample information from rows 1 to 11 and columns I to BF
INFO [2025-11-21 13:47:59] Replacing spaces in sample information column names with underscores (_)
INFO [2025-11-21 13:47:59] Naming the last column of sample information "rp_neg_Datafile"
INFO [2025-11-21 13:47:59] 
Extracting feature information from rows 12 to 31 and columns A to H
INFO [2025-11-21 13:47:59] 
Extracting feature abundances from rows 12 to 31 and columns I to BF
INFO [2025-11-21 13:47:59] Pheno data was cleaned
INFO [2025-11-21 13:47:59] Feature data was cleaned
INFO [2025-11-21 13:47:59] 
Checking sample information
INFO [2025-11-21 13:47:59] Checking 'Injection_order' column in feature data
INFO [2025-11-21 13:47:59] Checking 'Sample_ID' column in pheno data
INFO [2025-11-21 13:47:59] Checking 'QC' column in feature data
INFO [2025-11-21 13:47:59] Checking that feature abundances only contain numeric values
INFO [2025-11-21 13:47:59] 
Checking feature information
INFO [2025-11-21 13:47:59] Checking that feature IDs are unique and not storedas numbers
INFO [2025-11-21 13:47:59] Checking that m/z and retention time values are reasonable.
INFO [2025-11-21 13:47:59] Identified m/z column Average_Mz and retention time column Average_Rt_min
INFO [2025-11-21 13:47:59] Identified m/z column Average_Mz and retention time column Average_Rt_min
INFO [2025-11-21 13:47:59] Checking that feature data includes a 'Split' column
INFO [2025-11-21 13:47:59] Checking that feature data includes a 'Flag' column
INFO [2025-11-21 13:47:59] Detecting corner position
INFO [2025-11-21 13:47:59] Corner detected correctly at row 11, column H
INFO [2025-11-21 13:47:59] 
Extracting sample information from rows 1 to 11 and columns I to BF
INFO [2025-11-21 13:47:59] Replacing spaces in sample information column names with underscores (_)
INFO [2025-11-21 13:47:59] Naming the last column of sample information "rp_pos_Datafile"
INFO [2025-11-21 13:47:59] 
Extracting feature information from rows 12 to 31 and columns A to H
INFO [2025-11-21 13:47:59] 
Extracting feature abundances from rows 12 to 31 and columns I to BF
INFO [2025-11-21 13:47:59] Pheno data was cleaned
INFO [2025-11-21 13:47:59] Feature data was cleaned
INFO [2025-11-21 13:47:59] 
Checking sample information
INFO [2025-11-21 13:47:59] Checking 'Injection_order' column in feature data
INFO [2025-11-21 13:47:59] Checking 'Sample_ID' column in pheno data
INFO [2025-11-21 13:47:59] Checking 'QC' column in feature data
INFO [2025-11-21 13:47:59] Checking that feature abundances only contain numeric values
INFO [2025-11-21 13:47:59] 
Checking feature information
INFO [2025-11-21 13:47:59] Checking that feature IDs are unique and not storedas numbers
INFO [2025-11-21 13:47:59] Checking that m/z and retention time values are reasonable.
INFO [2025-11-21 13:47:59] Identified m/z column Average_Mz and retention time column Average_Rt_min
INFO [2025-11-21 13:47:59] Identified m/z column Average_Mz and retention time column Average_Rt_min
INFO [2025-11-21 13:47:59] Checking that feature data includes a 'Split' column
INFO [2025-11-21 13:47:59] Checking that feature data includes a 'Flag' column
INFO [2025-11-21 13:47:59] Injection order differs between modes.Creating dummy injection order
INFO [2025-11-21 13:48:00] Dummy injection order (row numbers) created
INFO [2025-11-21 13:48:00] Merging objects with unequal amounts of samples.
INFO [2025-11-21 13:48:00] Samples only in first object:
INFO [2025-11-21 13:48:00] ID_666

INFO [2025-11-21 13:48:00] Samples only in second object:
INFO [2025-11-21 13:48:00] Demo_2

INFO [2025-11-21 13:48:00] Injection order differs between modes.Creating dummy injection order
INFO [2025-11-21 13:48:00] Dummy injection order (row numbers) created
INFO [2025-11-21 13:48:00] Merging objects with unequal amounts of samples.
INFO [2025-11-21 13:48:00] Samples only in first object:
INFO [2025-11-21 13:48:00] ID_666

INFO [2025-11-21 13:48:00] Samples only in second object:
INFO [2025-11-21 13:48:00] 

INFO [2025-11-21 13:48:00] Injection order differs between modes.Creating dummy injection order
INFO [2025-11-21 13:48:00] Dummy injection order (row numbers) created
INFO [2025-11-21 13:48:00] Merging objects with unequal amounts of samples.
INFO [2025-11-21 13:48:00] Samples only in first object:
INFO [2025-11-21 13:48:00] ID_666, Demo_22

INFO [2025-11-21 13:48:00] Samples only in second object:
INFO [2025-11-21 13:48:00] ID_999

INFO [2025-11-21 13:48:00] Starting logging
INFO [2025-11-21 13:48:00] Finished analysis. Fri Nov 21 13:48:00 2025
Session info:

INFO [2025-11-21 13:48:01] R version 4.5.0 (2025-04-11)
INFO [2025-11-21 13:48:01] Platform: aarch64-unknown-linux-gnu
INFO [2025-11-21 13:48:01] Running under: openEuler 24.03 (LTS)
INFO [2025-11-21 13:48:01] 
INFO [2025-11-21 13:48:01] Matrix products: default
INFO [2025-11-21 13:48:01] BLAS/LAPACK: /usr/lib64/libopenblas-r0.3.25.so;  LAPACK version 3.11.0
INFO [2025-11-21 13:48:01] 
INFO [2025-11-21 13:48:01] locale:
INFO [2025-11-21 13:48:01]  [1] LC_CTYPE=en_US.UTF-8       LC_NUMERIC=C              
INFO [2025-11-21 13:48:01]  [3] LC_TIME=en_GB              LC_COLLATE=C              
INFO [2025-11-21 13:48:01]  [5] LC_MONETARY=en_US.UTF-8    LC_MESSAGES=en_US.UTF-8   
INFO [2025-11-21 13:48:01]  [7] LC_PAPER=en_US.UTF-8       LC_NAME=C                 
INFO [2025-11-21 13:48:01]  [9] LC_ADDRESS=C               LC_TELEPHONE=C            
INFO [2025-11-21 13:48:01] [11] LC_MEASUREMENT=en_US.UTF-8 LC_IDENTIFICATION=C       
INFO [2025-11-21 13:48:01] 
INFO [2025-11-21 13:48:01] time zone: UTC
INFO [2025-11-21 13:48:01] tzcode source: system (glibc)
INFO [2025-11-21 13:48:01] 
INFO [2025-11-21 13:48:01] attached base packages:
INFO [2025-11-21 13:48:01] [1] stats4    stats     graphics  grDevices utils     datasets  methods  
INFO [2025-11-21 13:48:01] [8] base     
INFO [2025-11-21 13:48:01] 
INFO [2025-11-21 13:48:01] other attached packages:
INFO [2025-11-21 13:48:01]  [1] notame_1.0.0                SummarizedExperiment_1.40.0
INFO [2025-11-21 13:48:01]  [3] Biobase_2.70.0              GenomicRanges_1.62.0       
INFO [2025-11-21 13:48:01]  [5] Seqinfo_1.0.0               IRanges_2.44.0             
INFO [2025-11-21 13:48:01]  [7] S4Vectors_0.48.0            BiocGenerics_0.56.0        
INFO [2025-11-21 13:48:01]  [9] generics_0.1.4              MatrixGenerics_1.22.0      
INFO [2025-11-21 13:48:01] [11] matrixStats_1.5.0           ggplot2_4.0.0              
INFO [2025-11-21 13:48:01] [13] testthat_3.2.3             
INFO [2025-11-21 13:48:01] 
INFO [2025-11-21 13:48:01] loaded via a namespace (and not attached):
INFO [2025-11-21 13:48:01]  [1] Matrix_1.7-4         gtable_0.3.6         futile.logger_1.4.3 
INFO [2025-11-21 13:48:01]  [4] dplyr_1.1.4          compiler_4.5.0       brio_1.1.5          
INFO [2025-11-21 13:48:01]  [7] zip_2.3.3            Rcpp_1.1.0           tidyselect_1.2.1    
INFO [2025-11-21 13:48:01] [10] tidyr_1.3.1          scales_1.4.0         lattice_0.22-7      
INFO [2025-11-21 13:48:01] [13] XVector_0.50.0       R6_2.6.1             S4Arrays_1.10.0     
INFO [2025-11-21 13:48:01] [16] openxlsx_4.2.8.1     tibble_3.3.0         DelayedArray_0.36.0 
INFO [2025-11-21 13:48:01] [19] desc_1.4.3           pillar_1.11.1        RColorBrewer_1.1-3  
INFO [2025-11-21 13:48:01] [22] rlang_1.1.6          stringi_1.8.7        S7_0.2.0            
INFO [2025-11-21 13:48:01] [25] viridisLite_0.4.2    SparseArray_1.10.2   cli_3.6.5           
INFO [2025-11-21 13:48:01] [28] formatR_1.14         withr_3.0.2          magrittr_2.0.4      
INFO [2025-11-21 13:48:01] [31] futile.options_1.0.1 grid_4.5.0           lifecycle_1.0.4     
INFO [2025-11-21 13:48:01] [34] waldo_0.6.2          vctrs_0.6.5          glue_1.8.0          
INFO [2025-11-21 13:48:01] [37] lambda.r_1.2.4       farver_2.1.2         abind_1.4-8         
INFO [2025-11-21 13:48:01] [40] purrr_1.1.0          tools_4.5.0          pkgconfig_2.0.3     
INFO [2025-11-21 13:48:01] New line
INFO [2025-11-21 13:48:01] Starting logging
INFO [2025-11-21 13:48:01] New line
INFO [2025-11-21 13:48:01] Finished analysis. Fri Nov 21 13:48:01 2025
Session info:

INFO [2025-11-21 13:48:01] R version 4.5.0 (2025-04-11)
INFO [2025-11-21 13:48:01] Platform: aarch64-unknown-linux-gnu
INFO [2025-11-21 13:48:01] Running under: openEuler 24.03 (LTS)
INFO [2025-11-21 13:48:01] 
INFO [2025-11-21 13:48:01] Matrix products: default
INFO [2025-11-21 13:48:01] BLAS/LAPACK: /usr/lib64/libopenblas-r0.3.25.so;  LAPACK version 3.11.0
INFO [2025-11-21 13:48:01] 
INFO [2025-11-21 13:48:01] locale:
INFO [2025-11-21 13:48:01]  [1] LC_CTYPE=en_US.UTF-8       LC_NUMERIC=C              
INFO [2025-11-21 13:48:01]  [3] LC_TIME=en_GB              LC_COLLATE=C              
INFO [2025-11-21 13:48:01]  [5] LC_MONETARY=en_US.UTF-8    LC_MESSAGES=en_US.UTF-8   
INFO [2025-11-21 13:48:01]  [7] LC_PAPER=en_US.UTF-8       LC_NAME=C                 
INFO [2025-11-21 13:48:01]  [9] LC_ADDRESS=C               LC_TELEPHONE=C            
INFO [2025-11-21 13:48:01] [11] LC_MEASUREMENT=en_US.UTF-8 LC_IDENTIFICATION=C       
INFO [2025-11-21 13:48:01] 
INFO [2025-11-21 13:48:01] time zone: UTC
INFO [2025-11-21 13:48:01] tzcode source: system (glibc)
INFO [2025-11-21 13:48:01] 
INFO [2025-11-21 13:48:01] attached base packages:
INFO [2025-11-21 13:48:01] [1] stats4    stats     graphics  grDevices utils     datasets  methods  
INFO [2025-11-21 13:48:01] [8] base     
INFO [2025-11-21 13:48:01] 
INFO [2025-11-21 13:48:01] other attached packages:
INFO [2025-11-21 13:48:01]  [1] notame_1.0.0                SummarizedExperiment_1.40.0
INFO [2025-11-21 13:48:01]  [3] Biobase_2.70.0              GenomicRanges_1.62.0       
INFO [2025-11-21 13:48:01]  [5] Seqinfo_1.0.0               IRanges_2.44.0             
INFO [2025-11-21 13:48:01]  [7] S4Vectors_0.48.0            BiocGenerics_0.56.0        
INFO [2025-11-21 13:48:01]  [9] generics_0.1.4              MatrixGenerics_1.22.0      
INFO [2025-11-21 13:48:01] [11] matrixStats_1.5.0           ggplot2_4.0.0              
INFO [2025-11-21 13:48:01] [13] testthat_3.2.3             
INFO [2025-11-21 13:48:01] 
INFO [2025-11-21 13:48:01] loaded via a namespace (and not attached):
INFO [2025-11-21 13:48:01]  [1] Matrix_1.7-4         gtable_0.3.6         futile.logger_1.4.3 
INFO [2025-11-21 13:48:01]  [4] dplyr_1.1.4          compiler_4.5.0       brio_1.1.5          
INFO [2025-11-21 13:48:01]  [7] zip_2.3.3            Rcpp_1.1.0           tidyselect_1.2.1    
INFO [2025-11-21 13:48:01] [10] tidyr_1.3.1          scales_1.4.0         lattice_0.22-7      
INFO [2025-11-21 13:48:01] [13] XVector_0.50.0       R6_2.6.1             S4Arrays_1.10.0     
INFO [2025-11-21 13:48:01] [16] openxlsx_4.2.8.1     tibble_3.3.0         DelayedArray_0.36.0 
INFO [2025-11-21 13:48:01] [19] desc_1.4.3           pillar_1.11.1        RColorBrewer_1.1-3  
INFO [2025-11-21 13:48:01] [22] rlang_1.1.6          stringi_1.8.7        S7_0.2.0            
INFO [2025-11-21 13:48:01] [25] viridisLite_0.4.2    SparseArray_1.10.2   cli_3.6.5           
INFO [2025-11-21 13:48:01] [28] formatR_1.14         withr_3.0.2          magrittr_2.0.4      
INFO [2025-11-21 13:48:01] [31] futile.options_1.0.1 grid_4.5.0           lifecycle_1.0.4     
INFO [2025-11-21 13:48:01] [34] waldo_0.6.2          vctrs_0.6.5          glue_1.8.0          
INFO [2025-11-21 13:48:01] [37] lambda.r_1.2.4       farver_2.1.2         abind_1.4-8         
INFO [2025-11-21 13:48:01] [40] purrr_1.1.0          tools_4.5.0          pkgconfig_2.0.3     
INFO [2025-11-21 13:48:01] New line
INFO [2025-11-21 13:48:02] 
Starting random forest imputation at 2025-11-21 13:48:02.018354
INFO [2025-11-21 13:48:18] Out-of-bag error in random forest imputation: 0.471
INFO [2025-11-21 13:48:18] Random forest imputation finished at 2025-11-21 13:48:18.661444 

INFO [2025-11-21 13:48:18] 
Starting random forest imputation at 2025-11-21 13:48:18.979599
INFO [2025-11-21 13:48:48] Out-of-bag error in random forest imputation: 0.472
INFO [2025-11-21 13:48:48] Random forest imputation finished at 2025-11-21 13:48:48.746878 

INFO [2025-11-21 13:48:48] 
Starting random forest imputation at 2025-11-21 13:48:48.766306
INFO [2025-11-21 13:49:11] Out-of-bag error in random forest imputation: 0.469
INFO [2025-11-21 13:49:11] Random forest imputation finished at 2025-11-21 13:49:11.802965 

INFO [2025-11-21 13:49:11] 
Starting random forest imputation at 2025-11-21 13:49:11.929673
INFO [2025-11-21 13:49:29] Out-of-bag error in random forest imputation: 0.468
INFO [2025-11-21 13:49:29] Random forest imputation finished at 2025-11-21 13:49:29.855778 

INFO [2025-11-21 13:49:30] Starting PQN normalization
INFO [2025-11-21 13:49:30] Using median of qc samples as reference spectrum
INFO [2025-11-21 13:49:30] Starting PQN normalization
INFO [2025-11-21 13:49:30] Using median of all samples as reference spectrum
INFO [2025-11-21 13:49:30] Starting PQN normalization
INFO [2025-11-21 13:49:30] Using mean of qc samples as reference spectrum
INFO [2025-11-21 13:49:30] Starting PQN normalization
INFO [2025-11-21 13:49:30] Using mean of all samples as reference spectrum
INFO [2025-11-21 13:49:30] 
92% of features flagged for low quality
INFO [2025-11-21 13:49:30] Starting PQN normalization
INFO [2025-11-21 13:49:30] Using median of qc samples as reference spectrum
INFO [2025-11-21 13:49:31] Starting drift correction
INFO [2025-11-21 13:49:31] Zero values in feature abundances detected. Zeroes will be replaced with 1.1.
INFO [2025-11-21 13:49:34] Recomputing quality metrics for drift corrected data
INFO [2025-11-21 13:49:34] Drift correction performed
INFO [2025-11-21 13:49:34] Inspecting drift correction results
INFO [2025-11-21 13:49:34] Original quality metrics missing, recomputing
INFO [2025-11-21 13:49:34] Drift correction results inspected: Drift_corrected: 100%
[ FAIL 0 | WARN 5 | SKIP 0 | PASS 84 ]

[ FAIL 0 | WARN 5 | SKIP 0 | PASS 84 ]
> 
> proc.time()
   user  system elapsed 
 28.485   1.645 110.817 

Example timings

notame.Rcheck/notame-Ex.timings

nameusersystemelapsed
assess_quality0.2540.0240.278
citations0.3790.0120.391
cluster_features0.3030.0440.359
combined_data0.0540.0200.074
compress_clusters0.2010.0120.213
correct_drift2.9560.2854.903
drop_flagged0.1560.0250.360
drop_qcs0.0510.0040.111
finish_log0.0360.0110.108
fix_MSMS0.1270.0160.288
fix_object0.1940.0120.414
flag0.0380.0000.080
flag_contaminants0.2500.0330.564
flag_detection0.3590.0000.720
flag_quality0.3030.0040.399
flag_report0.4480.0000.449
import_from_excel0.3630.0000.586
impute_rf 1.514 0.11010.172
impute_simple0.1090.0080.118
init_log0.0040.0000.004
inverse_normalize0.0510.0090.059
join_colData0.0440.0000.044
join_rowData0.0330.0040.037
log_text0.0060.0000.006
mark_nas0.0530.0000.053
merge_notame_sets0.7590.0651.419
pca_bhattacharyya_dist 8.606 0.76611.196
perform_repeatability0.2490.0000.286
pqn_normalization0.0890.0000.089
quality0.1570.0240.180
ruvs_qc0.2220.0160.245
write_to_excel0.2450.0040.249