Back to Multiple platform build/check report for BioC 3.22:   simplified   long
ABCDEFGHIJKL[M]NOPQRSTUVWXYZ

This page was generated on 2025-11-24 12:07 -0500 (Mon, 24 Nov 2025).

HostnameOSArch (*)R versionInstalled pkgs
nebbiolo2Linux (Ubuntu 24.04.3 LTS)x86_644.5.2 (2025-10-31) -- "[Not] Part in a Rumble" 4873
merida1macOS 12.7.6 Montereyx86_644.5.2 Patched (2025-11-05 r88990) -- "[Not] Part in a Rumble" 4654
kjohnson1macOS 13.7.5 Venturaarm644.5.2 Patched (2025-11-04 r88984) -- "[Not] Part in a Rumble" 4600
taishanLinux (openEuler 24.03 LTS)aarch644.5.0 (2025-04-11) -- "How About a Twenty-Six" 4668
Click on any hostname to see more info about the system (e.g. compilers)      (*) as reported by 'uname -p', except on Windows and Mac OS X

Package 1249/2361HostnameOS / ArchINSTALLBUILDCHECKBUILD BIN
metagenomeSeq 1.52.0  (landing page)
Joseph N. Paulson
Snapshot Date: 2025-11-20 15:01 -0500 (Thu, 20 Nov 2025)
git_url: https://git.bioconductor.org/packages/metagenomeSeq
git_branch: RELEASE_3_22
git_last_commit: 4135a42
git_last_commit_date: 2025-10-29 10:14:26 -0500 (Wed, 29 Oct 2025)
nebbiolo2Linux (Ubuntu 24.04.3 LTS) / x86_64  OK    OK    OK  UNNEEDED, same version is already published
merida1macOS 12.7.6 Monterey / x86_64  OK    OK    OK    OK  UNNEEDED, same version is already published
kjohnson1macOS 13.7.5 Ventura / arm64  OK    OK    OK    OK  UNNEEDED, same version is already published
taishanLinux (openEuler 24.03 LTS) / aarch64  OK    OK    OK  


CHECK results for metagenomeSeq on taishan

To the developers/maintainers of the metagenomeSeq package:
- Allow up to 24 hours (and sometimes 48 hours) for your latest push to git@git.bioconductor.org:packages/metagenomeSeq.git to reflect on this report. See Troubleshooting Build Report for more information.
- Use the following Renviron settings to reproduce errors and warnings.
- If 'R CMD check' started to fail recently on the Linux builder(s) over a missing dependency, add the missing dependency to 'Suggests:' in your DESCRIPTION file. See Renviron.bioc for more information.
- See Martin Grigorov's blog post for how to debug Linux ARM64 related issues on a x86_64 host.

raw results


Summary

Package: metagenomeSeq
Version: 1.52.0
Command: /home/biocbuild/R/R/bin/R CMD check --install=check:metagenomeSeq.install-out.txt --library=/home/biocbuild/R/R/site-library --no-vignettes --timings metagenomeSeq_1.52.0.tar.gz
StartedAt: 2025-11-21 12:36:36 -0000 (Fri, 21 Nov 2025)
EndedAt: 2025-11-21 12:41:42 -0000 (Fri, 21 Nov 2025)
EllapsedTime: 306.2 seconds
RetCode: 0
Status:   OK  
CheckDir: metagenomeSeq.Rcheck
Warnings: 0

Command output

##############################################################################
##############################################################################
###
### Running command:
###
###   /home/biocbuild/R/R/bin/R CMD check --install=check:metagenomeSeq.install-out.txt --library=/home/biocbuild/R/R/site-library --no-vignettes --timings metagenomeSeq_1.52.0.tar.gz
###
##############################################################################
##############################################################################


* using log directory ‘/home/biocbuild/bbs-3.22-bioc/meat/metagenomeSeq.Rcheck’
* using R version 4.5.0 (2025-04-11)
* using platform: aarch64-unknown-linux-gnu
* R was compiled by
    aarch64-unknown-linux-gnu-gcc (GCC) 14.2.0
    GNU Fortran (GCC) 14.2.0
* running under: openEuler 24.03 (LTS)
* using session charset: UTF-8
* using option ‘--no-vignettes’
* checking for file ‘metagenomeSeq/DESCRIPTION’ ... OK
* this is package ‘metagenomeSeq’ version ‘1.52.0’
* checking package namespace information ... OK
* checking package dependencies ... OK
* checking if this is a source package ... OK
* checking if there is a namespace ... OK
* checking for hidden files and directories ... OK
* checking for portable file names ... OK
* checking for sufficient/correct file permissions ... OK
* checking whether package ‘metagenomeSeq’ can be installed ... OK
* checking installed package size ... OK
* checking package directory ... OK
* checking ‘build’ directory ... OK
* checking DESCRIPTION meta-information ... OK
* checking top-level files ... OK
* checking for left-over files ... OK
* checking index information ... OK
* checking package subdirectories ... OK
* checking code files for non-ASCII characters ... OK
* checking R files for syntax errors ... OK
* checking whether the package can be loaded ... OK
* checking whether the package can be loaded with stated dependencies ... OK
* checking whether the package can be unloaded cleanly ... OK
* checking whether the namespace can be loaded with stated dependencies ... OK
* checking whether the namespace can be unloaded cleanly ... OK
* checking loading without being on the library search path ... OK
* checking dependencies in R code ... OK
* checking S3 generic/method consistency ... OK
* checking replacement functions ... OK
* checking foreign function calls ... OK
* checking R code for possible problems ... OK
* checking Rd files ... OK
* checking Rd metadata ... OK
* checking Rd cross-references ... OK
* checking for missing documentation entries ... OK
* checking for code/documentation mismatches ... OK
* checking Rd \usage sections ... OK
* checking Rd contents ... OK
* checking for unstated dependencies in examples ... OK
* checking contents of ‘data’ directory ... OK
* checking data for non-ASCII characters ... OK
* checking data for ASCII and uncompressed saves ... OK
* checking files in ‘vignettes’ ... OK
* checking examples ... OK
Examples with CPU (user + system) or elapsed time > 5s
              user system elapsed
wrenchNorm  16.641  0.190  16.885
MRfulltable  1.263  0.011   6.470
* checking for unstated dependencies in ‘tests’ ... OK
* checking tests ...
  Running ‘testthat.R’
 OK
* checking for unstated dependencies in vignettes ... OK
* checking package vignettes ... OK
* checking running R code from vignettes ... SKIPPED
* checking re-building of vignette outputs ... SKIPPED
* checking PDF version of manual ... OK
* DONE

Status: OK


Installation output

metagenomeSeq.Rcheck/00install.out

##############################################################################
##############################################################################
###
### Running command:
###
###   /home/biocbuild/R/R/bin/R CMD INSTALL metagenomeSeq
###
##############################################################################
##############################################################################


* installing to library ‘/home/biocbuild/R/R-4.5.0/site-library’
* installing *source* package ‘metagenomeSeq’ ...
** this is package ‘metagenomeSeq’ version ‘1.52.0’
** using staged installation
** R
** data
** inst
** byte-compile and prepare package for lazy loading
in method for ‘MRihw’ with signature ‘"fitFeatureModelResults"’: no definition for class “fitFeatureModelResults”
in method for ‘MRihw’ with signature ‘"fitZigResults"’: no definition for class “fitZigResults”
** help
*** installing help indices
** building package indices
** installing vignettes
** testing if installed package can be loaded from temporary location
** testing if installed package can be loaded from final location
** testing if installed package keeps a record of temporary installation path
* DONE (metagenomeSeq)

Tests output

metagenomeSeq.Rcheck/tests/testthat.Rout


R version 4.5.0 (2025-04-11) -- "How About a Twenty-Six"
Copyright (C) 2025 The R Foundation for Statistical Computing
Platform: aarch64-unknown-linux-gnu

R is free software and comes with ABSOLUTELY NO WARRANTY.
You are welcome to redistribute it under certain conditions.
Type 'license()' or 'licence()' for distribution details.

R is a collaborative project with many contributors.
Type 'contributors()' for more information and
'citation()' on how to cite R or R packages in publications.

Type 'demo()' for some demos, 'help()' for on-line help, or
'help.start()' for an HTML browser interface to help.
Type 'q()' to quit R.

> library("testthat")
> packageVersion("metagenomeSeq")
[1] '1.52.0'
> # As suggested for opt-out option on testing by users, 
> # recommended by CRAN: http://adv-r.had.co.nz/Testing.html
> # Previously, best practice was to put all test files in inst/tests 
> # and ensure that R CMD check ran them by putting the following code in tests/test-all.R:  
> # >library(testthat)
> # >library(yourpackage)
> # >test_package("yourpackage")
> # Now, recommended practice is to put your tests in tests/testthat, 
> # and ensure R CMD check runs them by putting the following code in tests/test-all.R:
> # >library(testthat)
> # >test_check("yourpackage")
> # The advantage of this new structure is that the user has control over whether or not tests are installed using the –install-tests parameter to 
> # R CMD install, or INSTALL_opts = c(“–install-tests”) argument to install.packages(). I’m not sure why you wouldn’t want to install the tests, 
> # but now you have the flexibility as requested by CRAN maintainers.
> test_check("metagenomeSeq")
Loading required package: metagenomeSeq
Loading required package: Biobase
Loading required package: BiocGenerics
Loading required package: generics

Attaching package: 'generics'

The following objects are masked from 'package:base':

    as.difftime, as.factor, as.ordered, intersect, is.element, setdiff,
    setequal, union


Attaching package: 'BiocGenerics'

The following objects are masked from 'package:stats':

    IQR, mad, sd, var, xtabs

The following objects are masked from 'package:base':

    Filter, Find, Map, Position, Reduce, anyDuplicated, aperm, append,
    as.data.frame, basename, cbind, colnames, dirname, do.call,
    duplicated, eval, evalq, get, grep, grepl, is.unsorted, lapply,
    mapply, match, mget, order, paste, pmax, pmax.int, pmin, pmin.int,
    rank, rbind, rownames, sapply, saveRDS, table, tapply, unique,
    unsplit, which.max, which.min

Welcome to Bioconductor

    Vignettes contain introductory material; view with
    'browseVignettes()'. To cite Bioconductor, see
    'citation("Biobase")', and for packages 'citation("pkgname")'.

Loading required package: limma

Attaching package: 'limma'

The following object is masked from 'package:BiocGenerics':

    plotMA

Loading required package: glmnet
Loading required package: Matrix
Loaded glmnet 4.1-10
Loading required package: RColorBrewer
[ FAIL 0 | WARN 6 | SKIP 0 | PASS 15 ]

[ FAIL 0 | WARN 6 | SKIP 0 | PASS 15 ]
> 
> proc.time()
   user  system elapsed 
109.465   1.627 111.373 

Example timings

metagenomeSeq.Rcheck/metagenomeSeq-Ex.timings

nameusersystemelapsed
MRcoefs1.4270.0161.447
MRcounts0.4740.0120.487
MRexperiment-class000
MRfulltable1.2630.0116.470
MRtable1.3150.1751.494
aggregateBySample0.1420.0240.166
aggregateByTaxonomy0.1880.0030.193
biom2MRexperiment0.2760.0310.310
calcNormFactors0.6720.1160.790
correctIndices0.1030.0040.107
correlationTest0.2120.0080.221
cumNorm0.5220.0040.527
cumNormMat0.5470.0040.553
cumNormStat0.7740.0000.776
cumNormStatFast0.3310.0030.335
expSummary0.0940.0000.094
exportMat0.9400.4471.389
exportStats0.4630.0000.465
extractMR0.5540.2200.775
filterData0.2060.0040.210
fitDO0.4240.0033.595
fitFeatureModel1.3670.0721.443
fitLogNormal2.0000.0722.078
fitMultipleTimeSeries2.0580.0122.076
fitPA0.4310.0003.273
fitSSTimeSeries0.4580.0000.471
fitTimeSeries0.4270.0040.433
fitZig2.0550.0002.061
libSize-set0.3160.0080.326
libSize0.3140.0000.315
loadBiom0.0550.0000.055
loadMeta0.0190.0040.025
loadMetaQ000
loadPhenoData0.0120.0000.012
makeLabels0.0010.0000.000
mergeMRexperiments1.5760.0481.628
newMRexperiment0.0420.0000.042
normFactors-set0.3230.0000.324
normFactors0.2840.0000.285
plotBubble0.3020.0003.095
plotClassTimeSeries1.0910.1201.215
plotCorr0.7220.0750.799
plotFeature0.1480.0080.155
plotGenus0.1210.0200.142
plotMRheatmap2.5720.0522.632
plotOTU0.140.000.14
plotOrd0.2300.0080.239
plotRare0.1350.0080.144
plotTimeSeries1.0350.0001.039
posteriorProbs1.9990.0402.044
returnAppropriateObj0.2750.0020.277
ssFit0.0000.0000.001
ssIntervalCandidate000
ssPerm000
ssPermAnalysis000
trapz0.0010.0000.000
ts2MRexperiment1.8330.0041.842
uniqueFeatures0.1120.0000.112
wrenchNorm16.641 0.19016.885
zigControl000