| Back to Multiple platform build/check report for BioC 3.22: simplified long |
|
This page was generated on 2025-10-25 12:03 -0400 (Sat, 25 Oct 2025).
| Hostname | OS | Arch (*) | R version | Installed pkgs |
|---|---|---|---|---|
| nebbiolo2 | Linux (Ubuntu 24.04.3 LTS) | x86_64 | 4.5.1 Patched (2025-08-23 r88802) -- "Great Square Root" | 4901 |
| lconway | macOS 12.7.6 Monterey | x86_64 | 4.5.1 Patched (2025-09-10 r88807) -- "Great Square Root" | 4691 |
| kjohnson3 | macOS 13.7.7 Ventura | arm64 | 4.5.1 Patched (2025-09-10 r88807) -- "Great Square Root" | 4637 |
| taishan | Linux (openEuler 24.03 LTS) | aarch64 | 4.5.0 (2025-04-11) -- "How About a Twenty-Six" | 4658 |
| Click on any hostname to see more info about the system (e.g. compilers) (*) as reported by 'uname -p', except on Windows and Mac OS X | ||||
| Package 1238/2361 | Hostname | OS / Arch | INSTALL | BUILD | CHECK | BUILD BIN | ||||||||
| metabinR 1.11.0 (landing page) Anestis Gkanogiannis
| nebbiolo2 | Linux (Ubuntu 24.04.3 LTS) / x86_64 | OK | OK | OK | |||||||||
| lconway | macOS 12.7.6 Monterey / x86_64 | OK | OK | OK | OK | |||||||||
| kjohnson3 | macOS 13.7.7 Ventura / arm64 | OK | OK | OK | OK | |||||||||
| taishan | Linux (openEuler 24.03 LTS) / aarch64 | OK | NA | NA | ||||||||||
|
To the developers/maintainers of the metabinR package: - Allow up to 24 hours (and sometimes 48 hours) for your latest push to git@git.bioconductor.org:packages/metabinR.git to reflect on this report. See Troubleshooting Build Report for more information. - Use the following Renviron settings to reproduce errors and warnings. - If 'R CMD check' started to fail recently on the Linux builder(s) over a missing dependency, add the missing dependency to 'Suggests:' in your DESCRIPTION file. See Renviron.bioc for more information. |
| Package: metabinR |
| Version: 1.11.0 |
| Command: /home/biocbuild/bbs-3.22-bioc/R/bin/R CMD check --install=check:metabinR.install-out.txt --library=/home/biocbuild/bbs-3.22-bioc/R/site-library --timings metabinR_1.11.0.tar.gz |
| StartedAt: 2025-10-25 01:17:11 -0400 (Sat, 25 Oct 2025) |
| EndedAt: 2025-10-25 01:18:42 -0400 (Sat, 25 Oct 2025) |
| EllapsedTime: 91.1 seconds |
| RetCode: 0 |
| Status: OK |
| CheckDir: metabinR.Rcheck |
| Warnings: 0 |
##############################################################################
##############################################################################
###
### Running command:
###
### /home/biocbuild/bbs-3.22-bioc/R/bin/R CMD check --install=check:metabinR.install-out.txt --library=/home/biocbuild/bbs-3.22-bioc/R/site-library --timings metabinR_1.11.0.tar.gz
###
##############################################################################
##############################################################################
* using log directory ‘/home/biocbuild/bbs-3.22-bioc/meat/metabinR.Rcheck’
* using R version 4.5.1 Patched (2025-08-23 r88802)
* using platform: x86_64-pc-linux-gnu
* R was compiled by
gcc (Ubuntu 13.3.0-6ubuntu2~24.04) 13.3.0
GNU Fortran (Ubuntu 13.3.0-6ubuntu2~24.04) 13.3.0
* running under: Ubuntu 24.04.3 LTS
* using session charset: UTF-8
* checking for file ‘metabinR/DESCRIPTION’ ... OK
* checking extension type ... Package
* this is package ‘metabinR’ version ‘1.11.0’
* package encoding: UTF-8
* checking package namespace information ... OK
* checking package dependencies ... OK
* checking if this is a source package ... OK
* checking if there is a namespace ... OK
* checking for hidden files and directories ... OK
* checking for portable file names ... OK
* checking for sufficient/correct file permissions ... OK
* checking whether package ‘metabinR’ can be installed ... OK
* checking installed package size ... OK
* checking package directory ... OK
* checking ‘build’ directory ... OK
* checking DESCRIPTION meta-information ... OK
* checking top-level files ... OK
* checking for left-over files ... OK
* checking index information ... OK
* checking package subdirectories ... OK
* checking code files for non-ASCII characters ... OK
* checking R files for syntax errors ... OK
* checking whether the package can be loaded ... OK
* checking whether the package can be loaded with stated dependencies ... OK
* checking whether the package can be unloaded cleanly ... OK
* checking whether the namespace can be loaded with stated dependencies ... OK
* checking whether the namespace can be unloaded cleanly ... OK
* checking loading without being on the library search path ... OK
* checking whether startup messages can be suppressed ... OK
* checking dependencies in R code ... OK
* checking S3 generic/method consistency ... OK
* checking replacement functions ... OK
* checking foreign function calls ... OK
* checking R code for possible problems ... OK
* checking Rd files ... OK
* checking Rd metadata ... OK
* checking Rd cross-references ... OK
* checking for missing documentation entries ... OK
* checking for code/documentation mismatches ... OK
* checking Rd \usage sections ... OK
* checking Rd contents ... OK
* checking for unstated dependencies in examples ... OK
* checking files in ‘vignettes’ ... OK
* checking examples ... OK
Examples with CPU (user + system) or elapsed time > 5s
user system elapsed
abundance_based_binning 7.707 0.778 5.344
composition_based_binning 5.664 0.269 1.672
* checking for unstated dependencies in ‘tests’ ... OK
* checking tests ...
Running ‘spelling.R’
Running ‘testthat.R’
OK
* checking for unstated dependencies in vignettes ... OK
* checking package vignettes ... OK
* checking re-building of vignette outputs ... OK
* checking PDF version of manual ... OK
* DONE
Status: OK
metabinR.Rcheck/00install.out
############################################################################## ############################################################################## ### ### Running command: ### ### /home/biocbuild/bbs-3.22-bioc/R/bin/R CMD INSTALL metabinR ### ############################################################################## ############################################################################## * installing to library ‘/home/biocbuild/bbs-3.22-bioc/R/site-library’ * installing *source* package ‘metabinR’ ... ** this is package ‘metabinR’ version ‘1.11.0’ ** using staged installation ** R ** inst ** byte-compile and prepare package for lazy loading ** help *** installing help indices ** building package indices ** installing vignettes ** testing if installed package can be loaded from temporary location ** testing if installed package can be loaded from final location ** testing if installed package keeps a record of temporary installation path * DONE (metabinR)
metabinR.Rcheck/tests/spelling.Rout
R version 4.5.1 Patched (2025-08-23 r88802) -- "Great Square Root"
Copyright (C) 2025 The R Foundation for Statistical Computing
Platform: x86_64-pc-linux-gnu
R is free software and comes with ABSOLUTELY NO WARRANTY.
You are welcome to redistribute it under certain conditions.
Type 'license()' or 'licence()' for distribution details.
R is a collaborative project with many contributors.
Type 'contributors()' for more information and
'citation()' on how to cite R or R packages in publications.
Type 'demo()' for some demos, 'help()' for on-line help, or
'help.start()' for an HTML browser interface to help.
Type 'q()' to quit R.
> if(requireNamespace('spelling', quietly = TRUE))
+ spelling::spell_check_test(vignettes = TRUE, error = FALSE,
+ skip_on_cran = TRUE)
All Done!
>
> proc.time()
user system elapsed
0.139 0.035 0.163
metabinR.Rcheck/tests/testthat.Rout
R version 4.5.1 Patched (2025-08-23 r88802) -- "Great Square Root"
Copyright (C) 2025 The R Foundation for Statistical Computing
Platform: x86_64-pc-linux-gnu
R is free software and comes with ABSOLUTELY NO WARRANTY.
You are welcome to redistribute it under certain conditions.
Type 'license()' or 'licence()' for distribution details.
R is a collaborative project with many contributors.
Type 'contributors()' for more information and
'citation()' on how to cite R or R packages in publications.
Type 'demo()' for some demos, 'help()' for on-line help, or
'help.start()' for an HTML browser interface to help.
Type 'q()' to quit R.
> library(testthat)
> library(metabinR)
>
> test_check("metabinR")
version MTxAB =Fri Oct 24 15:13:49 EDT 2025
cpus=72
using=1
2025/10/25 01:17:41 Using Dictionary ORIGINAL
2025/10/25 01:17:41 START of AB Counting
2025/10/25 01:17:41 FastaManager: START READ
2025/10/25 01:17:41 SequenceProcessor: 0 AB_KMERCOUNT START
CHUNK_SIZE=67108864
2025/10/25 01:17:41 FastaManager: lines read 53328
2025/10/25 01:17:42 FastaManager: END READ
2025/10/25 01:17:42 FastaManager: FASTA
2025/10/25 01:17:43 SequenceProcessor: 0 AB_KMERCOUNT EXIT
2025/10/25 01:17:43 END of AB Counting
2025/10/25 01:17:43 Loaded sequences: 26664
2025/10/25 01:17:43 Total kmers(before remove): 65536
##### Heap utilization statistics [GB] #####
Max Memory=0.5
Current Total Memory=0.5
Current Used Memory=0.293
Current Free Memory=0.207
############################################
2025/10/25 01:17:43
Unique: 0
Distinct: 65536
Total: 7625904
MaxCount: 1574
2025/10/25 01:17:43 START of EMsync
Run=1
Run=2
Run=3
Run=4
Run=5
Run=6
Run=7
Run=8
Run=9
Run=10
Run=11
Run=12
Run=13
Run=14
Run=15
Run=16
Run=17
Run=18
Run=19
Run=20
Run=21
Run=22
Run=23
Run=24
Run=25
2025/10/25 01:17:43 Runs=25
2025/10/25 01:17:43 END of EMsync
2025/10/25 01:17:43 START of Creating AB Cluster Vectors
Cluster 1 Abundance=241.01134335779187 Length=16168.173737759438 LowLimit=163 HighLimit=318
Cluster 2 Abundance=75.53888858729701 Length=49367.826262240575 LowLimit=32 HighLimit=118
2025/10/25 01:17:43 Trove size/4=18022
2025/10/25 01:17:43 Trove size/4=18022
2025/10/25 01:17:43 Cluster 2 size in kmers=65536 norm=221.81983091435748
2025/10/25 01:17:43 Cluster 1 size in kmers=65536 norm=126.5058948513796
2025/10/25 01:17:43 END of Creating AB Cluster Vectors
cpus=72
using=1
2025/10/25 01:17:43 START of AB Binning
2025/10/25 01:17:43 FastaManager: START READ
2025/10/25 01:17:43 SequenceProcessor: 0 AB_BINNING START
2025/10/25 01:17:43 FastaManager: lines read 53328
2025/10/25 01:17:43 FastaManager: END READ
2025/10/25 01:17:43 FastaManager: FASTA
2025/10/25 01:17:45 SequenceProcessor: 0 AB_BINNING EXIT
2025/10/25 01:17:45 END of AB Binning
Clustered reads:
AB Cluster 1: 19871
AB Cluster 2: 6793
##### Heap utilization statistics [GB] #####
Max Memory=0.5
Current Total Memory=0.5
Current Used Memory=0.376
Current Free Memory=0.124
############################################
version MTxCB =Fri Oct 24 15:13:49 EDT 2025
cpus=72
using=1
2025/10/25 01:17:46 START of CB Counting
2025/10/25 01:17:46 FastaManager: START READ
2025/10/25 01:17:46 SequenceProcessor: 0 CB_SEQUENCEVECTORBUILD START
2025/10/25 01:17:46 FastaManager: lines read 53328
2025/10/25 01:17:46 FastaManager: END READ
2025/10/25 01:17:46 FastaManager: FASTA
2025/10/25 01:17:46 SequenceProcessor: 0 CB_SEQUENCEVECTORBUILD EXIT
2025/10/25 01:17:46 END of CB Counting
2025/10/25 01:17:46 Loaded sequences: 26664
##### Heap utilization statistics [GB] #####
Max Memory=0.5
Current Total Memory=0.5
Current Used Memory=0.383
Current Free Memory=0.117
############################################
cpus=72
using=1
2025/10/25 01:17:46 START of Creating CB Clusters Size=26664
K-Means clustering started
... centers initialized
... concurrent processing mode with 1 subtask threads
... iteration 1 moves = 1893
... iteration 2 moves = 369
... iteration 3 moves = 182
... iteration 4 moves = 116
... iteration 5 moves = 70
... iteration 6 moves = 47
... iteration 7 moves = 35
... iteration 8 moves = 33
... iteration 9 moves = 20
... iteration 10 moves = 10
... iteration 11 moves = 12
... iteration 12 moves = 9
... iteration 13 moves = 8
... iteration 14 moves = 10
... iteration 15 moves = 8
... iteration 16 moves = 5
... iteration 17 moves = 1
... iteration 18 moves = 0
...end. 5.19 seconds.
2025/10/25 01:17:52 : kMeans cleanup.
2025/10/25 01:17:52 END of Creating CB Clusters.
cpus=72
using=1
2025/10/25 01:17:52 START of CB Binning
2025/10/25 01:17:52 FastaManager: START READ
2025/10/25 01:17:52 SequenceProcessor: 0 CB_BINNING START
2025/10/25 01:17:52 FastaManager: lines read 53328
2025/10/25 01:17:52 FastaManager: END READ
2025/10/25 01:17:52 FastaManager: FASTA
2025/10/25 01:17:52 SequenceProcessor: 0 CB_BINNING EXIT
Clustered reads:
CB Cluster 1: 17373
CB Cluster 2: 9291
##### Heap utilization statistics [GB] #####
Max Memory=0.5
Current Total Memory=0.5
Current Used Memory=0.473
Current Free Memory=0.027
############################################
version MTxABxCB =Fri Oct 24 15:13:49 EDT 2025
cpus=72
using=1
2025/10/25 01:17:52 Using Dictionary ORIGINAL
2025/10/25 01:17:52 START of AB Counting
2025/10/25 01:17:52 FastaManager: START READ
2025/10/25 01:17:52 SequenceProcessor: 0 AB_KMERCOUNT START
2025/10/25 01:17:52 FastaManager: lines read 53328
2025/10/25 01:17:52 FastaManager: END READ
2025/10/25 01:17:52 FastaManager: FASTA
2025/10/25 01:17:53 SequenceProcessor: 0 AB_KMERCOUNT EXIT
2025/10/25 01:17:53 END of AB Counting
2025/10/25 01:17:53 Loaded sequences: 26664
2025/10/25 01:17:53 Distinct kmers(before remove): 65536
##### Heap utilization statistics [GB] #####
Max Memory=0.5
Current Total Memory=0.5
Current Used Memory=0.308
Current Free Memory=0.192
############################################
2025/10/25 01:17:53
Unique: 0
Distinct: 65536
Total: 7625904
MaxCount: 1574
2025/10/25 01:17:53 START of EMsync
Run=1
Run=2
Run=3
Run=4
Run=5
Run=6
Run=7
Run=8
Run=9
Run=10
Run=11
Run=12
Run=13
Run=14
Run=15
Run=16
Run=17
Run=18
Run=19
Run=20
Run=21
Run=22
Run=23
Run=24
Run=25
2025/10/25 01:17:53 Runs=25
2025/10/25 01:17:53 END of EMsync
2025/10/25 01:17:53 Filter before=2
2025/10/25 01:17:53 Filter after=2
2025/10/25 01:17:53 START of Creating AB Cluster Vectors
Cluster 1 Abundance=241.01134335779187 Length=16168.173737759438 LowLimit=163 HighLimit=318
Cluster 2 Abundance=75.53888858729701 Length=49367.826262240575 LowLimit=32 HighLimit=118
2025/10/25 01:17:53 Trove size/4=18022
2025/10/25 01:17:53 Trove size/4=18022
2025/10/25 01:17:53 Cluster 1 size in kmers=65536 norm=126.5058948513796
2025/10/25 01:17:53 Cluster 2 size in kmers=65536 norm=221.81983091435748
2025/10/25 01:17:53 END of Creating AB Cluster Vectors
cpus=72
using=1
2025/10/25 01:17:53 START of AB Binning
2025/10/25 01:17:53 FastaManager: START READ
2025/10/25 01:17:53 SequenceProcessor: 0 AB_BINNING START
2025/10/25 01:17:54 FastaManager: lines read 53328
2025/10/25 01:17:54 FastaManager: END READ
2025/10/25 01:17:54 FastaManager: FASTA
2025/10/25 01:17:55 SequenceProcessor: 0 AB_BINNING EXIT
2025/10/25 01:17:55 END of AB Binning
cpus=72
using=1
2025/10/25 01:17:55 START of CB Counting
2025/10/25 01:17:55 FastaManager: START READ
2025/10/25 01:17:55 SequenceProcessor: 0 CB_SEQUENCEVECTORBUILD START
2025/10/25 01:17:56 FastaManager: lines read 53328
2025/10/25 01:17:56 FastaManager: END READ
2025/10/25 01:17:56 FastaManager: FASTA
2025/10/25 01:17:56 SequenceProcessor: 0 CB_SEQUENCEVECTORBUILD EXIT
2025/10/25 01:17:56 END of CB Counting
2025/10/25 01:17:56 Loaded sequences: 26664
##### Heap utilization statistics [GB] #####
Max Memory=0.5
Current Total Memory=0.475
Current Used Memory=0.287
Current Free Memory=0.188
############################################
2025/10/25 01:17:56 AB Cluster=1 Size=19871
2025/10/25 01:17:56 AB Cluster=2 Size=6793
cpus=72
using=1
ABid size abundance EMLength newLength EMspecies newspecies
----- ---- --------- -------- --------- --------- ----------
1 19,871 241.01134 16,168 12,367 1 1
2025/10/25 01:17:56 START of Creating CB Clusters for AB Cluster=1 Size=19871
K-Means clustering started
... centers initialized
... concurrent processing mode with 1 subtask threads
... iteration 1 moves = 0
...end. 2.138 seconds.
2025/10/25 01:17:58 : kMeans cleanup.
2025/10/25 01:17:58 END of Creating CB Clusters for AB Cluster=1
cpus=72
using=1
ABid size abundance EMLength newLength EMspecies newspecies
----- ---- --------- -------- --------- --------- ----------
2 6,793 75.53889 49,367 13,489 1 1
2025/10/25 01:17:58 START of Creating CB Clusters for AB Cluster=2 Size=6793
K-Means clustering started
... centers initialized
... concurrent processing mode with 1 subtask threads
... iteration 1 moves = 0
...end. 0.753 seconds.
2025/10/25 01:17:59 : kMeans cleanup.
2025/10/25 01:17:59 END of Creating CB Clusters for AB Cluster=2
##### Heap utilization statistics [GB] #####
Max Memory=0.5
Current Total Memory=0.475
Current Used Memory=0.305
Current Free Memory=0.17
############################################
cpus=72
using=1
2025/10/25 01:17:59 START of CB Binning
2025/10/25 01:17:59 FastaManager: START READ
2025/10/25 01:17:59 SequenceProcessor: 0 CB_BINNING START
2025/10/25 01:17:59 FastaManager: lines read 53328
2025/10/25 01:17:59 FastaManager: END READ
2025/10/25 01:17:59 FastaManager: FASTA
2025/10/25 01:17:59 SequenceProcessor: 0 CB_BINNING EXIT
Clustered reads:
ABxCB Cluster 1: 19871
ABxCB Cluster 2: 6793
##### Heap utilization statistics [GB] #####
Max Memory=0.5
Current Total Memory=0.496
Current Used Memory=0.278
Current Free Memory=0.218
############################################
[ FAIL 0 | WARN 0 | SKIP 0 | PASS 52 ]
>
> proc.time()
user system elapsed
27.962 1.027 19.330
metabinR.Rcheck/metabinR-Ex.timings
| name | user | system | elapsed | |
| abundance_based_binning | 7.707 | 0.778 | 5.344 | |
| composition_based_binning | 5.664 | 0.269 | 1.672 | |
| hierarchical_binning | 4.494 | 0.180 | 2.855 | |