Back to Multiple platform build/check report for BioC 3.22:   simplified   long
ABCDEFGHIJKL[M]NOPQRSTUVWXYZ

This page was generated on 2025-11-10 12:50 -0500 (Mon, 10 Nov 2025).

HostnameOSArch (*)R versionInstalled pkgs
nebbiolo2Linux (Ubuntu 24.04.3 LTS)x86_644.5.1 Patched (2025-08-23 r88802) -- "Great Square Root" 4902
kjohnson3macOS 13.7.7 Venturaarm644.5.1 Patched (2025-09-10 r88807) -- "Great Square Root" 4638
Click on any hostname to see more info about the system (e.g. compilers)      (*) as reported by 'uname -p', except on Windows and Mac OS X

Package 1189/2361HostnameOS / ArchINSTALLBUILDCHECKBUILD BIN
mariner 1.10.0  (landing page)
Eric Davis
Snapshot Date: 2025-11-09 13:45 -0500 (Sun, 09 Nov 2025)
git_url: https://git.bioconductor.org/packages/mariner
git_branch: RELEASE_3_22
git_last_commit: 0e27ac7
git_last_commit_date: 2025-10-29 11:23:11 -0500 (Wed, 29 Oct 2025)
nebbiolo2Linux (Ubuntu 24.04.3 LTS) / x86_64  OK    OK    TIMEOUT  
kjohnson3macOS 13.7.7 Ventura / arm64  OK    OK    OK    OK  UNNEEDED, same version is already published


CHECK results for mariner on nebbiolo2

To the developers/maintainers of the mariner package:
- Allow up to 24 hours (and sometimes 48 hours) for your latest push to git@git.bioconductor.org:packages/mariner.git to reflect on this report. See Troubleshooting Build Report for more information.
- Use the following Renviron settings to reproduce errors and warnings.
- If 'R CMD check' started to fail recently on the Linux builder(s) over a missing dependency, add the missing dependency to 'Suggests:' in your DESCRIPTION file. See Renviron.bioc for more information.

raw results


Summary

Package: mariner
Version: 1.10.0
Command: /home/biocbuild/bbs-3.22-bioc/R/bin/R CMD check --install=check:mariner.install-out.txt --library=/home/biocbuild/bbs-3.22-bioc/R/site-library --timings mariner_1.10.0.tar.gz
StartedAt: 2025-11-10 01:14:29 -0500 (Mon, 10 Nov 2025)
EndedAt: 2025-11-10 01:54:29 -0500 (Mon, 10 Nov 2025)
EllapsedTime: 2400.1 seconds
RetCode: None
Status:   TIMEOUT  
CheckDir: mariner.Rcheck
Warnings: NA

Command output

##############################################################################
##############################################################################
###
### Running command:
###
###   /home/biocbuild/bbs-3.22-bioc/R/bin/R CMD check --install=check:mariner.install-out.txt --library=/home/biocbuild/bbs-3.22-bioc/R/site-library --timings mariner_1.10.0.tar.gz
###
##############################################################################
##############################################################################


* using log directory ‘/home/biocbuild/bbs-3.22-bioc/meat/mariner.Rcheck’
* using R version 4.5.1 Patched (2025-08-23 r88802)
* using platform: x86_64-pc-linux-gnu
* R was compiled by
    gcc (Ubuntu 13.3.0-6ubuntu2~24.04) 13.3.0
    GNU Fortran (Ubuntu 13.3.0-6ubuntu2~24.04) 13.3.0
* running under: Ubuntu 24.04.3 LTS
* using session charset: UTF-8
* checking for file ‘mariner/DESCRIPTION’ ... OK
* checking extension type ... Package
* this is package ‘mariner’ version ‘1.10.0’
* package encoding: UTF-8
* checking package namespace information ... OK
* checking package dependencies ... INFO
Imports includes 26 non-default packages.
Importing from so many packages makes the package vulnerable to any of
them becoming unavailable.  Move as many as possible to Suggests and
use conditionally.
* checking if this is a source package ... OK
* checking if there is a namespace ... OK
* checking for hidden files and directories ... OK
* checking for portable file names ... OK
* checking for sufficient/correct file permissions ... OK
* checking whether package ‘mariner’ can be installed ... OK
* checking installed package size ... OK
* checking package directory ... OK
* checking ‘build’ directory ... OK
* checking DESCRIPTION meta-information ... OK
* checking top-level files ... OK
* checking for left-over files ... OK
* checking index information ... OK
* checking package subdirectories ... OK
* checking code files for non-ASCII characters ... OK
* checking R files for syntax errors ... OK
* checking whether the package can be loaded ... OK
* checking whether the package can be loaded with stated dependencies ... OK
* checking whether the package can be unloaded cleanly ... OK
* checking whether the namespace can be loaded with stated dependencies ... OK
* checking whether the namespace can be unloaded cleanly ... OK
* checking loading without being on the library search path ... OK
* checking dependencies in R code ... NOTE
Unexported objects imported by ':::' calls:
  ‘plotgardener:::check_page’ ‘plotgardener:::convert_page’
  ‘plotgardener:::current_viewports’ ‘plotgardener:::defaultUnits’
  ‘plotgardener:::pgEnv’
  See the note in ?`:::` about the use of this operator.
* checking S3 generic/method consistency ... OK
* checking replacement functions ... OK
* checking foreign function calls ... OK
* checking R code for possible problems ... OK
* checking Rd files ... OK
* checking Rd metadata ... OK
* checking Rd cross-references ... OK
* checking for missing documentation entries ... OK
* checking for code/documentation mismatches ... OK
* checking Rd \usage sections ... OK
* checking Rd contents ... OK
* checking for unstated dependencies in examples ... OK
* checking files in ‘vignettes’ ... OK
* checking examples ... OK
Examples with CPU (user + system) or elapsed time > 5s
                                  user system elapsed
pileupDomains                   10.264  3.794  10.863
adjustEnrichment                10.792  1.077 175.856
CountMatrix-class                9.078  0.923  27.523
calcLoopEnrichment               7.376  1.481  10.020
pileupBoundaries                 7.579  1.181  46.332
pullHicMatrices                  6.795  0.864 118.531
pullHicPixels                    6.883  0.591 108.466
changePixelRes                   6.170  0.962 134.479
aggHicMatrices                   5.487  1.365  89.566
pileupPixels                     4.689  0.963  98.461
selectPixel                      5.394  0.198  71.036
MergedGInteractions-class        4.152  1.226   6.748
InteractionJaggedArray-overlaps  4.053  1.007  63.050
aggMetadata                      4.567  0.465   6.183
counts                           4.340  0.341  20.864
regularize                       4.122  0.357  76.022
path                             3.802  0.341  78.976
mergePairs                       3.597  0.383  73.371
InteractionJaggedArray-class     3.243  0.677  29.438
clusters                         3.494  0.314   9.764
JaggedArray-class                3.388  0.361   5.744
* checking for unstated dependencies in ‘tests’ ... OK
* checking tests ...
  Running ‘testthat.R’

Installation output

mariner.Rcheck/00install.out

##############################################################################
##############################################################################
###
### Running command:
###
###   /home/biocbuild/bbs-3.22-bioc/R/bin/R CMD INSTALL mariner
###
##############################################################################
##############################################################################


* installing to library ‘/home/biocbuild/bbs-3.22-bioc/R/site-library’
* installing *source* package ‘mariner’ ...
** this is package ‘mariner’ version ‘1.10.0’
** using staged installation
** R
** inst
** byte-compile and prepare package for lazy loading
** help
*** installing help indices
*** copying figures
** building package indices
** installing vignettes
** testing if installed package can be loaded from temporary location
** testing if installed package can be loaded from final location
** testing if installed package keeps a record of temporary installation path
* DONE (mariner)

Tests output

mariner.Rcheck/tests/testthat.Rout


R version 4.5.1 Patched (2025-08-23 r88802) -- "Great Square Root"
Copyright (C) 2025 The R Foundation for Statistical Computing
Platform: x86_64-pc-linux-gnu

R is free software and comes with ABSOLUTELY NO WARRANTY.
You are welcome to redistribute it under certain conditions.
Type 'license()' or 'licence()' for distribution details.

R is a collaborative project with many contributors.
Type 'contributors()' for more information and
'citation()' on how to cite R or R packages in publications.

Type 'demo()' for some demos, 'help()' for on-line help, or
'help.start()' for an HTML browser interface to help.
Type 'q()' to quit R.

> library(testthat)
> library(mariner)
> 
> test_check("mariner")
see ?marinerData and browseVignettes('marinerData') for documentation
Error while performing HEAD request.
   Proceeding without cache information.
loading from cache
Error while performing HEAD request.
   Proceeding without cache information.
see ?marinerData and browseVignettes('marinerData') for documentation
Error while performing HEAD request.
   Proceeding without cache information.
loading from cache
Error while performing HEAD request.
   Proceeding without cache information.
see ?marinerData and browseVignettes('marinerData') for documentation
Error while performing HEAD request.
   Proceeding without cache information.
loading from cache
Error while performing HEAD request.
   Proceeding without cache information.
see ?marinerData and browseVignettes('marinerData') for documentation
Error while performing HEAD request.
   Proceeding without cache information.
loading from cache
Error while performing HEAD request.
   Proceeding without cache information.
see ?marinerData and browseVignettes('marinerData') for documentation
Error while performing HEAD request.
   Proceeding without cache information.
loading from cache
see ?marinerData and browseVignettes('marinerData') for documentation
Error while performing HEAD request.
   Proceeding without cache information.
loading from cache
Error while performing HEAD request.
   Proceeding without cache information.
see ?marinerData and browseVignettes('marinerData') for documentation
Error while performing HEAD request.
   Proceeding without cache information.
loading from cache
Error while performing HEAD request.
   Proceeding without cache information.
class: InteractionMatrix 
dim: count matrix with 3 interactions and 2 file(s)
metadata(3): binSize norm matrix
assays(1): counts
rownames: NULL
rowData names(0):
colnames(2): FS WT
colData names(2): files fileNames
type: GInteractions
regions: 4
class: InteractionMatrix 
dim: count matrix with 3 interactions and 2 file(s)
metadata(3): binSize norm matrix
assays(1): counts
rownames: NULL
rowData names(0):
colnames(2): FS WT
colData names(2): files fileNames
type: GInteractions
regions: 4
class: InteractionMatrix 
dim: count matrix with 3 interactions and 2 file(s)
metadata(3): binSize norm matrix
assays(1): counts
rownames: NULL
rowData names(0):
colnames(2): FS WT
colData names(2): files fileNames
type: GInteractions
regions: 4
see ?marinerData and browseVignettes('marinerData') for documentation
Error while performing HEAD request.
   Proceeding without cache information.
loading from cache
Error while performing HEAD request.
   Proceeding without cache information.
see ?marinerData and browseVignettes('marinerData') for documentation
Error while performing HEAD request.
   Proceeding without cache information.
loading from cache
Error while performing HEAD request.
   Proceeding without cache information.
Loading required package: stats4
Loading required package: BiocGenerics
Loading required package: generics

Attaching package: 'generics'

The following objects are masked from 'package:base':

    as.difftime, as.factor, as.ordered, intersect, is.element, setdiff,
    setequal, union


Attaching package: 'BiocGenerics'

The following objects are masked from 'package:stats':

    IQR, mad, sd, var, xtabs

The following objects are masked from 'package:base':

    Filter, Find, Map, Position, Reduce, anyDuplicated, aperm, append,
    as.data.frame, basename, cbind, colnames, dirname, do.call,
    duplicated, eval, evalq, get, grep, grepl, is.unsorted, lapply,
    mapply, match, mget, order, paste, pmax, pmax.int, pmin, pmin.int,
    rank, rbind, rownames, sapply, saveRDS, table, tapply, unique,
    unsplit, which.max, which.min

Loading required package: S4Vectors

Attaching package: 'S4Vectors'

The following object is masked from 'package:utils':

    findMatches

The following objects are masked from 'package:base':

    I, expand.grid, unname

Loading required package: IRanges
Loading required package: Seqinfo
Loading required package: SummarizedExperiment
Loading required package: MatrixGenerics
Loading required package: matrixStats

Attaching package: 'MatrixGenerics'

The following objects are masked from 'package:matrixStats':

    colAlls, colAnyNAs, colAnys, colAvgsPerRowSet, colCollapse,
    colCounts, colCummaxs, colCummins, colCumprods, colCumsums,
    colDiffs, colIQRDiffs, colIQRs, colLogSumExps, colMadDiffs,
    colMads, colMaxs, colMeans2, colMedians, colMins, colOrderStats,
    colProds, colQuantiles, colRanges, colRanks, colSdDiffs, colSds,
    colSums2, colTabulates, colVarDiffs, colVars, colWeightedMads,
    colWeightedMeans, colWeightedMedians, colWeightedSds,
    colWeightedVars, rowAlls, rowAnyNAs, rowAnys, rowAvgsPerColSet,
    rowCollapse, rowCounts, rowCummaxs, rowCummins, rowCumprods,
    rowCumsums, rowDiffs, rowIQRDiffs, rowIQRs, rowLogSumExps,
    rowMadDiffs, rowMads, rowMaxs, rowMeans2, rowMedians, rowMins,
    rowOrderStats, rowProds, rowQuantiles, rowRanges, rowRanks,
    rowSdDiffs, rowSds, rowSums2, rowTabulates, rowVarDiffs, rowVars,
    rowWeightedMads, rowWeightedMeans, rowWeightedMedians,
    rowWeightedSds, rowWeightedVars

Loading required package: Biobase
Welcome to Bioconductor

    Vignettes contain introductory material; view with
    'browseVignettes()'. To cite Bioconductor, see
    'citation("Biobase")', and for packages 'citation("pkgname")'.


Attaching package: 'Biobase'

The following object is masked from 'package:MatrixGenerics':

    rowMedians

The following objects are masked from 'package:matrixStats':

    anyMissing, rowMedians


Attaching package: 'data.table'

The following object is masked from 'package:SummarizedExperiment':

    shift

The following object is masked from 'package:GenomicRanges':

    shift

The following object is masked from 'package:IRanges':

    shift

The following objects are masked from 'package:S4Vectors':

    first, second

see ?marinerData and browseVignettes('marinerData') for documentation
Error while performing HEAD request.
   Proceeding without cache information.
loading from cache
Error while performing HEAD request.
   Proceeding without cache information.
see ?marinerData and browseVignettes('marinerData') for documentation
loading from cache
Error while performing HEAD request.
   Proceeding without cache information.
see ?marinerData and browseVignettes('marinerData') for documentation
Error while performing HEAD request.
   Proceeding without cache information.
loading from cache
Error while performing HEAD request.
   Proceeding without cache information.
see ?marinerData and browseVignettes('marinerData') for documentation
Error while performing HEAD request.
   Proceeding without cache information.
loading from cache
Error while performing HEAD request.
   Proceeding without cache information.
see ?marinerData and browseVignettes('marinerData') for documentation
Error while performing HEAD request.
   Proceeding without cache information.
loading from cache
Error while performing HEAD request.
   Proceeding without cache information.
see ?marinerData and browseVignettes('marinerData') for documentation
Error while performing HEAD request.
   Proceeding without cache information.
loading from cache
Error while performing HEAD request.
   Proceeding without cache information.
see ?marinerData and browseVignettes('marinerData') for documentation
Error while performing HEAD request.
   Proceeding without cache information.
loading from cache
Error while performing HEAD request.
   Proceeding without cache information.
see ?marinerData and browseVignettes('marinerData') for documentation
Error while performing HEAD request.
   Proceeding without cache information.
loading from cache
Error while performing HEAD request.
   Proceeding without cache information.
see ?marinerData and browseVignettes('marinerData') for documentation
Error while performing HEAD request.
   Proceeding without cache information.
loading from cache
Error while performing HEAD request.
   Proceeding without cache information.
see ?marinerData and browseVignettes('marinerData') for documentation
Error while performing HEAD request.
   Proceeding without cache information.
loading from cache
Error while performing HEAD request.
   Proceeding without cache information.
see ?marinerData and browseVignettes('marinerData') for documentation
loading from cache
see ?marinerData and browseVignettes('marinerData') for documentation
loading from cache
see ?marinerData and browseVignettes('marinerData') for documentation
loading from cache
'0' = foreground;
'X' = background;
'*' = both;
'-' = unselected
                                 
 X  X  X  X  -  -  -  -  -  -  - 
 X  X  X  X  -  -  -  -  -  -  - 
 X  X  X  X  -  -  -  -  -  -  - 
 X  X  X  X  -  -  -  -  -  -  - 
 -  -  -  -  -  0  -  -  -  -  - 
 -  -  -  -  0  0  0  -  -  -  - 
 -  -  -  -  -  0  -  -  -  -  - 
 -  -  -  -  -  -  -  X  X  X  X 
 -  -  -  -  -  -  -  X  X  X  X 
 -  -  -  -  -  -  -  X  X  X  X 
 -  -  -  -  -  -  -  X  X  X  X 
/ reading and realizing block 5/5 ... ok
\ processing it ... ok

/ reading and realizing block 1/5 ... ok
\ processing it ... ok
/ reading and realizing block 2/5 ... ok
\ processing it ... ok

/ reading and realizing block 3/5 ... ok
\ processing it ... ok
/ reading and realizing block 4/5 ... ok
\ processing it ... ok

see ?marinerData and browseVignettes('marinerData') for documentation
loading from cache
see ?marinerData and browseVignettes('marinerData') for documentation
loading from cache
see ?marinerData and browseVignettes('marinerData') for documentation
loading from cache
see ?marinerData and browseVignettes('marinerData') for documentation
loading from cache
see ?marinerData and browseVignettes('marinerData') for documentation
loading from cache
see ?marinerData and browseVignettes('marinerData') for documentation
loading from cache
see ?marinerData and browseVignettes('marinerData') for documentation
loading from cache
see ?marinerData and browseVignettes('marinerData') for documentation
loading from cache
see ?marinerData and browseVignettes('marinerData') for documentation
loading from cache
'0' = selected; '- ' = unselected
         
 0  0  0 
 -  -  - 
 0  0  0 
'0' = selected; '- ' = unselected
         
 -  -  - 
 0  0  0 
 -  -  - 
'0' = selected; '- ' = unselected
                           
 -  -  -  -  -  -  -  -  - 
 -  -  -  -  -  -  -  -  - 
 -  0  -  0  -  0  0  0  - 
 -  0  -  0  -  -  0  -  - 
 -  0  0  0  -  -  0  -  - 
 -  0  -  0  -  -  0  -  - 
 -  0  -  0  -  0  0  0  - 
 -  -  -  -  -  -  -  -  - 
 -  -  -  -  -  -  -  -  - 
'0' = selected; '- ' = unselected
                           
 0  0  0  0  0  0  0  0  0 
 0  0  0  0  0  0  0  0  0 
 0  -  0  -  0  -  -  -  0 
 0  -  0  -  0  0  -  0  0 
 0  -  -  -  0  0  -  0  0 
 0  -  0  -  0  0  -  0  0 
 0  -  0  -  0  -  -  -  0 
 0  0  0  0  0  0  0  0  0 
 0  0  0  0  0  0  0  0  0 
'0' = foreground;
'X' = background;
'*' = both;
'-' = unselected
                     
 X  X  X  X  X  X  X 
 X  X  X  X  X  X  X 
 X  X  X  0  X  X  X 
 X  X  0  0  0  X  X 
 X  X  X  0  X  X  X 
 X  X  X  X  X  X  X 
 X  X  X  X  X  X  X 
'0' = foreground;
'X' = background;
'*' = both;
'-' = unselected
                                 
 X  X  X  X  -  -  -  -  -  -  - 
 X  X  X  X  -  -  -  -  -  -  - 
 X  X  X  X  -  -  -  -  -  -  - 
 X  X  X  X  -  -  -  -  -  -  - 
 -  -  -  -  -  0  -  -  -  -  - 
 -  -  -  -  0  0  0  -  -  -  - 
 -  -  -  -  -  0  -  -  -  -  - 
 -  -  -  -  -  -  -  X  X  X  X 
 -  -  -  -  -  -  -  X  X  X  X 
 -  -  -  -  -  -  -  X  X  X  X 
 -  -  -  -  -  -  -  X  X  X  X 
/ reading and realizing block 1/5 ... ok
\ processing it ... ok
/ reading and realizing block 2/5 ... ok
\ processing it ... ok

/ reading and realizing block 3/5 ... ok
\ processing it ... ok
/ reading and realizing block 4/5 ... ok
\ processing it ... ok

/ reading and realizing block 5/5 ... ok
\ processing it ... ok

'0' = foreground;
'X' = background;
'*' = both;
'-' = unselected
                                                               
 X  X  X  X  -  -  -  -  -  -  -  -  -  -  -  -  -  -  -  -  - 
 X  X  X  X  -  -  -  -  -  -  -  -  -  -  -  -  -  -  -  -  - 
 X  X  X  X  -  -  -  -  -  -  -  -  -  -  -  -  -  -  -  -  - 
 X  X  X  X  -  -  -  -  -  -  -  -  -  -  -  -  -  -  -  -  - 
 -  -  -  -  -  -  -  -  -  -  -  -  -  -  -  -  -  -  -  -  - 
 -  -  -  -  -  -  -  -  -  -  -  -  -  -  -  -  -  -  -  -  - 
 -  -  -  -  -  -  -  -  -  -  -  -  -  -  -  -  -  -  -  -  - 
 -  -  -  -  -  -  -  -  -  -  -  -  -  -  -  -  -  -  -  -  - 
 -  -  -  -  -  -  -  -  -  -  -  -  -  -  -  -  -  -  -  -  - 
 -  -  -  -  -  -  -  -  -  -  0  -  -  -  -  -  -  -  -  -  - 
 -  -  -  -  -  -  -  -  -  0  0  0  -  -  -  -  -  -  -  -  - 
 -  -  -  -  -  -  -  -  -  -  0  -  -  -  -  -  -  -  -  -  - 
 -  -  -  -  -  -  -  -  -  -  -  -  -  -  -  -  -  -  -  -  - 
 -  -  -  -  -  -  -  -  -  -  -  -  -  -  -  -  -  -  -  -  - 
 -  -  -  -  -  -  -  -  -  -  -  -  -  -  -  -  -  -  -  -  - 
 -  -  -  -  -  -  -  -  -  -  -  -  -  -  -  -  -  -  -  -  - 
 -  -  -  -  -  -  -  -  -  -  -  -  -  -  -  -  -  -  -  -  - 
 -  -  -  -  -  -  -  -  -  -  -  -  -  -  -  -  -  X  X  X  X 
 -  -  -  -  -  -  -  -  -  -  -  -  -  -  -  -  -  X  X  X  X 
 -  -  -  -  -  -  -  -  -  -  -  -  -  -  -  -  -  X  X  X  X 
 -  -  -  -  -  -  -  -  -  -  -  -  -  -  -  -  -  X  X  X  X 
/ reading and realizing block 1/5 ... ok
\ processing it ... ok
/ reading and realizing block 2/5 ... ok
\ processing it ... ok

/ reading and realizing block 3/5 ... ok
\ processing it ... ok
/ reading and realizing block 4/5 ... ok
\ processing it ... ok

/ reading and realizing block 5/5 ... ok
\ processing it ... ok

'0' = foreground;
'X' = background;
'*' = both;
'-' = unselected
                                                               
 X  X  X  X  -  -  -  -  -  -  -  -  -  -  -  -  -  -  -  -  - 
 X  X  X  X  -  -  -  -  -  -  -  -  -  -  -  -  -  -  -  -  - 
 X  X  X  X  -  -  -  -  -  -  -  -  -  -  -  -  -  -  -  -  - 
 X  X  X  X  -  -  -  -  -  -  -  -  -  -  -  -  -  -  -  -  - 
 -  -  -  -  -  -  -  -  -  -  -  -  -  -  -  -  -  -  -  -  - 
 -  -  -  -  -  -  -  -  -  -  -  -  -  -  -  -  -  -  -  -  - 
 -  -  -  -  -  -  -  -  -  -  -  -  -  -  -  -  -  -  -  -  - 
 -  -  -  -  -  -  -  -  -  -  -  -  -  -  -  -  -  -  -  -  - 
 -  -  -  -  -  -  -  -  -  -  -  -  -  -  -  -  -  -  -  -  - 
 -  -  -  -  -  -  -  -  -  -  0  -  -  -  -  -  -  -  -  -  - 
 -  -  -  -  -  -  -  -  -  0  0  0  -  -  -  -  -  -  -  -  - 
 -  -  -  -  -  -  -  -  -  -  0  -  -  -  -  -  -  -  -  -  - 
 -  -  -  -  -  -  -  -  -  -  -  -  -  -  -  -  -  -  -  -  - 
 -  -  -  -  -  -  -  -  -  -  -  -  -  -  -  -  -  -  -  -  - 
 -  -  -  -  -  -  -  -  -  -  -  -  -  -  -  -  -  -  -  -  - 
 -  -  -  -  -  -  -  -  -  -  -  -  -  -  -  -  -  -  -  -  - 
 -  -  -  -  -  -  -  -  -  -  -  -  -  -  -  -  -  -  -  -  - 
 -  -  -  -  -  -  -  -  -  -  -  -  -  -  -  -  -  X  X  X  X 
 -  -  -  -  -  -  -  -  -  -  -  -  -  -  -  -  -  X  X  X  X 
 -  -  -  -  -  -  -  -  -  -  -  -  -  -  -  -  -  X  X  X  X 
 -  -  -  -  -  -  -  -  -  -  -  -  -  -  -  -  -  X  X  X  X 
/ reading and realizing block 1/5 ... ok
\ processing it ... ok
/ reading and realizing block 2/5 ... ok
\ processing it ... ok

/ reading and realizing block 3/5 ... ok
\ processing it ... ok
/ reading and realizing block 4/5 ... ok
\ processing it ... ok

/ reading and realizing block 5/5 ... ok
\ processing it ... ok

'0' = foreground;
'X' = background;
'*' = both;
'-' = unselected
                                                               
 X  X  X  X  -  -  -  -  -  -  -  -  -  -  -  -  -  -  -  -  - 
 X  X  X  X  -  -  -  -  -  -  -  -  -  -  -  -  -  -  -  -  - 
 X  X  X  X  -  -  -  -  -  -  -  -  -  -  -  -  -  -  -  -  - 
 X  X  X  X  -  -  -  -  -  -  -  -  -  -  -  -  -  -  -  -  - 
 -  -  -  -  -  -  -  -  -  -  -  -  -  -  -  -  -  -  -  -  - 
 -  -  -  -  -  -  -  -  -  -  -  -  -  -  -  -  -  -  -  -  - 
 -  -  -  -  -  -  -  -  -  -  -  -  -  -  -  -  -  -  -  -  - 
 -  -  -  -  -  -  -  -  -  -  -  -  -  -  -  -  -  -  -  -  - 
 -  -  -  -  -  -  -  -  -  -  -  -  -  -  -  -  -  -  -  -  - 
 -  -  -  -  -  -  -  -  -  -  0  -  -  -  -  -  -  -  -  -  - 
 -  -  -  -  -  -  -  -  -  0  0  0  -  -  -  -  -  -  -  -  - 
 -  -  -  -  -  -  -  -  -  -  0  -  -  -  -  -  -  -  -  -  - 
 -  -  -  -  -  -  -  -  -  -  -  -  -  -  -  -  -  -  -  -  - 
 -  -  -  -  -  -  -  -  -  -  -  -  -  -  -  -  -  -  -  -  - 
 -  -  -  -  -  -  -  -  -  -  -  -  -  -  -  -  -  -  -  -  - 
 -  -  -  -  -  -  -  -  -  -  -  -  -  -  -  -  -  -  -  -  - 
 -  -  -  -  -  -  -  -  -  -  -  -  -  -  -  -  -  -  -  -  - 
 -  -  -  -  -  -  -  -  -  -  -  -  -  -  -  -  -  X  X  X  X 
 -  -  -  -  -  -  -  -  -  -  -  -  -  -  -  -  -  X  X  X  X 
 -  -  -  -  -  -  -  -  -  -  -  -  -  -  -  -  -  X  X  X  X 
 -  -  -  -  -  -  -  -  -  -  -  -  -  -  -  -  -  X  X  X  X 
/ reading and realizing block 1/5 ... ok
\ processing it ... ok
/ reading and realizing block 2/5 ... ok
\ processing it ... ok

/ reading and realizing block 3/5 ... ok
\ processing it ... ok
/ reading and realizing block 4/5 ... ok
\ processing it ... ok

/ reading and realizing block 5/5 ... ok
\ processing it ... ok

'0' = foreground;
'X' = background;
'*' = both;
'-' = unselected
                                                               
 X  X  X  X  -  -  -  -  -  -  -  -  -  -  -  -  -  -  -  -  - 
 X  X  X  X  -  -  -  -  -  -  -  -  -  -  -  -  -  -  -  -  - 
 X  X  X  X  -  -  -  -  -  -  -  -  -  -  -  -  -  -  -  -  - 
 X  X  X  X  -  -  -  -  -  -  -  -  -  -  -  -  -  -  -  -  - 
 -  -  -  -  -  -  -  -  -  -  -  -  -  -  -  -  -  -  -  -  - 
 -  -  -  -  -  -  -  -  -  -  -  -  -  -  -  -  -  -  -  -  - 
 -  -  -  -  -  -  -  -  -  -  -  -  -  -  -  -  -  -  -  -  - 
 -  -  -  -  -  -  -  -  -  -  -  -  -  -  -  -  -  -  -  -  - 
 -  -  -  -  -  -  -  -  -  -  -  -  -  -  -  -  -  -  -  -  - 
 -  -  -  -  -  -  -  -  -  -  0  -  -  -  -  -  -  -  -  -  - 
 -  -  -  -  -  -  -  -  -  0  0  0  -  -  -  -  -  -  -  -  - 
 -  -  -  -  -  -  -  -  -  -  0  -  -  -  -  -  -  -  -  -  - 
 -  -  -  -  -  -  -  -  -  -  -  -  -  -  -  -  -  -  -  -  - 
 -  -  -  -  -  -  -  -  -  -  -  -  -  -  -  -  -  -  -  -  - 
 -  -  -  -  -  -  -  -  -  -  -  -  -  -  -  -  -  -  -  -  - 
 -  -  -  -  -  -  -  -  -  -  -  -  -  -  -  -  -  -  -  -  - 
 -  -  -  -  -  -  -  -  -  -  -  -  -  -  -  -  -  -  -  -  - 
 -  -  -  -  -  -  -  -  -  -  -  -  -  -  -  -  -  X  X  X  X 
 -  -  -  -  -  -  -  -  -  -  -  -  -  -  -  -  -  X  X  X  X 
 -  -  -  -  -  -  -  -  -  -  -  -  -  -  -  -  -  X  X  X  X 
 -  -  -  -  -  -  -  -  -  -  -  -  -  -  -  -  -  X  X  X  X 
/ reading and realizing block 1/5 ... ok
\ processing it ... ok
/ reading and realizing block 2/5 ... ok
\ processing it ... ok

/ reading and realizing block 3/5 ... ok
\ processing it ... ok
/ reading and realizing block 4/5 ... ok
\ processing it ... ok

/ reading and realizing block 5/5 ... ok
\ processing it ... ok

'0' = foreground;
'X' = background;
'*' = both;
'-' = unselected
                                                               
 X  X  X  X  -  -  -  -  -  -  -  -  -  -  -  -  -  -  -  -  - 
 X  X  X  X  -  -  -  -  -  -  -  -  -  -  -  -  -  -  -  -  - 
 X  X  X  X  -  -  -  -  -  -  -  -  -  -  -  -  -  -  -  -  - 
 X  X  X  X  -  -  -  -  -  -  -  -  -  -  -  -  -  -  -  -  - 
 -  -  -  -  -  -  -  -  -  -  -  -  -  -  -  -  -  -  -  -  - 
 -  -  -  -  -  -  -  -  -  -  -  -  -  -  -  -  -  -  -  -  - 
 -  -  -  -  -  -  -  -  -  -  -  -  -  -  -  -  -  -  -  -  - 
 -  -  -  -  -  -  -  -  -  -  -  -  -  -  -  -  -  -  -  -  - 
 -  -  -  -  -  -  -  -  -  -  -  -  -  -  -  -  -  -  -  -  - 
 -  -  -  -  -  -  -  -  -  -  0  -  -  -  -  -  -  -  -  -  - 
 -  -  -  -  -  -  -  -  -  0  0  0  -  -  -  -  -  -  -  -  - 
 -  -  -  -  -  -  -  -  -  -  0  -  -  -  -  -  -  -  -  -  - 
 -  -  -  -  -  -  -  -  -  -  -  -  -  -  -  -  -  -  -  -  - 
 -  -  -  -  -  -  -  -  -  -  -  -  -  -  -  -  -  -  -  -  - 
 -  -  -  -  -  -  -  -  -  -  -  -  -  -  -  -  -  -  -  -  - 
 -  -  -  -  -  -  -  -  -  -  -  -  -  -  -  -  -  -  -  -  - 
 -  -  -  -  -  -  -  -  -  -  -  -  -  -  -  -  -  -  -  -  - 
 -  -  -  -  -  -  -  -  -  -  -  -  -  -  -  -  -  X  X  X  X 
 -  -  -  -  -  -  -  -  -  -  -  -  -  -  -  -  -  X  X  X  X 
 -  -  -  -  -  -  -  -  -  -  -  -  -  -  -  -  -  X  X  X  X 
 -  -  -  -  -  -  -  -  -  -  -  -  -  -  -  -  -  X  X  X  X 
/ reading and realizing block 1/5 ... ok
\ processing it ... ok
/ reading and realizing block 2/5 ... ok
\ processing it ... ok

/ reading and realizing block 5/5 ... ok
\ processing it ... ok

/ reading and realizing block 3/5 ... ok
\ processing it ... ok
/ reading and realizing block 4/5 ... ok
\ processing it ... ok

'0' = foreground;
'X' = background;
'*' = both;
'-' = unselected
                                                               
 X  X  X  X  -  -  -  -  -  -  -  -  -  -  -  -  -  -  -  -  - 
 X  X  X  X  -  -  -  -  -  -  -  -  -  -  -  -  -  -  -  -  - 
 X  X  X  X  -  -  -  -  -  -  -  -  -  -  -  -  -  -  -  -  - 
 X  X  X  X  -  -  -  -  -  -  -  -  -  -  -  -  -  -  -  -  - 
 -  -  -  -  -  -  -  -  -  -  -  -  -  -  -  -  -  -  -  -  - 
 -  -  -  -  -  -  -  -  -  -  -  -  -  -  -  -  -  -  -  -  - 
 -  -  -  -  -  -  -  -  -  -  -  -  -  -  -  -  -  -  -  -  - 
 -  -  -  -  -  -  -  -  -  -  -  -  -  -  -  -  -  -  -  -  - 
 -  -  -  -  -  -  -  -  -  -  -  -  -  -  -  -  -  -  -  -  - 
 -  -  -  -  -  -  -  -  -  -  0  -  -  -  -  -  -  -  -  -  - 
 -  -  -  -  -  -  -  -  -  0  0  0  -  -  -  -  -  -  -  -  - 
 -  -  -  -  -  -  -  -  -  -  0  -  -  -  -  -  -  -  -  -  - 
 -  -  -  -  -  -  -  -  -  -  -  -  -  -  -  -  -  -  -  -  - 
 -  -  -  -  -  -  -  -  -  -  -  -  -  -  -  -  -  -  -  -  - 
 -  -  -  -  -  -  -  -  -  -  -  -  -  -  -  -  -  -  -  -  - 
 -  -  -  -  -  -  -  -  -  -  -  -  -  -  -  -  -  -  -  -  - 
 -  -  -  -  -  -  -  -  -  -  -  -  -  -  -  -  -  -  -  -  - 
 -  -  -  -  -  -  -  -  -  -  -  -  -  -  -  -  -  X  X  X  X 
 -  -  -  -  -  -  -  -  -  -  -  -  -  -  -  -  -  X  X  X  X 
 -  -  -  -  -  -  -  -  -  -  -  -  -  -  -  -  -  X  X  X  X 
 -  -  -  -  -  -  -  -  -  -  -  -  -  -  -  -  -  X  X  X  X 
/ reading and realizing block 1/5 ... ok
\ processing it ... ok
/ reading and realizing block 2/5 ... ok
\ processing it ... ok

/ reading and realizing block 3/5 ... ok
\ processing it ... ok
/ reading and realizing block 4/5 ... ok
\ processing it ... ok

/ reading and realizing block 5/5 ... ok
\ processing it ... ok

'0' = foreground;
'X' = background;
'*' = both;
'-' = unselected
                                 
 X  X  X  X  -  -  -  -  -  -  - 
 X  X  X  X  -  -  -  -  -  -  - 
 X  X  X  X  -  -  -  -  -  -  - 
 X  X  X  X  -  -  -  -  -  -  - 
 -  -  -  -  -  0  -  -  -  -  - 
 -  -  -  -  0  0  0  -  -  -  - 
 -  -  -  -  -  0  -  -  -  -  - 
 -  -  -  -  -  -  -  X  X  X  X 
 -  -  -  -  -  -  -  X  X  X  X 
 -  -  -  -  -  -  -  X  X  X  X 
 -  -  -  -  -  -  -  X  X  X  X 
/ reading and realizing block 1/5 ... ok
\ processing it ... ok
/ reading and realizing block 2/5 ... ok
\ processing it ... ok

/ reading and realizing block 3/5 ... ok
\ processing it ... ok
/ reading and realizing block 4/5 ... ok
\ processing it ... ok

/ reading and realizing block 5/5 ... ok
\ processing it ... ok

'0' = foreground;
'X' = background;
'*' = both;
'-' = unselected
                                 
 X  X  X  X  -  -  -  -  -  -  - 
 X  X  X  X  -  -  -  -  -  -  - 
 X  X  X  X  -  -  -  -  -  -  - 
 X  X  X  X  -  -  -  -  -  -  - 
 -  -  -  -  -  0  -  -  -  -  - 
 -  -  -  -  0  0  0  -  -  -  - 
 -  -  -  -  -  0  -  -  -  -  - 
 -  -  -  -  -  -  -  X  X  X  X 
 -  -  -  -  -  -  -  X  X  X  X 
 -  -  -  -  -  -  -  X  X  X  X 
 -  -  -  -  -  -  -  X  X  X  X 
/ reading and realizing block 1/5 ... ok
\ processing it ... ok
/ reading and realizing block 2/5 ... ok
\ processing it ... ok

/ reading and realizing block 3/5 ... ok
\ processing it ... ok
/ reading and realizing block 4/5 ... ok
\ processing it ... ok

/ reading and realizing block 5/5 ... ok
\ processing it ... ok

'0' = foreground;
'X' = background;
'*' = both;
'-' = unselected
                                 
 X  X  X  X  -  -  -  -  -  -  - 
 X  X  X  X  -  -  -  -  -  -  - 
 X  X  X  X  -  -  -  -  -  -  - 
 X  X  X  X  -  -  -  -  -  -  - 
 -  -  -  -  -  0  -  -  -  -  - 
 -  -  -  -  0  0  0  -  -  -  - 
 -  -  -  -  -  0  -  -  -  -  - 
 -  -  -  -  -  -  -  X  X  X  X 
 -  -  -  -  -  -  -  X  X  X  X 
 -  -  -  -  -  -  -  X  X  X  X 
 -  -  -  -  -  -  -  X  X  X  X 
/ reading and realizing block 1/5 ... ok
\ processing it ... ok
/ reading and realizing block 2/5 ... ok
\ processing it ... ok

/ reading and realizing block 3/5 ... ok
\ processing it ... ok
/ reading and realizing block 4/5 ... ok
\ processing it ... ok

/ reading and realizing block 5/5 ... ok
\ processing it ... ok

see ?marinerData and browseVignettes('marinerData') for documentation
loading from cache
see ?marinerData and browseVignettes('marinerData') for documentation
loading from cache
see ?marinerData and browseVignettes('marinerData') for documentation
loading from cache
/ Reading and realizing block 1/5 ... OK
\ Processing it ... OK
/ Reading and realizing block 2/5 ... OK
\ Processing it ... OK
/ Reading and realizing block 3/5 ... OK
\ Processing it ... OK
/ Reading and realizing block 4/5 ... OK
\ Processing it ... OK
/ Reading and realizing block 5/5 ... OK
\ Processing it ... OK
/ Reading and realizing block 1/5 ... OK
\ Processing it ... OK
/ Reading and realizing block 2/5 ... OK
\ Processing it ... OK
/ Reading and realizing block 3/5 ... OK
\ Processing it ... OK
/ Reading and realizing block 4/5 ... OK
\ Processing it ... OK
/ Reading and realizing block 5/5 ... OK
\ Processing it ... OK
Loading required package: Matrix

Attaching package: 'Matrix'

The following object is masked from 'package:S4Vectors':

    expand

Loading required package: S4Arrays
Loading required package: abind

Attaching package: 'S4Arrays'

The following object is masked from 'package:abind':

    abind

The following object is masked from 'package:base':

    rowsum

Loading required package: SparseArray

Attaching package: 'DelayedArray'

The following objects are masked from 'package:base':

    apply, scale, sweep

/ Reading and realizing block 1/10 ... OK
\ Processing it ... OK
/ Reading and realizing block 2/10 ... OK
\ Processing it ... OK
/ Reading and realizing block 3/10 ... OK
\ Processing it ... OK
/ Reading and realizing block 4/10 ... OK
\ Processing it ... OK
/ Reading and realizing block 5/10 ... OK
\ Processing it ... OK
/ Reading and realizing block 6/10 ... OK
\ Processing it ... OK
/ Reading and realizing block 7/10 ... OK
\ Processing it ... OK
/ Reading and realizing block 8/10 ... OK
\ Processing it ... OK
/ Reading and realizing block 9/10 ... OK
\ Processing it ... OK
/ Reading and realizing block 10/10 ... OK
\ Processing it ... OK
Loading required package: GenomicFeatures
Loading required package: AnnotationDbi
see ?marinerData and browseVignettes('marinerData') for documentation
loading from cache
see ?marinerData and browseVignettes('marinerData') for documentation
loading from cache
see ?marinerData and browseVignettes('marinerData') for documentation
loading from cache
see ?marinerData and browseVignettes('marinerData') for documentation
loading from cache
see ?marinerData and browseVignettes('marinerData') for documentation
loading from cache
see ?marinerData and browseVignettes('marinerData') for documentation
loading from cache
see ?marinerData and browseVignettes('marinerData') for documentation
Error while performing HEAD request.
   Proceeding without cache information.
loading from cache
see ?marinerData and browseVignettes('marinerData') for documentation
loading from cache
see ?marinerData and browseVignettes('marinerData') for documentation
loading from cache
/ reading and realizing block 1/5 ... ok
\ processing it ... ok
/ reading and realizing block 2/5 ... ok
\ processing it ... ok

/ reading and realizing block 3/5 ... ok
\ processing it ... ok
/ reading and realizing block 4/5 ... ok
\ processing it ... ok

/ reading and realizing block 5/5 ... ok
\ processing it ... ok

/ reading and realizing block 1/5 ... ok
\ processing it ... ok
/ reading and realizing block 2/5 ... ok
\ processing it ... ok

/ reading and realizing block 3/5 ... ok
\ processing it ... ok
/ reading and realizing block 4/5 ... ok
\ processing it ... ok

/ reading and realizing block 5/5 ... ok
\ processing it ... ok

/ reading and realizing block 1/5 ... ok
\ processing it ... ok
/ reading and realizing block 2/5 ... ok
\ processing it ... ok

/ reading and realizing block 3/5 ... ok
\ processing it ... ok
/ reading and realizing block 4/5 ... ok
\ processing it ... ok

/ reading and realizing block 5/5 ... ok
\ processing it ... ok


Attaching package: 'plotgardener'

The following object is masked from 'package:base':

    c

MatrixPlot[MatrixPlot1]
MatrixPlot[MatrixPlot1]
MatrixPlot[MatrixPlot1]
MatrixPlot[MatrixPlot1]
MatrixPlot[MatrixPlot1]
see ?marinerData and browseVignettes('marinerData') for documentation
loading from cache
see ?marinerData and browseVignettes('marinerData') for documentation
loading from cache
see ?marinerData and browseVignettes('marinerData') for documentation
loading from cache
see ?marinerData and browseVignettes('marinerData') for documentation
loading from cache
see ?marinerData and browseVignettes('marinerData') for documentation
loading from cache
see ?marinerData and browseVignettes('marinerData') for documentation
loading from cache
/ Reading and realizing block 1/5 of file 1/2 ... OK
\ Processing it ... OK
/ Reading and realizing block 2/5 of file 1/2 ... OK
\ Processing it ... OK
/ Reading and realizing block 3/5 of file 1/2 ... OK
\ Processing it ... OK
/ Reading and realizing block 4/5 of file 1/2 ... OK
\ Processing it ... OK
/ Reading and realizing block 5/5 of file 1/2 ... OK
\ Processing it ... OK
/ Reading and realizing block 1/5 of file 2/2 ... OK
\ Processing it ... OK
/ Reading and realizing block 2/5 of file 2/2 ... OK
\ Processing it ... OK
/ Reading and realizing block 3/5 of file 2/2 ... OK
\ Processing it ... OK
/ Reading and realizing block 4/5 of file 2/2 ... OK
\ Processing it ... OK
/ Reading and realizing block 5/5 of file 2/2 ... OK
\ Processing it ... OK
/ Reading and realizing block 1/1 of file 1/2 ... OK
\ Processing it ... OK
/ Reading and realizing block 1/1 of file 2/2 ... OK
\ Processing it ... OK
/ Reading and realizing block 1/5 of file 1/2 ... OK
\ Processing it ... OK
/ Reading and realizing block 2/5 of file 1/2 ... OK
\ Processing it ... OK
/ Reading and realizing block 3/5 of file 1/2 ... OK
\ Processing it ... OK
/ Reading and realizing block 4/5 of file 1/2 ... OK
\ Processing it ... OK
/ Reading and realizing block 5/5 of file 1/2 ... OK
\ Processing it ... OK
/ Reading and realizing block 1/5 of file 2/2 ... OK
\ Processing it ... OK
/ Reading and realizing block 2/5 of file 2/2 ... OK
\ Processing it ... OK
/ Reading and realizing block 3/5 of file 2/2 ... OK
\ Processing it ... OK
/ Reading and realizing block 4/5 of file 2/2 ... OK
\ Processing it ... OK
/ Reading and realizing block 5/5 of file 2/2 ... OK
\ Processing it ... OK
/ Reading and realizing block 1/3 of file 1/2 ... OK
\ Processing it ... OK
/ Reading and realizing block 2/3 of file 1/2 ... OK
\ Processing it ... OK
/ Reading and realizing block 3/3 of file 1/2 ... OK
\ Processing it ... OK
/ Reading and realizing block 1/3 of file 2/2 ... OK
\ Processing it ... OK
/ Reading and realizing block 2/3 of file 2/2 ... OK
\ Processing it ... OK
/ Reading and realizing block 3/3 of file 2/2 ... OK
\ Processing it ... OK
/ Reading and realizing block 1/5 of file 1/1 ... OK
\ Processing it ... OK
/ Reading and realizing block 2/5 of file 1/1 ... OK
\ Processing it ... OK
/ Reading and realizing block 3/5 of file 1/1 ... OK
\ Processing it ... OK
/ Reading and realizing block 4/5 of file 1/1 ... OK
\ Processing it ... OK
/ Reading and realizing block 5/5 of file 1/1 ... OK
\ Processing it ... OK
/ Reading and realizing block 1/5 of file 1/2 ... OK
\ Processing it ... OK
/ Reading and realizing block 2/5 of file 1/2 ... OK
\ Processing it ... OK
/ Reading and realizing block 3/5 of file 1/2 ... OK
\ Processing it ... OK
/ Reading and realizing block 4/5 of file 1/2 ... OK
\ Processing it ... OK
/ Reading and realizing block 5/5 of file 1/2 ... OK
\ Processing it ... OK
/ Reading and realizing block 1/5 of file 2/2 ... OK
\ Processing it ... OK
/ Reading and realizing block 2/5 of file 2/2 ... OK
\ Processing it ... OK
/ Reading and realizing block 3/5 of file 2/2 ... OK
\ Processing it ... OK
/ Reading and realizing block 4/5 of file 2/2 ... OK
\ Processing it ... OK
/ Reading and realizing block 5/5 of file 2/2 ... OK
\ Processing it ... OK
/ Reading and realizing block 1/1 of file 1/2 ... OK
\ Processing it ... OK
/ Reading and realizing block 1/1 of file 2/2 ... OK
\ Processing it ... OK
/ Reading and realizing block 1/5 of file 1/2 ... OK
\ Processing it ... OK
/ Reading and realizing block 2/5 of file 1/2 ... OK
\ Processing it ... OK
/ Reading and realizing block 3/5 of file 1/2 ... OK
\ Processing it ... OK
/ Reading and realizing block 4/5 of file 1/2 ... OK
\ Processing it ... OK
/ Reading and realizing block 5/5 of file 1/2 ... OK
\ Processing it ... OK
/ Reading and realizing block 1/5 of file 2/2 ... OK
\ Processing it ... OK
/ Reading and realizing block 2/5 of file 2/2 ... OK
\ Processing it ... OK
/ Reading and realizing block 3/5 of file 2/2 ... OK
\ Processing it ... OK
/ Reading and realizing block 4/5 of file 2/2 ... OK
\ Processing it ... OK
/ Reading and realizing block 5/5 of file 2/2 ... OK
\ Processing it ... OK
/ Reading and realizing block 1/1 of file 1/2 ... OK
\ Processing it ... OK
/ Reading and realizing block 1/1 of file 2/2 ... OK
\ Processing it ... OK
/ Reading and realizing block 1/1 of file 1/2 ... OK
\ Processing it ... OK
/ Reading and realizing block 1/1 of file 2/2 ... OK
\ Processing it ... OK
/ Reading and realizing block 1/1 of file 1/2 ... OK
\ Processing it ... OK
/ Reading and realizing block 1/1 of file 2/2 ... OK
\ Processing it ... OK
/ Reading and realizing block 1/3 of file 1/1 ... OK
\ Processing it ... OK
/ Reading and realizing block 2/3 of file 1/1 ... OK
\ Processing it ... OK
/ Reading and realizing block 3/3 of file 1/1 ... OK
\ Processing it ... OK
/ Reading and realizing block 1/3 of file 1/1 ... OK
\ Processing it ... OK
/ Reading and realizing block 2/3 of file 1/1 ... OK
\ Processing it ... OK
/ Reading and realizing block 3/3 of file 1/1 ... OK
\ Processing it ... OK
/ Reading and realizing block 1/3 of file 1/1 ... OK
\ Processing it ... OK
/ Reading and realizing block 2/3 of file 1/1 ... OK
\ Processing it ... OK
/ Reading and realizing block 3/3 of file 1/1 ... OK
\ Processing it ... OK
see ?marinerData and browseVignettes('marinerData') for documentation
loading from cache
see ?marinerData and browseVignettes('marinerData') for documentation
loading from cache

Attaching package: 'rlang'

The following object is masked from 'package:data.table':

    :=

The following object is masked from 'package:Biobase':

    exprs

The following objects are masked from 'package:testthat':

    is_false, is_null, is_true


Attaching package: 'assertthat'

The following object is masked from 'package:rlang':

    has_name

see ?marinerData and browseVignettes('marinerData') for documentation
loading from cache
see ?marinerData and browseVignettes('marinerData') for documentation
loading from cache
see ?marinerData and browseVignettes('marinerData') for documentation
loading from cache
see ?marinerData and browseVignettes('marinerData') for documentation
loading from cache

Example timings

mariner.Rcheck/mariner-Ex.timings

nameusersystemelapsed
CountMatrix-class 9.078 0.92327.523
GInteractions-accessors0.3150.0260.342
InteractionArray-class0.2190.0080.227
InteractionJaggedArray-class 3.243 0.67729.438
InteractionJaggedArray-overlaps 4.053 1.00763.050
InteractionMatrix-class0.0520.0050.057
JaggedArray-class3.3880.3615.744
MatrixSelection-class0.0100.0010.012
MergedGInteractions-class4.1521.2266.748
adjustEnrichment 10.792 1.077175.856
aggHicMatrices 5.487 1.36589.566
aggMetadata4.5670.4656.183
as_ginteractions0.6900.0040.694
assignToBins0.8280.0070.835
binRanges0.4780.0030.481
calcLoopEnrichment 7.376 1.48110.020
changePixelRes 6.170 0.962134.479
clusters3.4940.3149.764
counts 4.340 0.34120.864
hdf5BlockApply0.5880.0560.644
makeRandomGInteractions1.0860.1171.202
mergePairs 3.597 0.38373.371
path 3.802 0.34178.976
pileupBoundaries 7.579 1.18146.332
pileupDomains10.264 3.79410.863
pileupPixels 4.689 0.96398.461
pixelsToMatrices0.7580.5210.640
plotMatrix0.1920.0410.233
pullHicMatrices 6.795 0.864118.531
pullHicPixels 6.883 0.591108.466
regularize 4.122 0.35776.022
removeShortPairs0.1260.0060.132
selectPixel 5.394 0.19871.036
selection-functions0.0940.0010.095
selectionMethod3.4230.1214.785
sets0.4410.0010.437
shiftRanges0.4200.0020.422
snapToBins1.4440.0061.452
sources3.6360.2504.973