Back to Multiple platform build/check report for BioC 3.22:   simplified   long
ABCDEFGH[I]JKLMNOPQRSTUVWXYZ

This page was generated on 2025-10-29 12:06 -0400 (Wed, 29 Oct 2025).

HostnameOSArch (*)R versionInstalled pkgs
nebbiolo2Linux (Ubuntu 24.04.3 LTS)x86_644.5.1 Patched (2025-08-23 r88802) -- "Great Square Root" 4901
lconwaymacOS 12.7.6 Montereyx86_644.5.1 Patched (2025-09-10 r88807) -- "Great Square Root" 4691
kjohnson3macOS 13.7.7 Venturaarm644.5.1 Patched (2025-09-10 r88807) -- "Great Square Root" 4637
Click on any hostname to see more info about the system (e.g. compilers)      (*) as reported by 'uname -p', except on Windows and Mac OS X

Package 1082/2361HostnameOS / ArchINSTALLBUILDCHECKBUILD BIN
iscream 0.99.10  (landing page)
James Eapen
Snapshot Date: 2025-10-28 13:45 -0400 (Tue, 28 Oct 2025)
git_url: https://git.bioconductor.org/packages/iscream
git_branch: devel
git_last_commit: ab836a6
git_last_commit_date: 2025-10-25 15:34:36 -0400 (Sat, 25 Oct 2025)
nebbiolo2Linux (Ubuntu 24.04.3 LTS) / x86_64  OK    OK    OK  UNNEEDED, same version is already published
lconwaymacOS 12.7.6 Monterey / x86_64  ERROR    ERROR  skippedskipped
kjohnson3macOS 13.7.7 Ventura / arm64  OK    OK    OK    OK  UNNEEDED, same version is already published


INSTALL results for iscream on lconway

To the developers/maintainers of the iscream package:
- Allow up to 24 hours (and sometimes 48 hours) for your latest push to git@git.bioconductor.org:packages/iscream.git to reflect on this report. See Troubleshooting Build Report for more information.
- Use the following Renviron settings to reproduce errors and warnings.
- If 'R CMD check' started to fail recently on the Linux builder(s) over a missing dependency, add the missing dependency to 'Suggests:' in your DESCRIPTION file. See Renviron.bioc for more information.

raw results


Summary

Package: iscream
Version: 0.99.10
Command: /Library/Frameworks/R.framework/Resources/bin/R CMD INSTALL iscream
StartedAt: 2025-10-28 15:15:06 -0400 (Tue, 28 Oct 2025)
EndedAt: 2025-10-28 15:15:36 -0400 (Tue, 28 Oct 2025)
EllapsedTime: 29.3 seconds
RetCode: 1
Status:   ERROR  

Command output

##############################################################################
##############################################################################
###
### Running command:
###
###   /Library/Frameworks/R.framework/Resources/bin/R CMD INSTALL iscream
###
##############################################################################
##############################################################################


* installing to library ‘/Library/Frameworks/R.framework/Versions/4.5-x86_64/Resources/library’
* installing *source* package ‘iscream’ ...
** this is package ‘iscream’ version ‘0.99.10’
** using staged installation
*** Configuring for package installation...
**** Trying pkg-config to use system htslib headers...
     Found pkg-config cflags and libs for htslib!
**** Using clang
     Apple clang version 14.0.0 (clang-1400.0.29.202)
     Target: x86_64-apple-darwin21.6.0
     Thread model: posix
     InstalledDir: /Library/Developer/CommandLineTools/usr/bin
**** Checking htslib version
------------------------- ANTICONF ERROR ---------------------------
Configuration failed because htslib version 1.15 does not meet the minimum version requirement 1.17
--------------------------------------------------------------------
ERROR: configuration failed for package ‘iscream’
* removing ‘/Library/Frameworks/R.framework/Versions/4.5-x86_64/Resources/library/iscream’