Back to Build/check report for BioC 3.22:   simplified   long
ABCDEFGH[I]JKLMNOPQRSTUVWXYZ

This page was generated on 2025-10-27 12:45 -0400 (Mon, 27 Oct 2025).

HostnameOSArch (*)R versionInstalled pkgs
kjohnson3macOS 13.7.7 Venturaarm644.5.1 Patched (2025-09-10 r88807) -- "Great Square Root" 4637
Click on any hostname to see more info about the system (e.g. compilers)      (*) as reported by 'uname -p', except on Windows and Mac OS X

Package 1053/2361HostnameOS / ArchINSTALLBUILDCHECKBUILD BIN
immunotation 1.17.5  (landing page)
Katharina Imkeller
Snapshot Date: 2025-10-26 13:45 -0400 (Sun, 26 Oct 2025)
git_url: https://git.bioconductor.org/packages/immunotation
git_branch: devel
git_last_commit: 5645ae6
git_last_commit_date: 2025-09-22 09:47:47 -0400 (Mon, 22 Sep 2025)
kjohnson3macOS 13.7.7 Ventura / arm64  OK    ERROR  skippedskipped


BUILD results for immunotation on kjohnson3

To the developers/maintainers of the immunotation package:
- Allow up to 24 hours (and sometimes 48 hours) for your latest push to git@git.bioconductor.org:packages/immunotation.git to reflect on this report. See Troubleshooting Build Report for more information.
- Use the following Renviron settings to reproduce errors and warnings.
- If 'R CMD check' started to fail recently on the Linux builder(s) over a missing dependency, add the missing dependency to 'Suggests:' in your DESCRIPTION file. See Renviron.bioc for more information.

raw results


Summary

Package: immunotation
Version: 1.17.5
Command: /Library/Frameworks/R.framework/Resources/bin/R CMD build --keep-empty-dirs --no-resave-data immunotation
StartedAt: 2025-10-26 16:54:57 -0400 (Sun, 26 Oct 2025)
EndedAt: 2025-10-26 16:55:51 -0400 (Sun, 26 Oct 2025)
EllapsedTime: 53.5 seconds
RetCode: 1
Status:   ERROR  
PackageFile: None
PackageFileSize: NA

Command output

##############################################################################
##############################################################################
###
### Running command:
###
###   /Library/Frameworks/R.framework/Resources/bin/R CMD build --keep-empty-dirs --no-resave-data immunotation
###
##############################################################################
##############################################################################


* checking for file ‘immunotation/DESCRIPTION’ ... OK
* preparing ‘immunotation’:
* checking DESCRIPTION meta-information ... OK
* installing the package to build vignettes
      -----------------------------------
* installing *source* package ‘immunotation’ ...
** this is package ‘immunotation’ version ‘1.17.5’
** using staged installation
** R
** inst
** byte-compile and prepare package for lazy loading
Warning: Failed to open 'https://services.healthtech.dtu.dk/services/NetMHCpan-4.1/allele.list': Resolving timed out after 10002 milliseconds
Warning: Failed to open 'https://services.healthtech.dtu.dk/services/NetMHCpan-4.1/allele.list': Resolving timed out after 10002 milliseconds
Error in getURL(URL = "https://services.healthtech.dtu.dk/services/NetMHCpan-4.1/allele.list",  : 
  'getURL()' failed:
  URL: https://services.healthtech.dtu.dk/services/NetMHCpan-4.1/allele.list
  error: cannot open the connection
Error: unable to load R code in package ‘immunotation’
Execution halted
ERROR: lazy loading failed for package ‘immunotation’
* removing ‘/private/var/folders/r0/l4fjk6cj5xj0j3brt4bplpl40000gt/T/RtmpBwOkyL/Rinstaf1a76cab5f2/immunotation’
      -----------------------------------
ERROR: package installation failed