Back to Multiple platform build/check report for BioC 3.22:   simplified   long
ABCDEF[G]HIJKLMNOPQRSTUVWXYZ

This page was generated on 2025-10-25 12:02 -0400 (Sat, 25 Oct 2025).

HostnameOSArch (*)R versionInstalled pkgs
nebbiolo2Linux (Ubuntu 24.04.3 LTS)x86_644.5.1 Patched (2025-08-23 r88802) -- "Great Square Root" 4901
lconwaymacOS 12.7.6 Montereyx86_644.5.1 Patched (2025-09-10 r88807) -- "Great Square Root" 4691
kjohnson3macOS 13.7.7 Venturaarm644.5.1 Patched (2025-09-10 r88807) -- "Great Square Root" 4637
taishanLinux (openEuler 24.03 LTS)aarch644.5.0 (2025-04-11) -- "How About a Twenty-Six" 4658
Click on any hostname to see more info about the system (e.g. compilers)      (*) as reported by 'uname -p', except on Windows and Mac OS X

All results for package graph


To the developers/maintainers of the graph package:
- Allow up to 24 hours (and sometimes 48 hours) for your latest push to git@git.bioconductor.org:packages/graph.git to reflect on this report. See Troubleshooting Build Report for more information.
- Use the following Renviron settings to reproduce errors and warnings.
- If 'R CMD check' started to fail recently on the Linux builder(s) over a missing dependency, add the missing dependency to 'Suggests:' in your DESCRIPTION file. See Renviron.bioc for more information.

raw results

Package 923/2361HostnameOS / ArchINSTALLBUILDCHECKBUILD BIN
graph 1.87.0  (landing page)
Bioconductor Package Maintainer
Snapshot Date: 2025-10-24 13:45 -0400 (Fri, 24 Oct 2025)
git_url: https://git.bioconductor.org/packages/graph
git_branch: devel
git_last_commit: 12405a1
git_last_commit_date: 2025-04-15 09:16:13 -0400 (Tue, 15 Apr 2025)
nebbiolo2Linux (Ubuntu 24.04.3 LTS) / x86_64  OK    OK    OK  UNNEEDED, same version is already published
lconwaymacOS 12.7.6 Monterey / x86_64  OK    OK    OK    OK  UNNEEDED, same version is already published
kjohnson3macOS 13.7.7 Ventura / arm64  OK    OK    OK    OK  UNNEEDED, same version is already published
taishanLinux (openEuler 24.03 LTS) / aarch64  OK    NA    NA  



Results for Bioconductor software packages that depend directly on package graph

QUICK STATSOS / ArchINSTALLBUILDCHECKBUILD BIN
nebbiolo2Linux (Ubuntu 24.04.3 LTS) / x86_64
0176
0473
021952
lconwaymacOS 12.7.6 Monterey / x86_64
0173
0470
031651
0070
kjohnson3macOS 13.7.7 Ventura / arm64
0172
1468
031649
0068
taishanLinux (openEuler 24.03 LTS) / aarch64
0176
002
0000
Package 1/77HostnameOS / ArchINSTALLBUILDCHECKBUILD BIN
AnnotationHubData 1.39.2  (landing page)
Bioconductor Package Maintainer
git_last_commit: 191ff77
git_last_commit_date: 2025-06-21 01:04:11 -0400
nebbiolo2Linux (Ubuntu 24.04.3 LTS) / x86_64  OK    OK    WARNINGS  UNNEEDED, same version is already published
lconwaymacOS 12.7.6 Monterey / x86_64  OK    OK    WARNINGS    OK  UNNEEDED, same version is already published
kjohnson3macOS 13.7.7 Ventura / arm64  OK    OK    WARNINGS    OK  UNNEEDED, same version is already published
taishanLinux (openEuler 24.03 LTS) / aarch64  OK    OK    NA  
Package 2/77HostnameOS / ArchINSTALLBUILDCHECKBUILD BIN
apComplex 2.75.0  (landing page)
Denise Scholtens
git_last_commit: d73e790
git_last_commit_date: 2025-04-15 09:35:46 -0400
nebbiolo2Linux (Ubuntu 24.04.3 LTS) / x86_64  OK    OK    OK  UNNEEDED, same version is already published
lconwaymacOS 12.7.6 Monterey / x86_64  OK    OK    OK    OK  UNNEEDED, same version is already published
kjohnson3macOS 13.7.7 Ventura / arm64  OK    OK    OK    OK  UNNEEDED, same version is already published
taishanLinux (openEuler 24.03 LTS) / aarch64  OK    OK    NA  
Package 3/77HostnameOS / ArchINSTALLBUILDCHECKBUILD BIN
BgeeDB 2.35.1  (landing page)
Julien Wollbrett , Julien Roux , Andrea Komljenovic , Frederic Bastian
git_last_commit: 07aa210
git_last_commit_date: 2025-10-02 08:43:52 -0400
nebbiolo2Linux (Ubuntu 24.04.3 LTS) / x86_64  OK    OK    OK  UNNEEDED, same version is already published
lconwaymacOS 12.7.6 Monterey / x86_64  OK    OK    OK    OK  UNNEEDED, same version is already published
kjohnson3macOS 13.7.7 Ventura / arm64  OK    OK    OK    OK  UNNEEDED, same version is already published
taishanLinux (openEuler 24.03 LTS) / aarch64  OK    NA    NA  
Package 4/77HostnameOS / ArchINSTALLBUILDCHECKBUILD BIN
BiocCheck 1.45.20  (landing page)
Marcel Ramos
git_last_commit: 9a9c0c1
git_last_commit_date: 2025-10-14 12:27:27 -0400
nebbiolo2Linux (Ubuntu 24.04.3 LTS) / x86_64  OK    OK    OK  UNNEEDED, same version is already published
lconwaymacOS 12.7.6 Monterey / x86_64  OK    OK    OK    OK  UNNEEDED, same version is already published
kjohnson3macOS 13.7.7 Ventura / arm64  OK    OK    OK    OK  UNNEEDED, same version is already published
taishanLinux (openEuler 24.03 LTS) / aarch64  OK    NA    NA  
Package 5/77HostnameOS / ArchINSTALLBUILDCHECKBUILD BIN
BiocFHIR 1.11.0  (landing page)
Vincent Carey
git_last_commit: 6a27e5d
git_last_commit_date: 2025-04-30 20:48:46 -0400
nebbiolo2Linux (Ubuntu 24.04.3 LTS) / x86_64  OK    OK    OK  UNNEEDED, same version is already published
lconwaymacOS 12.7.6 Monterey / x86_64  OK    OK    OK    OK  UNNEEDED, same version is already published
kjohnson3macOS 13.7.7 Ventura / arm64  OK    OK    OK    OK  UNNEEDED, same version is already published
taishanLinux (openEuler 24.03 LTS) / aarch64  OK    NA    NA  
Package 6/77HostnameOS / ArchINSTALLBUILDCHECKBUILD BIN
biocGraph 1.71.0  (landing page)
Florian Hahne
git_last_commit: 1f80a80
git_last_commit_date: 2025-04-15 09:40:34 -0400
nebbiolo2Linux (Ubuntu 24.04.3 LTS) / x86_64  OK    OK    OK  UNNEEDED, same version is already published
lconwaymacOS 12.7.6 Monterey / x86_64  OK    OK    OK    OK  UNNEEDED, same version is already published
kjohnson3macOS 13.7.7 Ventura / arm64  OK    OK    OK    OK  UNNEEDED, same version is already published
taishanLinux (openEuler 24.03 LTS) / aarch64  OK    NA    NA  
Package 7/77HostnameOS / ArchINSTALLBUILDCHECKBUILD BIN
BiocPkgTools 1.27.14  (landing page)
Sean Davis
git_last_commit: 0ad4df3
git_last_commit_date: 2025-10-22 13:02:48 -0400
nebbiolo2Linux (Ubuntu 24.04.3 LTS) / x86_64  OK    ERROR  skipped
lconwaymacOS 12.7.6 Monterey / x86_64  OK    ERROR  skippedskipped
kjohnson3macOS 13.7.7 Ventura / arm64  OK    ERROR  skippedskipped
taishanLinux (openEuler 24.03 LTS) / aarch64  OK    NA    NA  
Package 8/77HostnameOS / ArchINSTALLBUILDCHECKBUILD BIN
biocViews 1.77.4  (landing page)
Bioconductor Package Maintainer
git_last_commit: 225a7fc
git_last_commit_date: 2025-09-04 13:03:30 -0400
nebbiolo2Linux (Ubuntu 24.04.3 LTS) / x86_64  OK    OK    OK  UNNEEDED, same version is already published
lconwaymacOS 12.7.6 Monterey / x86_64  OK    OK    OK    OK  UNNEEDED, same version is already published
kjohnson3macOS 13.7.7 Ventura / arm64  OK    OK    OK    OK  UNNEEDED, same version is already published
taishanLinux (openEuler 24.03 LTS) / aarch64  OK    NA    NA  
Package 9/77HostnameOS / ArchINSTALLBUILDCHECKBUILD BIN
BioMVCClass 1.77.0  (landing page)
Elizabeth Whalen
git_last_commit: 4b7a940
git_last_commit_date: 2025-04-15 09:38:57 -0400
nebbiolo2Linux (Ubuntu 24.04.3 LTS) / x86_64  OK    OK    OK  UNNEEDED, same version is already published
lconwaymacOS 12.7.6 Monterey / x86_64  OK    OK    OK    OK  UNNEEDED, same version is already published
kjohnson3macOS 13.7.7 Ventura / arm64  OK    OK    OK    OK  UNNEEDED, same version is already published
taishanLinux (openEuler 24.03 LTS) / aarch64  OK    NA    NA  
Package 10/77HostnameOS / ArchINSTALLBUILDCHECKBUILD BIN
BioNet 1.69.0  (landing page)
Marcus Dittrich
git_last_commit: 2d918c2
git_last_commit_date: 2025-04-15 10:00:12 -0400
nebbiolo2Linux (Ubuntu 24.04.3 LTS) / x86_64  OK    OK    OK  UNNEEDED, same version is already published
lconwaymacOS 12.7.6 Monterey / x86_64  OK    OK    OK    OK  UNNEEDED, same version is already published
kjohnson3macOS 13.7.7 Ventura / arm64  OK    OK    OK    OK  UNNEEDED, same version is already published
taishanLinux (openEuler 24.03 LTS) / aarch64  OK    NA    NA  
Package 11/77HostnameOS / ArchINSTALLBUILDCHECKBUILD BIN
BLMA 1.33.0  (landing page)
Van-Dung Pham
git_last_commit: be3864e
git_last_commit_date: 2025-04-15 11:10:45 -0400
nebbiolo2Linux (Ubuntu 24.04.3 LTS) / x86_64  OK    OK    OK  UNNEEDED, same version is already published
lconwaymacOS 12.7.6 Monterey / x86_64  OK    OK    OK    OK  UNNEEDED, same version is already published
kjohnson3macOS 13.7.7 Ventura / arm64  OK    OK    OK    OK  UNNEEDED, same version is already published
taishanLinux (openEuler 24.03 LTS) / aarch64  OK    NA    NA  
Package 12/77HostnameOS / ArchINSTALLBUILDCHECKBUILD BIN
bnem 1.17.0  (landing page)
Martin Pirkl
git_last_commit: b4f44d5
git_last_commit_date: 2025-04-15 12:15:48 -0400
nebbiolo2Linux (Ubuntu 24.04.3 LTS) / x86_64  OK    OK    OK  UNNEEDED, same version is already published
lconwaymacOS 12.7.6 Monterey / x86_64  OK    OK    OK    OK  UNNEEDED, same version is already published
kjohnson3macOS 13.7.7 Ventura / arm64  OK    OK    OK    OK  UNNEEDED, same version is already published
taishanLinux (openEuler 24.03 LTS) / aarch64  OK    NA    NA  
Package 13/77HostnameOS / ArchINSTALLBUILDCHECKBUILD BIN
CAMERA 1.65.1  (landing page)
Steffen Neumann
git_last_commit: 43df541
git_last_commit_date: 2025-05-09 04:56:41 -0400
nebbiolo2Linux (Ubuntu 24.04.3 LTS) / x86_64  OK    OK    WARNINGS  UNNEEDED, same version is already published
lconwaymacOS 12.7.6 Monterey / x86_64  OK    OK    ERROR    OK  
kjohnson3macOS 13.7.7 Ventura / arm64  OK    OK    ERROR    OK  
taishanLinux (openEuler 24.03 LTS) / aarch64  OK    NA    NA  
Package 14/77HostnameOS / ArchINSTALLBUILDCHECKBUILD BIN
Category 2.75.0  (landing page)
Bioconductor Package Maintainer
git_last_commit: 570923e
git_last_commit_date: 2025-04-15 09:36:37 -0400
nebbiolo2Linux (Ubuntu 24.04.3 LTS) / x86_64  OK    OK    OK  UNNEEDED, same version is already published
lconwaymacOS 12.7.6 Monterey / x86_64  OK    OK    OK    OK  UNNEEDED, same version is already published
kjohnson3macOS 13.7.7 Ventura / arm64  OK    OK    OK    OK  UNNEEDED, same version is already published
taishanLinux (openEuler 24.03 LTS) / aarch64  OK    NA    NA  
Package 15/77HostnameOS / ArchINSTALLBUILDCHECKBUILD BIN
categoryCompare 1.53.0  (landing page)
Robert M. Flight
git_last_commit: 1cffce1
git_last_commit_date: 2025-04-15 10:13:43 -0400
nebbiolo2Linux (Ubuntu 24.04.3 LTS) / x86_64  OK    OK    OK  UNNEEDED, same version is already published
lconwaymacOS 12.7.6 Monterey / x86_64  OK    OK    OK    OK  UNNEEDED, same version is already published
kjohnson3macOS 13.7.7 Ventura / arm64  OK    OK    OK    OK  UNNEEDED, same version is already published
taishanLinux (openEuler 24.03 LTS) / aarch64  OK    NA    NA  
Package 16/77HostnameOS / ArchINSTALLBUILDCHECKBUILD BIN
CellNOptR 1.55.0  (landing page)
Attila Gabor
git_last_commit: 62a0021
git_last_commit_date: 2025-04-15 10:11:22 -0400
nebbiolo2Linux (Ubuntu 24.04.3 LTS) / x86_64  OK    OK    OK  UNNEEDED, same version is already published
lconwaymacOS 12.7.6 Monterey / x86_64  OK    OK    OK    OK  UNNEEDED, same version is already published
kjohnson3macOS 13.7.7 Ventura / arm64  OK    OK    OK    OK  UNNEEDED, same version is already published
taishanLinux (openEuler 24.03 LTS) / aarch64  OK    NA    NA  
Package 17/77HostnameOS / ArchINSTALLBUILDCHECKBUILD BIN
chimeraviz 1.35.0  (landing page)
Stian Lågstad
git_last_commit: 6ad74e4
git_last_commit_date: 2025-04-15 11:07:23 -0400
nebbiolo2Linux (Ubuntu 24.04.3 LTS) / x86_64  OK    OK    OK  UNNEEDED, same version is already published
lconwaymacOS 12.7.6 Monterey / x86_64  OK    OK    OK    OK  UNNEEDED, same version is already published
kjohnson3macOS 13.7.7 Ventura / arm64  OK    OK    OK    OK  UNNEEDED, same version is already published
taishanLinux (openEuler 24.03 LTS) / aarch64  OK    NA    NA  
Package 18/77HostnameOS / ArchINSTALLBUILDCHECKBUILD BIN
ChIPpeakAnno 3.43.2  (landing page)
Jianhong Ou
git_last_commit: 7fc2367
git_last_commit_date: 2025-10-15 16:45:05 -0400
nebbiolo2Linux (Ubuntu 24.04.3 LTS) / x86_64  OK    OK    OK  UNNEEDED, same version is already published
lconwaymacOS 12.7.6 Monterey / x86_64  OK    OK    OK    OK  UNNEEDED, same version is already published
kjohnson3macOS 13.7.7 Ventura / arm64  OK    OK    OK    OK  UNNEEDED, same version is already published
taishanLinux (openEuler 24.03 LTS) / aarch64  OK    NA    NA  
Package 19/77HostnameOS / ArchINSTALLBUILDCHECKBUILD BIN
CHRONOS 1.37.0  (landing page)
Panos Balomenos
git_last_commit: beddcd9
git_last_commit_date: 2025-04-15 11:01:45 -0400
nebbiolo2Linux (Ubuntu 24.04.3 LTS) / x86_64  OK    OK    OK  UNNEEDED, same version is already published
lconwaymacOS 12.7.6 Monterey / x86_64  OK    OK    OK    OK  UNNEEDED, same version is already published
kjohnson3macOS 13.7.7 Ventura / arm64  OK    TIMEOUT  skippedskipped
taishanLinux (openEuler 24.03 LTS) / aarch64  OK    NA    NA  
Package 20/77HostnameOS / ArchINSTALLBUILDCHECKBUILD BIN
clipper 1.49.0  (landing page)
Paolo Martini
git_last_commit: 9b655b0
git_last_commit_date: 2025-04-15 10:17:28 -0400
nebbiolo2Linux (Ubuntu 24.04.3 LTS) / x86_64  OK    OK    OK  UNNEEDED, same version is already published
lconwaymacOS 12.7.6 Monterey / x86_64  OK    OK    OK    OK  UNNEEDED, same version is already published
kjohnson3macOS 13.7.7 Ventura / arm64  OK    OK    OK    OK  UNNEEDED, same version is already published
taishanLinux (openEuler 24.03 LTS) / aarch64  OK    NA    NA  
Package 21/77HostnameOS / ArchINSTALLBUILDCHECKBUILD BIN
CNORfeeder 1.49.0  (landing page)
Attila Gabor
git_last_commit: c411711
git_last_commit_date: 2025-04-15 10:23:16 -0400
nebbiolo2Linux (Ubuntu 24.04.3 LTS) / x86_64  OK    OK    WARNINGS  UNNEEDED, same version is already published
lconwaymacOS 12.7.6 Monterey / x86_64  OK    OK    WARNINGS    OK  UNNEEDED, same version is already published
kjohnson3macOS 13.7.7 Ventura / arm64  OK    OK    WARNINGS    OK  UNNEEDED, same version is already published
taishanLinux (openEuler 24.03 LTS) / aarch64  OK    NA    NA  
Package 22/77HostnameOS / ArchINSTALLBUILDCHECKBUILD BIN
consICA 2.7.5  (landing page)
Petr V. Nazarov
git_last_commit: f64a7f6
git_last_commit_date: 2025-10-23 07:15:58 -0400
nebbiolo2Linux (Ubuntu 24.04.3 LTS) / x86_64  OK    OK    OK  UNNEEDED, same version is already published
lconwaymacOS 12.7.6 Monterey / x86_64  OK    OK    OK    OK  UNNEEDED, same version is already published
kjohnson3macOS 13.7.7 Ventura / arm64  OK    OK    OK    OK  UNNEEDED, same version is already published
taishanLinux (openEuler 24.03 LTS) / aarch64  OK    NA    NA  
Package 23/77HostnameOS / ArchINSTALLBUILDCHECKBUILD BIN
CytoML 2.21.0  (landing page)
Mike Jiang
git_last_commit: 14d4f19
git_last_commit_date: 2025-04-15 11:03:15 -0400
nebbiolo2Linux (Ubuntu 24.04.3 LTS) / x86_64  OK    OK    WARNINGS  UNNEEDED, same version is already published
lconwaymacOS 12.7.6 Monterey / x86_64  OK    OK    WARNINGS    OK  UNNEEDED, same version is already published
kjohnson3macOS 13.7.7 Ventura / arm64  OK    OK    WARNINGS    OK  UNNEEDED, same version is already published
taishanLinux (openEuler 24.03 LTS) / aarch64  OK    NA    NA  
Package 24/77HostnameOS / ArchINSTALLBUILDCHECKBUILD BIN
DEGraph 1.61.0  (landing page)
Laurent Jacob
git_last_commit: cfb9afe
git_last_commit_date: 2025-04-15 10:01:14 -0400
nebbiolo2Linux (Ubuntu 24.04.3 LTS) / x86_64  OK    OK    OK  UNNEEDED, same version is already published
lconwaymacOS 12.7.6 Monterey / x86_64... NOT SUPPORTED ...
kjohnson3macOS 13.7.7 Ventura / arm64... NOT SUPPORTED ...
taishanLinux (openEuler 24.03 LTS) / aarch64  OK    NA    NA  
Package 25/77HostnameOS / ArchINSTALLBUILDCHECKBUILD BIN
DEsubs 1.35.0  (landing page)
Aristidis G. Vrahatis , Panos Balomenos
git_last_commit: 7aedf9b
git_last_commit_date: 2025-04-15 11:05:41 -0400
nebbiolo2Linux (Ubuntu 24.04.3 LTS) / x86_64  OK    OK    WARNINGS  UNNEEDED, same version is already published
lconwaymacOS 12.7.6 Monterey / x86_64  OK    OK    WARNINGS    OK  UNNEEDED, same version is already published
kjohnson3macOS 13.7.7 Ventura / arm64  OK    OK    WARNINGS    OK  UNNEEDED, same version is already published
taishanLinux (openEuler 24.03 LTS) / aarch64  OK    NA    NA  
Package 26/77HostnameOS / ArchINSTALLBUILDCHECKBUILD BIN
EnrichDO 1.3.1  (landing page)
Hongyu Fu
git_last_commit: 0da128f
git_last_commit_date: 2025-10-04 01:57:08 -0400
nebbiolo2Linux (Ubuntu 24.04.3 LTS) / x86_64  OK    OK    OK  UNNEEDED, same version is already published
lconwaymacOS 12.7.6 Monterey / x86_64  OK    OK    OK    OK  UNNEEDED, same version is already published
kjohnson3macOS 13.7.7 Ventura / arm64  OK    OK    OK    OK  UNNEEDED, same version is already published
taishanLinux (openEuler 24.03 LTS) / aarch64  OK    NA    NA  
Package 27/77HostnameOS / ArchINSTALLBUILDCHECKBUILD BIN
EnrichmentBrowser 2.39.2  (landing page)
Ludwig Geistlinger
git_last_commit: ec3525d
git_last_commit_date: 2025-09-14 17:05:17 -0400
nebbiolo2Linux (Ubuntu 24.04.3 LTS) / x86_64  OK    OK    OK  UNNEEDED, same version is already published
lconwaymacOS 12.7.6 Monterey / x86_64  OK    OK    OK    OK  UNNEEDED, same version is already published
kjohnson3macOS 13.7.7 Ventura / arm64  OK    OK    OK    OK  UNNEEDED, same version is already published
taishanLinux (openEuler 24.03 LTS) / aarch64  OK    NA    NA  
Package 28/77HostnameOS / ArchINSTALLBUILDCHECKBUILD BIN
epiNEM 1.33.0  (landing page)
Martin Pirkl
git_last_commit: b52222c
git_last_commit_date: 2025-04-15 11:09:14 -0400
nebbiolo2Linux (Ubuntu 24.04.3 LTS) / x86_64  OK    OK    OK  UNNEEDED, same version is already published
lconwaymacOS 12.7.6 Monterey / x86_64  OK    OK    OK    OK  UNNEEDED, same version is already published
kjohnson3macOS 13.7.7 Ventura / arm64  OK    OK    OK    OK  UNNEEDED, same version is already published
taishanLinux (openEuler 24.03 LTS) / aarch64  OK    NA    NA  
Package 29/77HostnameOS / ArchINSTALLBUILDCHECKBUILD BIN
EventPointer 3.17.0  (landing page)
Juan A. Ferrer-Bonsoms
git_last_commit: 29b679f
git_last_commit_date: 2025-07-15 04:19:42 -0400
nebbiolo2Linux (Ubuntu 24.04.3 LTS) / x86_64  OK    OK    OK  UNNEEDED, same version is already published
lconwaymacOS 12.7.6 Monterey / x86_64  OK    OK    OK    OK  UNNEEDED, same version is already published
kjohnson3macOS 13.7.7 Ventura / arm64  OK    OK    OK    OK  UNNEEDED, same version is already published
taishanLinux (openEuler 24.03 LTS) / aarch64  OK    NA    NA  
Package 30/77HostnameOS / ArchINSTALLBUILDCHECKBUILD BIN
fgga 1.17.0  (landing page)
Flavio Spetale
git_last_commit: d680f8f
git_last_commit_date: 2025-04-15 12:29:39 -0400
nebbiolo2Linux (Ubuntu 24.04.3 LTS) / x86_64  OK    OK    OK  UNNEEDED, same version is already published
lconwaymacOS 12.7.6 Monterey / x86_64  OK    OK    OK    OK  UNNEEDED, same version is already published
kjohnson3macOS 13.7.7 Ventura / arm64  OK    OK    OK    OK  UNNEEDED, same version is already published
taishanLinux (openEuler 24.03 LTS) / aarch64  OK    NA    NA  
Package 31/77HostnameOS / ArchINSTALLBUILDCHECKBUILD BIN
flowClust 3.47.0  (landing page)
Greg Finak , Mike Jiang
git_last_commit: 93df712
git_last_commit_date: 2025-04-15 09:41:41 -0400
nebbiolo2Linux (Ubuntu 24.04.3 LTS) / x86_64  OK    OK    WARNINGS  UNNEEDED, same version is already published
lconwaymacOS 12.7.6 Monterey / x86_64  OK    OK    WARNINGS    OK  UNNEEDED, same version is already published
kjohnson3macOS 13.7.7 Ventura / arm64  OK    OK    WARNINGS    OK  UNNEEDED, same version is already published
taishanLinux (openEuler 24.03 LTS) / aarch64  OK    NA    NA  
Package 32/77HostnameOS / ArchINSTALLBUILDCHECKBUILD BIN
flowMerge 2.57.0  (landing page)
Greg Finak
git_last_commit: 61c5342
git_last_commit_date: 2025-04-15 09:45:06 -0400
nebbiolo2Linux (Ubuntu 24.04.3 LTS) / x86_64  OK    OK    WARNINGS  UNNEEDED, same version is already published
lconwaymacOS 12.7.6 Monterey / x86_64  OK    OK    WARNINGS    OK  UNNEEDED, same version is already published
kjohnson3macOS 13.7.7 Ventura / arm64  OK    OK    WARNINGS    OK  UNNEEDED, same version is already published
taishanLinux (openEuler 24.03 LTS) / aarch64  OK    NA    NA  
Package 33/77HostnameOS / ArchINSTALLBUILDCHECKBUILD BIN
flowWorkspace 4.21.0  (landing page)
Greg Finak , Mike Jiang
git_last_commit: 1457874
git_last_commit_date: 2025-04-15 10:08:27 -0400
nebbiolo2Linux (Ubuntu 24.04.3 LTS) / x86_64  OK    OK    WARNINGS  UNNEEDED, same version is already published
lconwaymacOS 12.7.6 Monterey / x86_64  OK    OK    WARNINGS    OK  UNNEEDED, same version is already published
kjohnson3macOS 13.7.7 Ventura / arm64  OK    OK    WARNINGS    OK  UNNEEDED, same version is already published
taishanLinux (openEuler 24.03 LTS) / aarch64  OK    NA    NA  
Package 34/77HostnameOS / ArchINSTALLBUILDCHECKBUILD BIN
gage 2.59.0  (landing page)
Weijun Luo
git_last_commit: a3d234b
git_last_commit_date: 2025-04-15 10:00:47 -0400
nebbiolo2Linux (Ubuntu 24.04.3 LTS) / x86_64  OK    OK    WARNINGS  UNNEEDED, same version is already published
lconwaymacOS 12.7.6 Monterey / x86_64  OK    OK    WARNINGS    OK  UNNEEDED, same version is already published
kjohnson3macOS 13.7.7 Ventura / arm64  OK    OK    WARNINGS    OK  UNNEEDED, same version is already published
taishanLinux (openEuler 24.03 LTS) / aarch64  OK    NA    NA  
Package 35/77HostnameOS / ArchINSTALLBUILDCHECKBUILD BIN
GeneNetworkBuilder 1.51.0  (landing page)
Jianhong Ou
git_last_commit: 582eded
git_last_commit_date: 2025-04-15 10:15:04 -0400
nebbiolo2Linux (Ubuntu 24.04.3 LTS) / x86_64  OK    OK    OK  UNNEEDED, same version is already published
lconwaymacOS 12.7.6 Monterey / x86_64  OK    OK    OK    OK  UNNEEDED, same version is already published
kjohnson3macOS 13.7.7 Ventura / arm64  OK    OK    OK    OK  UNNEEDED, same version is already published
taishanLinux (openEuler 24.03 LTS) / aarch64  OK    NA    NA  
Package 36/77HostnameOS / ArchINSTALLBUILDCHECKBUILD BIN
GenomicInteractionNodes 1.13.1  (landing page)
Jianhong Ou
git_last_commit: be6bbd0
git_last_commit_date: 2025-07-24 18:58:06 -0400
nebbiolo2Linux (Ubuntu 24.04.3 LTS) / x86_64  OK    OK    OK  UNNEEDED, same version is already published
lconwaymacOS 12.7.6 Monterey / x86_64  OK    OK    OK    OK  UNNEEDED, same version is already published
kjohnson3macOS 13.7.7 Ventura / arm64  OK    OK    OK    OK  UNNEEDED, same version is already published
taishanLinux (openEuler 24.03 LTS) / aarch64  OK    NA    NA  
Package 37/77HostnameOS / ArchINSTALLBUILDCHECKBUILD BIN
GOstats 2.75.0  (landing page)
Bioconductor Package Maintainer
git_last_commit: 9bc7ca5
git_last_commit_date: 2025-04-15 09:34:38 -0400
nebbiolo2Linux (Ubuntu 24.04.3 LTS) / x86_64  OK    OK    OK  UNNEEDED, same version is already published
lconwaymacOS 12.7.6 Monterey / x86_64  OK    OK    OK    OK  UNNEEDED, same version is already published
kjohnson3macOS 13.7.7 Ventura / arm64  OK    OK    OK    OK  UNNEEDED, same version is already published
taishanLinux (openEuler 24.03 LTS) / aarch64  OK    NA    NA  
Package 38/77HostnameOS / ArchINSTALLBUILDCHECKBUILD BIN
GraphAT 1.81.0  (landing page)
Thomas LaFramboise
git_last_commit: 3a60420
git_last_commit_date: 2025-04-15 09:34:49 -0400
nebbiolo2Linux (Ubuntu 24.04.3 LTS) / x86_64  OK    OK    OK  UNNEEDED, same version is already published
lconwaymacOS 12.7.6 Monterey / x86_64  OK    OK    OK    OK  UNNEEDED, same version is already published
kjohnson3macOS 13.7.7 Ventura / arm64  OK    OK    OK    OK  UNNEEDED, same version is already published
taishanLinux (openEuler 24.03 LTS) / aarch64  OK    NA    NA  
Package 39/77HostnameOS / ArchINSTALLBUILDCHECKBUILD BIN
graphite 1.55.3  (landing page)
Gabriele Sales
git_last_commit: eb4b1de
git_last_commit_date: 2025-10-23 05:24:01 -0400
nebbiolo2Linux (Ubuntu 24.04.3 LTS) / x86_64  OK    OK    OK  UNNEEDED, same version is already published
lconwaymacOS 12.7.6 Monterey / x86_64  OK    OK    OK    OK  UNNEEDED, same version is already published
kjohnson3macOS 13.7.7 Ventura / arm64  OK    OK    OK    OK  UNNEEDED, same version is already published
taishanLinux (openEuler 24.03 LTS) / aarch64  OK    NA    NA  
Package 40/77HostnameOS / ArchINSTALLBUILDCHECKBUILD BIN
GSEABase 1.71.1  (landing page)
Bioconductor Package Maintainer
git_last_commit: f9e1f78
git_last_commit_date: 2025-08-28 11:42:23 -0400
nebbiolo2Linux (Ubuntu 24.04.3 LTS) / x86_64  OK    OK    OK  UNNEEDED, same version is already published
lconwaymacOS 12.7.6 Monterey / x86_64  OK    OK    OK    OK  UNNEEDED, same version is already published
kjohnson3macOS 13.7.7 Ventura / arm64  OK    OK    OK    OK  UNNEEDED, same version is already published
taishanLinux (openEuler 24.03 LTS) / aarch64  OK    NA    NA  
Package 41/77HostnameOS / ArchINSTALLBUILDCHECKBUILD BIN
hyperdraw 1.61.0  (landing page)
Paul Murrell
git_last_commit: e49afb2
git_last_commit_date: 2025-04-15 09:46:33 -0400
nebbiolo2Linux (Ubuntu 24.04.3 LTS) / x86_64  OK    OK    OK  UNNEEDED, same version is already published
lconwaymacOS 12.7.6 Monterey / x86_64  OK    OK    OK    OK  UNNEEDED, same version is already published
kjohnson3macOS 13.7.7 Ventura / arm64  OK    OK    OK    OK  UNNEEDED, same version is already published
taishanLinux (openEuler 24.03 LTS) / aarch64  OK    NA    NA  
Package 42/77HostnameOS / ArchINSTALLBUILDCHECKBUILD BIN
hypergraph 1.81.0  (landing page)
Bioconductor Package Maintainer
git_last_commit: e4bdb46
git_last_commit_date: 2025-04-15 09:36:33 -0400
nebbiolo2Linux (Ubuntu 24.04.3 LTS) / x86_64  OK    OK    OK  UNNEEDED, same version is already published
lconwaymacOS 12.7.6 Monterey / x86_64  OK    OK    OK    OK  UNNEEDED, same version is already published
kjohnson3macOS 13.7.7 Ventura / arm64  OK    OK    OK    OK  UNNEEDED, same version is already published
taishanLinux (openEuler 24.03 LTS) / aarch64  OK    NA    NA  
Package 43/77HostnameOS / ArchINSTALLBUILDCHECKBUILD BIN
KEGGgraph 1.69.0  (landing page)
Jitao David Zhang
git_last_commit: 02af4bf
git_last_commit_date: 2025-04-15 09:43:54 -0400
nebbiolo2Linux (Ubuntu 24.04.3 LTS) / x86_64  OK    OK    OK  UNNEEDED, same version is already published
lconwaymacOS 12.7.6 Monterey / x86_64  OK    OK    OK    OK  UNNEEDED, same version is already published
kjohnson3macOS 13.7.7 Ventura / arm64  OK    OK    OK    OK  UNNEEDED, same version is already published
taishanLinux (openEuler 24.03 LTS) / aarch64  OK    NA    NA  
Package 44/77HostnameOS / ArchINSTALLBUILDCHECKBUILD BIN
keggorthology 2.61.0  (landing page)
VJ Carey
git_last_commit: ad22c6b
git_last_commit_date: 2025-04-15 09:40:38 -0400
nebbiolo2Linux (Ubuntu 24.04.3 LTS) / x86_64  OK    OK    OK  UNNEEDED, same version is already published
lconwaymacOS 12.7.6 Monterey / x86_64  OK    OK    OK    OK  UNNEEDED, same version is already published
kjohnson3macOS 13.7.7 Ventura / arm64  OK    OK    OK    OK  UNNEEDED, same version is already published
taishanLinux (openEuler 24.03 LTS) / aarch64  OK    NA    NA  
Package 45/77HostnameOS / ArchINSTALLBUILDCHECKBUILD BIN
MineICA 1.49.0  (landing page)
Anne Biton
git_last_commit: 839876d
git_last_commit_date: 2025-04-15 10:17:52 -0400
nebbiolo2Linux (Ubuntu 24.04.3 LTS) / x86_64  OK    OK    ERROR  
lconwaymacOS 12.7.6 Monterey / x86_64  OK    OK    ERROR    OK  
kjohnson3macOS 13.7.7 Ventura / arm64  OK    OK    ERROR    OK  
taishanLinux (openEuler 24.03 LTS) / aarch64  OK    NA    NA  
Package 46/77HostnameOS / ArchINSTALLBUILDCHECKBUILD BIN
mirIntegrator 1.39.0  (landing page)
Diana Diaz
git_last_commit: 9118e9d
git_last_commit_date: 2025-04-15 10:51:34 -0400
nebbiolo2Linux (Ubuntu 24.04.3 LTS) / x86_64  OK    OK    OK  UNNEEDED, same version is already published
lconwaymacOS 12.7.6 Monterey / x86_64  OK    OK    OK    OK  UNNEEDED, same version is already published
kjohnson3macOS 13.7.7 Ventura / arm64  OK    OK    OK    OK  UNNEEDED, same version is already published
taishanLinux (openEuler 24.03 LTS) / aarch64  OK    NA    NA  
Package 47/77HostnameOS / ArchINSTALLBUILDCHECKBUILD BIN
MIRit 1.5.2  (landing page)
Jacopo Ronchi
git_last_commit: a9cb805
git_last_commit_date: 2025-09-18 06:25:47 -0400
nebbiolo2Linux (Ubuntu 24.04.3 LTS) / x86_64  OK    OK    OK  UNNEEDED, same version is already published
lconwaymacOS 12.7.6 Monterey / x86_64  OK    OK    OK    OK  UNNEEDED, same version is already published
kjohnson3macOS 13.7.7 Ventura / arm64  OK    OK    OK    OK  UNNEEDED, same version is already published
taishanLinux (openEuler 24.03 LTS) / aarch64  OK    NA    NA  
Package 48/77HostnameOS / ArchINSTALLBUILDCHECKBUILD BIN
mnem 1.25.0  (landing page)
Martin Pirkl
git_last_commit: 6713939
git_last_commit_date: 2025-05-20 04:53:05 -0400
nebbiolo2Linux (Ubuntu 24.04.3 LTS) / x86_64  OK    OK    OK  UNNEEDED, same version is already published
lconwaymacOS 12.7.6 Monterey / x86_64  OK    OK    OK    OK  UNNEEDED, same version is already published
kjohnson3macOS 13.7.7 Ventura / arm64  OK    OK    OK    OK  UNNEEDED, same version is already published
taishanLinux (openEuler 24.03 LTS) / aarch64  OK    NA    NA  
Package 49/77HostnameOS / ArchINSTALLBUILDCHECKBUILD BIN
MOSClip 1.3.3  (landing page)
Paolo Martini
git_last_commit: 440555e
git_last_commit_date: 2025-09-22 10:26:56 -0400
nebbiolo2Linux (Ubuntu 24.04.3 LTS) / x86_64  OK    OK    OK  UNNEEDED, same version is already published
lconwaymacOS 12.7.6 Monterey / x86_64  OK    OK    OK    OK  UNNEEDED, same version is already published
kjohnson3macOS 13.7.7 Ventura / arm64  OK    OK    OK    OK  UNNEEDED, same version is already published
taishanLinux (openEuler 24.03 LTS) / aarch64  OK    NA    NA  
Package 50/77HostnameOS / ArchINSTALLBUILDCHECKBUILD BIN
NCIgraph 1.57.0  (landing page)
Laurent Jacob
git_last_commit: 8feb10b
git_last_commit_date: 2025-04-15 10:07:48 -0400
nebbiolo2Linux (Ubuntu 24.04.3 LTS) / x86_64  OK    OK    OK  UNNEEDED, same version is already published
lconwaymacOS 12.7.6 Monterey / x86_64... NOT SUPPORTED ...
kjohnson3macOS 13.7.7 Ventura / arm64... NOT SUPPORTED ...
taishanLinux (openEuler 24.03 LTS) / aarch64  OK    NA    NA  
Package 51/77HostnameOS / ArchINSTALLBUILDCHECKBUILD BIN
netresponse 1.69.0  (landing page)
Leo Lahti
git_last_commit: aad526a
git_last_commit_date: 2025-04-15 10:00:39 -0400
nebbiolo2Linux (Ubuntu 24.04.3 LTS) / x86_64  OK    OK    OK  UNNEEDED, same version is already published
lconwaymacOS 12.7.6 Monterey / x86_64  OK    OK    OK    OK  UNNEEDED, same version is already published
kjohnson3macOS 13.7.7 Ventura / arm64  OK    OK    OK    OK  UNNEEDED, same version is already published
taishanLinux (openEuler 24.03 LTS) / aarch64  OK    NA    NA  
Package 52/77HostnameOS / ArchINSTALLBUILDCHECKBUILD BIN
OncoSimulR 4.11.1  (landing page)
Ramon Diaz-Uriarte
git_last_commit: 833d3cc
git_last_commit_date: 2025-06-09 15:18:07 -0400
nebbiolo2Linux (Ubuntu 24.04.3 LTS) / x86_64  OK    OK    OK  UNNEEDED, same version is already published
lconwaymacOS 12.7.6 Monterey / x86_64  OK    OK    OK    OK  UNNEEDED, same version is already published
kjohnson3macOS 13.7.7 Ventura / arm64... NOT SUPPORTED ...
taishanLinux (openEuler 24.03 LTS) / aarch64  OK    NA    NA  
Package 53/77HostnameOS / ArchINSTALLBUILDCHECKBUILD BIN
ontoProc 2.3.11  (landing page)
Vincent Carey
git_last_commit: 8aa7338
git_last_commit_date: 2025-10-08 11:44:19 -0400
nebbiolo2Linux (Ubuntu 24.04.3 LTS) / x86_64  OK    OK    OK  UNNEEDED, same version is already published
lconwaymacOS 12.7.6 Monterey / x86_64  OK    OK    OK    OK  UNNEEDED, same version is already published
kjohnson3macOS 13.7.7 Ventura / arm64  OK    OK    OK    OK  UNNEEDED, same version is already published
taishanLinux (openEuler 24.03 LTS) / aarch64  OK    NA    NA  
Package 54/77HostnameOS / ArchINSTALLBUILDCHECKBUILD BIN
openCyto 2.21.1  (landing page)
Mike Jiang
git_last_commit: 8bdcade
git_last_commit_date: 2025-08-25 20:02:07 -0400
nebbiolo2Linux (Ubuntu 24.04.3 LTS) / x86_64  OK    OK    WARNINGS  UNNEEDED, same version is already published
lconwaymacOS 12.7.6 Monterey / x86_64  OK    OK    WARNINGS    OK  UNNEEDED, same version is already published
kjohnson3macOS 13.7.7 Ventura / arm64  OK    OK    WARNINGS    OK  UNNEEDED, same version is already published
taishanLinux (openEuler 24.03 LTS) / aarch64  OK    NA    NA  
Package 55/77HostnameOS / ArchINSTALLBUILDCHECKBUILD BIN
oposSOM 2.27.0  (landing page)
Henry Loeffler-Wirth
git_last_commit: ebb23fd
git_last_commit_date: 2025-04-15 10:32:12 -0400
nebbiolo2Linux (Ubuntu 24.04.3 LTS) / x86_64  OK    OK    WARNINGS  UNNEEDED, same version is already published
lconwaymacOS 12.7.6 Monterey / x86_64  OK    OK    WARNINGS    OK  UNNEEDED, same version is already published
kjohnson3macOS 13.7.7 Ventura / arm64  OK    OK    WARNINGS    OK  UNNEEDED, same version is already published
taishanLinux (openEuler 24.03 LTS) / aarch64  OK    NA    NA  
Package 56/77HostnameOS / ArchINSTALLBUILDCHECKBUILD BIN
OrganismDbi 1.51.5  (landing page)
Bioconductor Package Maintainer
git_last_commit: fb8673c
git_last_commit_date: 2025-10-16 07:44:02 -0400
nebbiolo2Linux (Ubuntu 24.04.3 LTS) / x86_64  OK    OK    OK  UNNEEDED, same version is already published
lconwaymacOS 12.7.6 Monterey / x86_64  OK    OK    OK    OK  UNNEEDED, same version is already published
kjohnson3macOS 13.7.7 Ventura / arm64  OK    OK    OK    OK  UNNEEDED, same version is already published
taishanLinux (openEuler 24.03 LTS) / aarch64  OK    NA    NA  
Package 57/77HostnameOS / ArchINSTALLBUILDCHECKBUILD BIN
pathRender 1.77.0  (landing page)
Vince Carey
git_last_commit: 1287e36
git_last_commit_date: 2025-04-15 09:37:35 -0400
nebbiolo2Linux (Ubuntu 24.04.3 LTS) / x86_64  OK    OK    OK  UNNEEDED, same version is already published
lconwaymacOS 12.7.6 Monterey / x86_64  OK    OK    OK    OK  UNNEEDED, same version is already published
kjohnson3macOS 13.7.7 Ventura / arm64  OK    OK    OK    OK  UNNEEDED, same version is already published
taishanLinux (openEuler 24.03 LTS) / aarch64  OK    NA    NA  
Package 58/77HostnameOS / ArchINSTALLBUILDCHECKBUILD BIN
pathview 1.49.0  (landing page)
Weijun Luo
git_last_commit: 2c0bf57
git_last_commit_date: 2025-04-15 10:22:56 -0400
nebbiolo2Linux (Ubuntu 24.04.3 LTS) / x86_64  OK    OK    WARNINGS  UNNEEDED, same version is already published
lconwaymacOS 12.7.6 Monterey / x86_64  OK    OK    WARNINGS    OK  UNNEEDED, same version is already published
kjohnson3macOS 13.7.7 Ventura / arm64  OK    OK    WARNINGS    OK  UNNEEDED, same version is already published
taishanLinux (openEuler 24.03 LTS) / aarch64  OK    NA    NA  
Package 59/77HostnameOS / ArchINSTALLBUILDCHECKBUILD BIN
PhenStat 2.45.1  (landing page)
Hamed Haselimashhadi
git_last_commit: c16bc8d
git_last_commit_date: 2025-09-22 09:51:44 -0400
nebbiolo2Linux (Ubuntu 24.04.3 LTS) / x86_64  ERROR    ERROR  skipped
lconwaymacOS 12.7.6 Monterey / x86_64  ERROR    ERROR  skippedskipped
kjohnson3macOS 13.7.7 Ventura / arm64  ERROR    ERROR  skippedskipped
taishanLinux (openEuler 24.03 LTS) / aarch64  OK    NA    NA  
Package 60/77HostnameOS / ArchINSTALLBUILDCHECKBUILD BIN
Pigengene 1.35.0  (landing page)
Habil Zare
git_last_commit: 126d6fd
git_last_commit_date: 2025-08-27 09:50:33 -0400
nebbiolo2Linux (Ubuntu 24.04.3 LTS) / x86_64  OK    OK    ERROR  
lconwaymacOS 12.7.6 Monterey / x86_64  OK    OK    ERROR    OK  
kjohnson3macOS 13.7.7 Ventura / arm64  OK    OK    ERROR    OK  
taishanLinux (openEuler 24.03 LTS) / aarch64  OK    NA    NA  
Package 61/77HostnameOS / ArchINSTALLBUILDCHECKBUILD BIN
qpgraph 2.43.1  (landing page)
Robert Castelo
git_last_commit: a352aa4
git_last_commit_date: 2025-07-23 14:16:18 -0400
nebbiolo2Linux (Ubuntu 24.04.3 LTS) / x86_64  OK    OK    OK  UNNEEDED, same version is already published
lconwaymacOS 12.7.6 Monterey / x86_64  OK    OK    OK    OK  UNNEEDED, same version is already published
kjohnson3macOS 13.7.7 Ventura / arm64  OK    OK    OK    OK  UNNEEDED, same version is already published
taishanLinux (openEuler 24.03 LTS) / aarch64  OK    NA    NA  
Package 62/77HostnameOS / ArchINSTALLBUILDCHECKBUILD BIN
RbcBook1 1.77.0  (landing page)
Vince Carey
git_last_commit: 425d647
git_last_commit_date: 2025-04-15 09:39:11 -0400
nebbiolo2Linux (Ubuntu 24.04.3 LTS) / x86_64  OK    OK    WARNINGS  UNNEEDED, same version is already published
lconwaymacOS 12.7.6 Monterey / x86_64  OK    OK    WARNINGS    OK  UNNEEDED, same version is already published
kjohnson3macOS 13.7.7 Ventura / arm64  OK    OK    WARNINGS    OK  UNNEEDED, same version is already published
taishanLinux (openEuler 24.03 LTS) / aarch64  OK    NA    NA  
Package 63/77HostnameOS / ArchINSTALLBUILDCHECKBUILD BIN
RBGL 1.85.0  (landing page)
Bioconductor Package Maintainer
git_last_commit: b698854
git_last_commit_date: 2025-04-15 09:17:05 -0400
nebbiolo2Linux (Ubuntu 24.04.3 LTS) / x86_64  OK    OK    WARNINGS  UNNEEDED, same version is already published
lconwaymacOS 12.7.6 Monterey / x86_64  OK    OK    OK    OK  UNNEEDED, same version is already published
kjohnson3macOS 13.7.7 Ventura / arm64  OK    OK    OK    OK  UNNEEDED, same version is already published
taishanLinux (openEuler 24.03 LTS) / aarch64  OK    NA    NA  
Package 64/77HostnameOS / ArchINSTALLBUILDCHECKBUILD BIN
RCy3 2.29.2  (landing page)
Alex Pico
git_last_commit: b195f53
git_last_commit_date: 2025-10-13 20:16:19 -0400
nebbiolo2Linux (Ubuntu 24.04.3 LTS) / x86_64  OK    OK    OK  UNNEEDED, same version is already published
lconwaymacOS 12.7.6 Monterey / x86_64  OK    OK    OK    OK  UNNEEDED, same version is already published
kjohnson3macOS 13.7.7 Ventura / arm64  OK    OK    OK    OK  UNNEEDED, same version is already published
taishanLinux (openEuler 24.03 LTS) / aarch64  OK    NA    NA  
Package 65/77HostnameOS / ArchINSTALLBUILDCHECKBUILD BIN
RCyjs 2.31.0  (landing page)
Paul Shannon
git_last_commit: 4ca09d0
git_last_commit_date: 2025-04-15 10:50:16 -0400
nebbiolo2Linux (Ubuntu 24.04.3 LTS) / x86_64  OK    OK    WARNINGS  UNNEEDED, same version is already published
lconwaymacOS 12.7.6 Monterey / x86_64  OK    OK    WARNINGS    OK  UNNEEDED, same version is already published
kjohnson3macOS 13.7.7 Ventura / arm64  OK    OK    WARNINGS    OK  UNNEEDED, same version is already published
taishanLinux (openEuler 24.03 LTS) / aarch64  OK    NA    NA  
Package 66/77HostnameOS / ArchINSTALLBUILDCHECKBUILD BIN
RGraph2js 1.37.0  (landing page)
Stephane Cano
git_last_commit: 93a8bca
git_last_commit_date: 2025-04-15 10:57:58 -0400
nebbiolo2Linux (Ubuntu 24.04.3 LTS) / x86_64  OK    OK    OK  UNNEEDED, same version is already published
lconwaymacOS 12.7.6 Monterey / x86_64  OK    OK    OK    OK  UNNEEDED, same version is already published
kjohnson3macOS 13.7.7 Ventura / arm64  OK    OK    OK    OK  UNNEEDED, same version is already published
taishanLinux (openEuler 24.03 LTS) / aarch64  OK    NA    NA  
Package 67/77HostnameOS / ArchINSTALLBUILDCHECKBUILD BIN
Rgraphviz 2.53.0  (landing page)
Kasper Daniel Hansen
git_last_commit: 968c8f3
git_last_commit_date: 2025-04-15 09:16:24 -0400
nebbiolo2Linux (Ubuntu 24.04.3 LTS) / x86_64  OK    OK    WARNINGS  UNNEEDED, same version is already published
lconwaymacOS 12.7.6 Monterey / x86_64  OK    OK    WARNINGS    OK  UNNEEDED, same version is already published
kjohnson3macOS 13.7.7 Ventura / arm64  OK    OK    WARNINGS    OK  UNNEEDED, same version is already published
taishanLinux (openEuler 24.03 LTS) / aarch64  OK    NA    NA  
Package 68/77HostnameOS / ArchINSTALLBUILDCHECKBUILD BIN
ROntoTools 2.37.0  (landing page)
Sorin Draghici
git_last_commit: 9934aec
git_last_commit_date: 2025-04-15 10:23:26 -0400
nebbiolo2Linux (Ubuntu 24.04.3 LTS) / x86_64  OK    OK    WARNINGS  UNNEEDED, same version is already published
lconwaymacOS 12.7.6 Monterey / x86_64  OK    OK    WARNINGS    OK  UNNEEDED, same version is already published
kjohnson3macOS 13.7.7 Ventura / arm64  OK    OK    WARNINGS    OK  UNNEEDED, same version is already published
taishanLinux (openEuler 24.03 LTS) / aarch64  OK    NA    NA  
Package 69/77HostnameOS / ArchINSTALLBUILDCHECKBUILD BIN
rsbml 2.67.0  (landing page)
Michael Lawrence
git_last_commit: 7671d4c
git_last_commit_date: 2025-04-15 09:41:01 -0400
nebbiolo2Linux (Ubuntu 24.04.3 LTS) / x86_64  OK    OK    WARNINGS  UNNEEDED, same version is already published
lconwaymacOS 12.7.6 Monterey / x86_64... NOT SUPPORTED ...
kjohnson3macOS 13.7.7 Ventura / arm64... NOT SUPPORTED ...
taishanLinux (openEuler 24.03 LTS) / aarch64  ERROR    NA    NA  
Package 70/77HostnameOS / ArchINSTALLBUILDCHECKBUILD BIN
scGraphVerse 0.99.21  (landing page)
Francesco Cecere
git_last_commit: ba54489
git_last_commit_date: 2025-10-21 14:22:51 -0400
nebbiolo2Linux (Ubuntu 24.04.3 LTS) / x86_64  OK    OK    OK  UNNEEDED, same version is already published
lconwaymacOS 12.7.6 Monterey / x86_64  OK    OK    OK    OK  UNNEEDED, same version is already published
kjohnson3macOS 13.7.7 Ventura / arm64  OK    OK    OK    OK  UNNEEDED, same version is already published
taishanLinux (openEuler 24.03 LTS) / aarch64  OK    NA    NA  
Package 71/77HostnameOS / ArchINSTALLBUILDCHECKBUILD BIN
SGCP 1.9.0  (landing page)
Niloofar AghaieAbiane
git_last_commit: fc6b613
git_last_commit_date: 2025-04-15 13:00:46 -0400
nebbiolo2Linux (Ubuntu 24.04.3 LTS) / x86_64  OK    ERROR  skipped
lconwaymacOS 12.7.6 Monterey / x86_64  OK    ERROR  skippedskipped
kjohnson3macOS 13.7.7 Ventura / arm64  OK    ERROR  skippedskipped
taishanLinux (openEuler 24.03 LTS) / aarch64  OK    NA    NA  
Package 72/77HostnameOS / ArchINSTALLBUILDCHECKBUILD BIN
SplicingGraphs 1.49.1  (landing page)
H. Pagès
git_last_commit: c006477
git_last_commit_date: 2025-07-24 19:12:12 -0400
nebbiolo2Linux (Ubuntu 24.04.3 LTS) / x86_64  OK    ERROR  skipped
lconwaymacOS 12.7.6 Monterey / x86_64  OK    ERROR  skippedskipped
kjohnson3macOS 13.7.7 Ventura / arm64  OK    ERROR  skippedskipped
taishanLinux (openEuler 24.03 LTS) / aarch64  OK    NA    NA  
Package 73/77HostnameOS / ArchINSTALLBUILDCHECKBUILD BIN
SRAdb 1.71.0  (landing page)
Jack Zhu
git_last_commit: dfcc6bc
git_last_commit_date: 2025-04-15 09:59:17 -0400
nebbiolo2Linux (Ubuntu 24.04.3 LTS) / x86_64  OK    OK    OK  UNNEEDED, same version is already published
lconwaymacOS 12.7.6 Monterey / x86_64  OK    OK    OK    OK  UNNEEDED, same version is already published
kjohnson3macOS 13.7.7 Ventura / arm64  OK    OK    OK    OK  UNNEEDED, same version is already published
taishanLinux (openEuler 24.03 LTS) / aarch64  OK    NA    NA  
Package 74/77HostnameOS / ArchINSTALLBUILDCHECKBUILD BIN
Streamer 1.55.1  (landing page)
Martin Morgan
git_last_commit: 2412ba6
git_last_commit_date: 2025-05-19 07:14:16 -0400
nebbiolo2Linux (Ubuntu 24.04.3 LTS) / x86_64  OK    OK    OK  UNNEEDED, same version is already published
lconwaymacOS 12.7.6 Monterey / x86_64  OK    OK    OK    OK  UNNEEDED, same version is already published
kjohnson3macOS 13.7.7 Ventura / arm64  OK    OK    OK    OK  UNNEEDED, same version is already published
taishanLinux (openEuler 24.03 LTS) / aarch64  OK    NA    NA  
Package 75/77HostnameOS / ArchINSTALLBUILDCHECKBUILD BIN
topGO 2.61.1  (landing page)
Federico Marini
git_last_commit: c35a4c6
git_last_commit_date: 2025-07-18 08:19:37 -0400
nebbiolo2Linux (Ubuntu 24.04.3 LTS) / x86_64  OK    OK    WARNINGS  UNNEEDED, same version is already published
lconwaymacOS 12.7.6 Monterey / x86_64  OK    OK    WARNINGS    OK  UNNEEDED, same version is already published
kjohnson3macOS 13.7.7 Ventura / arm64  OK    OK    WARNINGS    OK  UNNEEDED, same version is already published
taishanLinux (openEuler 24.03 LTS) / aarch64  OK    NA    NA  
Package 76/77HostnameOS / ArchINSTALLBUILDCHECKBUILD BIN
VariantFiltering 1.45.3  (landing page)
Robert Castelo
git_last_commit: cafa29d
git_last_commit_date: 2025-10-21 01:31:25 -0400
nebbiolo2Linux (Ubuntu 24.04.3 LTS) / x86_64  OK    OK    OK  UNNEEDED, same version is already published
lconwaymacOS 12.7.6 Monterey / x86_64  OK    OK    OK    OK  UNNEEDED, same version is already published
kjohnson3macOS 13.7.7 Ventura / arm64  OK    OK    OK    OK  UNNEEDED, same version is already published
taishanLinux (openEuler 24.03 LTS) / aarch64  OK    NA    NA  
Package 77/77HostnameOS / ArchINSTALLBUILDCHECKBUILD BIN
vtpnet 0.49.0  (landing page)
VJ Carey
git_last_commit: b81714b
git_last_commit_date: 2025-04-15 10:24:27 -0400
nebbiolo2Linux (Ubuntu 24.04.3 LTS) / x86_64  OK    OK    OK  UNNEEDED, same version is already published
lconwaymacOS 12.7.6 Monterey / x86_64  OK    OK    OK    OK  UNNEEDED, same version is already published
kjohnson3macOS 13.7.7 Ventura / arm64  OK    OK    OK    OK  UNNEEDED, same version is already published
taishanLinux (openEuler 24.03 LTS) / aarch64  OK    NA    NA