Back to Multiple platform build/check report for BioC 3.22:   simplified   long
ABCDEF[G]HIJKLMNOPQRSTUVWXYZ

This page was generated on 2025-10-25 12:04 -0400 (Sat, 25 Oct 2025).

HostnameOSArch (*)R versionInstalled pkgs
nebbiolo2Linux (Ubuntu 24.04.3 LTS)x86_644.5.1 Patched (2025-08-23 r88802) -- "Great Square Root" 4901
lconwaymacOS 12.7.6 Montereyx86_644.5.1 Patched (2025-09-10 r88807) -- "Great Square Root" 4691
kjohnson3macOS 13.7.7 Venturaarm644.5.1 Patched (2025-09-10 r88807) -- "Great Square Root" 4637
taishanLinux (openEuler 24.03 LTS)aarch644.5.0 (2025-04-11) -- "How About a Twenty-Six" 4658
Click on any hostname to see more info about the system (e.g. compilers)      (*) as reported by 'uname -p', except on Windows and Mac OS X

Package 798/2361HostnameOS / ArchINSTALLBUILDCHECKBUILD BIN
gCrisprTools 2.15.0  (landing page)
Russell Bainer
Snapshot Date: 2025-10-24 13:45 -0400 (Fri, 24 Oct 2025)
git_url: https://git.bioconductor.org/packages/gCrisprTools
git_branch: devel
git_last_commit: eaa1795
git_last_commit_date: 2025-04-15 11:04:56 -0400 (Tue, 15 Apr 2025)
nebbiolo2Linux (Ubuntu 24.04.3 LTS) / x86_64  OK    OK    OK  UNNEEDED, same version is already published
lconwaymacOS 12.7.6 Monterey / x86_64  OK    OK    OK    OK  UNNEEDED, same version is already published
kjohnson3macOS 13.7.7 Ventura / arm64  OK    OK    OK    OK  UNNEEDED, same version is already published
taishanLinux (openEuler 24.03 LTS) / aarch64  OK    NA    NA  


CHECK results for gCrisprTools on lconway

To the developers/maintainers of the gCrisprTools package:
- Allow up to 24 hours (and sometimes 48 hours) for your latest push to git@git.bioconductor.org:packages/gCrisprTools.git to reflect on this report. See Troubleshooting Build Report for more information.
- Use the following Renviron settings to reproduce errors and warnings.
- If 'R CMD check' started to fail recently on the Linux builder(s) over a missing dependency, add the missing dependency to 'Suggests:' in your DESCRIPTION file. See Renviron.bioc for more information.

raw results


Summary

Package: gCrisprTools
Version: 2.15.0
Command: /Library/Frameworks/R.framework/Resources/bin/R CMD check --install=check:gCrisprTools.install-out.txt --library=/Library/Frameworks/R.framework/Resources/library --no-vignettes --timings gCrisprTools_2.15.0.tar.gz
StartedAt: 2025-10-24 21:20:17 -0400 (Fri, 24 Oct 2025)
EndedAt: 2025-10-24 21:28:08 -0400 (Fri, 24 Oct 2025)
EllapsedTime: 470.5 seconds
RetCode: 0
Status:   OK  
CheckDir: gCrisprTools.Rcheck
Warnings: 0

Command output

##############################################################################
##############################################################################
###
### Running command:
###
###   /Library/Frameworks/R.framework/Resources/bin/R CMD check --install=check:gCrisprTools.install-out.txt --library=/Library/Frameworks/R.framework/Resources/library --no-vignettes --timings gCrisprTools_2.15.0.tar.gz
###
##############################################################################
##############################################################################


* using log directory ‘/Users/biocbuild/bbs-3.22-bioc/meat/gCrisprTools.Rcheck’
* using R version 4.5.1 Patched (2025-09-10 r88807)
* using platform: x86_64-apple-darwin20
* R was compiled by
    Apple clang version 14.0.0 (clang-1400.0.29.202)
    GNU Fortran (GCC) 14.2.0
* running under: macOS Monterey 12.7.6
* using session charset: UTF-8
* using option ‘--no-vignettes’
* checking for file ‘gCrisprTools/DESCRIPTION’ ... OK
* checking extension type ... Package
* this is package ‘gCrisprTools’ version ‘2.15.0’
* package encoding: UTF-8
* checking package namespace information ... OK
* checking package dependencies ... OK
* checking if this is a source package ... OK
* checking if there is a namespace ... OK
* checking for hidden files and directories ... OK
* checking for portable file names ... OK
* checking for sufficient/correct file permissions ... OK
* checking whether package ‘gCrisprTools’ can be installed ... OK
* checking installed package size ... OK
* checking package directory ... OK
* checking ‘build’ directory ... OK
* checking DESCRIPTION meta-information ... OK
* checking top-level files ... OK
* checking for left-over files ... OK
* checking index information ... OK
* checking package subdirectories ... OK
* checking code files for non-ASCII characters ... OK
* checking R files for syntax errors ... OK
* checking whether the package can be loaded ... OK
* checking whether the package can be loaded with stated dependencies ... OK
* checking whether the package can be unloaded cleanly ... OK
* checking whether the namespace can be loaded with stated dependencies ... OK
* checking whether the namespace can be unloaded cleanly ... OK
* checking dependencies in R code ... NOTE
Namespace in Imports field not imported from: ‘RobustRankAggreg’
  All declared Imports should be used.
* checking S3 generic/method consistency ... OK
* checking replacement functions ... OK
* checking foreign function calls ... OK
* checking R code for possible problems ... OK
* checking Rd files ... OK
* checking Rd metadata ... OK
* checking Rd cross-references ... OK
* checking for missing documentation entries ... OK
* checking for code/documentation mismatches ... OK
* checking Rd \usage sections ... NOTE
Documented arguments not in \usage in Rd file 'ct.targetSetEnrichment.Rd':
  ‘pvalue.cutoff’ ‘organism’ ‘db.cut’ ‘species’

Functions with \usage entries need to have the appropriate \alias
entries, and all their arguments documented.
The \usage entries must correspond to syntactically valid R code.
See chapter ‘Writing R documentation files’ in the ‘Writing R
Extensions’ manual.
* checking Rd contents ... OK
* checking for unstated dependencies in examples ... OK
* checking contents of ‘data’ directory ... OK
* checking data for non-ASCII characters ... OK
* checking data for ASCII and uncompressed saves ... OK
* checking files in ‘vignettes’ ... OK
* checking examples ... OK
Examples with CPU (user + system) or elapsed time > 5s
                        user system elapsed
ct.GREATdb            83.010  2.226  86.206
ct.guideCDF           11.631 10.465  22.661
ct.makeReport         17.974  3.297  21.634
ct.makeContrastReport  9.489  2.699  12.577
ct.seas               10.153  1.022  11.060
ct.compareContrasts    9.445  0.790  10.342
ct.upSet               8.550  1.073   9.738
ct.contrastBarchart    7.101  0.063   7.241
ct.stackGuides         5.264  1.235   6.593
ct.GCbias              5.939  0.403   6.420
* checking for unstated dependencies in ‘tests’ ... OK
* checking tests ...
  Running ‘unit.tests.R’
 OK
* checking for unstated dependencies in vignettes ... OK
* checking package vignettes ... OK
* checking running R code from vignettes ... SKIPPED
* checking re-building of vignette outputs ... SKIPPED
* checking PDF version of manual ... OK
* DONE

Status: 2 NOTEs
See
  ‘/Users/biocbuild/bbs-3.22-bioc/meat/gCrisprTools.Rcheck/00check.log’
for details.


Installation output

gCrisprTools.Rcheck/00install.out

##############################################################################
##############################################################################
###
### Running command:
###
###   /Library/Frameworks/R.framework/Resources/bin/R CMD INSTALL gCrisprTools
###
##############################################################################
##############################################################################


* installing to library ‘/Library/Frameworks/R.framework/Versions/4.5-x86_64/Resources/library’
* installing *source* package ‘gCrisprTools’ ...
** this is package ‘gCrisprTools’ version ‘2.15.0’
** using staged installation
** R
** data
** inst
** byte-compile and prepare package for lazy loading
** help
*** installing help indices
** building package indices
** installing vignettes
** testing if installed package can be loaded from temporary location
** testing if installed package can be loaded from final location
** testing if installed package keeps a record of temporary installation path
* DONE (gCrisprTools)

Tests output

gCrisprTools.Rcheck/tests/unit.tests.Rout


R version 4.5.1 Patched (2025-09-10 r88807) -- "Great Square Root"
Copyright (C) 2025 The R Foundation for Statistical Computing
Platform: x86_64-apple-darwin20

R is free software and comes with ABSOLUTELY NO WARRANTY.
You are welcome to redistribute it under certain conditions.
Type 'license()' or 'licence()' for distribution details.

R is a collaborative project with many contributors.
Type 'contributors()' for more information and
'citation()' on how to cite R or R packages in publications.

Type 'demo()' for some demos, 'help()' for on-line help, or
'help.start()' for an HTML browser interface to help.
Type 'q()' to quit R.

> #require("BiocGenerics", quietly = TRUE)
> BiocGenerics:::testPackage("gCrisprTools")


RUNIT TEST PROTOCOL -- Fri Oct 24 21:27:56 2025 
*********************************************** 
Number of test functions: 0 
Number of errors: 0 
Number of failures: 0 

 
1 Test Suite : 
gCrisprTools RUnit Tests - 0 test functions, 0 errors, 0 failures
Number of test functions: 0 
Number of errors: 0 
Number of failures: 0 
> 
> proc.time()
   user  system elapsed 
  9.331   0.510  10.095 

Example timings

gCrisprTools.Rcheck/gCrisprTools-Ex.timings

nameusersystemelapsed
aln0.0020.0020.005
ann0.0710.0050.076
ct.CAT1.9620.1462.136
ct.DirectionalTests0.2920.2680.569
ct.GCbias5.9390.4036.420
ct.GREATdb83.010 2.22686.206
ct.PRC2.4460.2982.778
ct.ROC1.4970.0251.538
ct.RRAaPvals0.3080.0170.331
ct.RRAalpha0.2150.0090.226
ct.alignmentChart0.0060.0030.010
ct.alphaBeta0.0000.0010.001
ct.applyAlpha0.0010.0060.008
ct.buildSE0.4090.0200.439
ct.compareContrasts 9.445 0.79010.342
ct.contrastBarchart7.1010.0637.241
ct.expandAnnotation0.0680.0020.071
ct.filterReads0.2720.0100.288
ct.gRNARankByReplicate0.3920.0290.426
ct.generateResults0.4940.0180.516
ct.guideCDF11.63110.46522.661
ct.keyCheck0.1490.0120.166
ct.makeContrastReport 9.489 2.69912.577
ct.makeQCReport3.8790.5664.666
ct.makeReport17.974 3.29721.634
ct.makeRhoNull0.0000.0000.002
ct.normalizeBySlope1.2890.0811.388
ct.normalizeFQ0.7610.0610.831
ct.normalizeGuides2.8000.2183.059
ct.normalizeMedians0.6370.0570.706
ct.normalizeNTC0.7620.0570.827
ct.normalizeSpline0.8790.0560.945
ct.parseGeneSymbol0.0020.0000.002
ct.prepareAnnotation0.5280.0190.551
ct.preprocessFit1.8950.4392.367
ct.rankSimple3.9690.0414.045
ct.rawCountDensities0.1560.0090.165
ct.regularizeContrasts0.0970.0030.101
ct.resultCheck0.0600.0020.063
ct.scatter0.3660.0060.376
ct.seas10.153 1.02211.060
ct.seasPrep2.4060.2982.736
ct.signalSummary1.5370.0421.594
ct.simpleResult1.4550.1041.571
ct.softLog0.0010.0000.000
ct.stackGuides5.2641.2356.593
ct.targetSetEnrichment1.4500.4931.962
ct.topTargets0.3180.0150.338
ct.upSet8.5501.0739.738
ct.viewControls0.2660.0180.286
ct.viewGuides0.2830.0100.299
es0.0540.0060.063
essential.genes0.0010.0020.004
fit0.1500.0090.162
resultsDF0.0720.0030.076