Back to Multiple platform build/check report for BioC 3.22:   simplified   long
ABCDEF[G]HIJKLMNOPQRSTUVWXYZ

This page was generated on 2025-11-20 12:06 -0500 (Thu, 20 Nov 2025).

HostnameOSArch (*)R versionInstalled pkgs
nebbiolo2Linux (Ubuntu 24.04.3 LTS)x86_644.5.2 (2025-10-31) -- "[Not] Part in a Rumble" 4615
merida1macOS 12.7.6 Montereyx86_644.5.2 Patched (2025-11-05 r88990) -- "[Not] Part in a Rumble" 4610
kjohnson1macOS 13.7.5 Venturaarm644.5.2 Patched (2025-11-04 r88984) -- "[Not] Part in a Rumble" 4598
taishanLinux (openEuler 24.03 LTS)aarch644.5.0 (2025-04-11) -- "How About a Twenty-Six" 4668
Click on any hostname to see more info about the system (e.g. compilers)      (*) as reported by 'uname -p', except on Windows and Mac OS X

Package 798/2361HostnameOS / ArchINSTALLBUILDCHECKBUILD BIN
gCrisprTools 2.16.0  (landing page)
Russell Bainer
Snapshot Date: 2025-11-17 13:45 -0500 (Mon, 17 Nov 2025)
git_url: https://git.bioconductor.org/packages/gCrisprTools
git_branch: RELEASE_3_22
git_last_commit: 7b3b1fd
git_last_commit_date: 2025-10-29 10:34:14 -0500 (Wed, 29 Oct 2025)
nebbiolo2Linux (Ubuntu 24.04.3 LTS) / x86_64  OK    OK    OK  UNNEEDED, same version is already published
merida1macOS 12.7.6 Monterey / x86_64  OK    OK    OK    OK  UNNEEDED, same version is already published
kjohnson1macOS 13.7.5 Ventura / arm64  OK    OK    OK    OK  UNNEEDED, same version is already published
taishanLinux (openEuler 24.03 LTS) / aarch64  OK    OK    OK  


CHECK results for gCrisprTools on kjohnson1

To the developers/maintainers of the gCrisprTools package:
- Allow up to 24 hours (and sometimes 48 hours) for your latest push to git@git.bioconductor.org:packages/gCrisprTools.git to reflect on this report. See Troubleshooting Build Report for more information.
- Use the following Renviron settings to reproduce errors and warnings.
- If 'R CMD check' started to fail recently on the Linux builder(s) over a missing dependency, add the missing dependency to 'Suggests:' in your DESCRIPTION file. See Renviron.bioc for more information.

raw results


Summary

Package: gCrisprTools
Version: 2.16.0
Command: /Library/Frameworks/R.framework/Resources/bin/R CMD check --install=check:gCrisprTools.install-out.txt --library=/Library/Frameworks/R.framework/Resources/library --no-vignettes --timings gCrisprTools_2.16.0.tar.gz
StartedAt: 2025-11-18 06:41:06 -0500 (Tue, 18 Nov 2025)
EndedAt: 2025-11-18 06:44:25 -0500 (Tue, 18 Nov 2025)
EllapsedTime: 198.7 seconds
RetCode: 0
Status:   OK  
CheckDir: gCrisprTools.Rcheck
Warnings: 0

Command output

##############################################################################
##############################################################################
###
### Running command:
###
###   /Library/Frameworks/R.framework/Resources/bin/R CMD check --install=check:gCrisprTools.install-out.txt --library=/Library/Frameworks/R.framework/Resources/library --no-vignettes --timings gCrisprTools_2.16.0.tar.gz
###
##############################################################################
##############################################################################


* using log directory ‘/Users/biocbuild/bbs-3.22-bioc/meat/gCrisprTools.Rcheck’
* using R version 4.5.2 Patched (2025-11-04 r88984)
* using platform: aarch64-apple-darwin20
* R was compiled by
    Apple clang version 16.0.0 (clang-1600.0.26.6)
    GNU Fortran (GCC) 14.2.0
* running under: macOS Ventura 13.7.8
* using session charset: UTF-8
* using option ‘--no-vignettes’
* checking for file ‘gCrisprTools/DESCRIPTION’ ... OK
* checking extension type ... Package
* this is package ‘gCrisprTools’ version ‘2.16.0’
* package encoding: UTF-8
* checking package namespace information ... OK
* checking package dependencies ... OK
* checking if this is a source package ... OK
* checking if there is a namespace ... OK
* checking for hidden files and directories ... OK
* checking for portable file names ... OK
* checking for sufficient/correct file permissions ... OK
* checking whether package ‘gCrisprTools’ can be installed ... OK
* checking installed package size ... OK
* checking package directory ... OK
* checking ‘build’ directory ... OK
* checking DESCRIPTION meta-information ... OK
* checking top-level files ... OK
* checking for left-over files ... OK
* checking index information ... OK
* checking package subdirectories ... OK
* checking code files for non-ASCII characters ... OK
* checking R files for syntax errors ... OK
* checking whether the package can be loaded ... OK
* checking whether the package can be loaded with stated dependencies ... OK
* checking whether the package can be unloaded cleanly ... OK
* checking whether the namespace can be loaded with stated dependencies ... OK
* checking whether the namespace can be unloaded cleanly ... OK
* checking dependencies in R code ... NOTE
Namespace in Imports field not imported from: ‘RobustRankAggreg’
  All declared Imports should be used.
* checking S3 generic/method consistency ... OK
* checking replacement functions ... OK
* checking foreign function calls ... OK
* checking R code for possible problems ... OK
* checking Rd files ... OK
* checking Rd metadata ... OK
* checking Rd cross-references ... OK
* checking for missing documentation entries ... OK
* checking for code/documentation mismatches ... OK
* checking Rd \usage sections ... NOTE
Documented arguments not in \usage in Rd file 'ct.targetSetEnrichment.Rd':
  ‘pvalue.cutoff’ ‘organism’ ‘db.cut’ ‘species’

Functions with \usage entries need to have the appropriate \alias
entries, and all their arguments documented.
The \usage entries must correspond to syntactically valid R code.
See chapter ‘Writing R documentation files’ in the ‘Writing R
Extensions’ manual.
* checking Rd contents ... OK
* checking for unstated dependencies in examples ... OK
* checking contents of ‘data’ directory ... OK
* checking data for non-ASCII characters ... OK
* checking data for ASCII and uncompressed saves ... OK
* checking files in ‘vignettes’ ... OK
* checking examples ... OK
Examples with CPU (user + system) or elapsed time > 5s
                user system elapsed
ct.GREATdb    32.293  0.592  38.392
ct.guideCDF    5.765  2.188   9.579
ct.makeReport  7.047  0.905   9.194
ct.seas        4.235  0.357   5.598
* checking for unstated dependencies in ‘tests’ ... OK
* checking tests ...
  Running ‘unit.tests.R’
 OK
* checking for unstated dependencies in vignettes ... OK
* checking package vignettes ... OK
* checking running R code from vignettes ... SKIPPED
* checking re-building of vignette outputs ... SKIPPED
* checking PDF version of manual ... OK
* DONE

Status: 2 NOTEs
See
  ‘/Users/biocbuild/bbs-3.22-bioc/meat/gCrisprTools.Rcheck/00check.log’
for details.


Installation output

gCrisprTools.Rcheck/00install.out

##############################################################################
##############################################################################
###
### Running command:
###
###   /Library/Frameworks/R.framework/Resources/bin/R CMD INSTALL gCrisprTools
###
##############################################################################
##############################################################################


* installing to library ‘/Library/Frameworks/R.framework/Versions/4.5-arm64/Resources/library’
* installing *source* package ‘gCrisprTools’ ...
** this is package ‘gCrisprTools’ version ‘2.16.0’
** using staged installation
** R
** data
** inst
** byte-compile and prepare package for lazy loading
** help
*** installing help indices
** building package indices
** installing vignettes
** testing if installed package can be loaded from temporary location
** testing if installed package can be loaded from final location
** testing if installed package keeps a record of temporary installation path
* DONE (gCrisprTools)

Tests output

gCrisprTools.Rcheck/tests/unit.tests.Rout


R version 4.5.2 Patched (2025-11-04 r88984) -- "[Not] Part in a Rumble"
Copyright (C) 2025 The R Foundation for Statistical Computing
Platform: aarch64-apple-darwin20

R is free software and comes with ABSOLUTELY NO WARRANTY.
You are welcome to redistribute it under certain conditions.
Type 'license()' or 'licence()' for distribution details.

R is a collaborative project with many contributors.
Type 'contributors()' for more information and
'citation()' on how to cite R or R packages in publications.

Type 'demo()' for some demos, 'help()' for on-line help, or
'help.start()' for an HTML browser interface to help.
Type 'q()' to quit R.

> #require("BiocGenerics", quietly = TRUE)
> BiocGenerics:::testPackage("gCrisprTools")


RUNIT TEST PROTOCOL -- Tue Nov 18 06:44:18 2025 
*********************************************** 
Number of test functions: 0 
Number of errors: 0 
Number of failures: 0 

 
1 Test Suite : 
gCrisprTools RUnit Tests - 0 test functions, 0 errors, 0 failures
Number of test functions: 0 
Number of errors: 0 
Number of failures: 0 
> 
> proc.time()
   user  system elapsed 
  3.388   0.137   3.932 

Example timings

gCrisprTools.Rcheck/gCrisprTools-Ex.timings

nameusersystemelapsed
aln0.0010.0010.002
ann0.0280.0020.037
ct.CAT0.8380.0330.961
ct.DirectionalTests0.1310.0950.234
ct.GCbias2.6950.1373.210
ct.GREATdb32.293 0.59238.392
ct.PRC1.1030.0631.443
ct.ROC0.6010.0100.727
ct.RRAaPvals0.1530.0080.192
ct.RRAalpha0.1350.0040.147
ct.alignmentChart0.0010.0000.002
ct.alphaBeta0.0000.0010.000
ct.applyAlpha0.0000.0020.002
ct.buildSE0.2120.0080.245
ct.compareContrasts3.610.274.72
ct.contrastBarchart2.2360.0112.832
ct.expandAnnotation0.0310.0020.041
ct.filterReads0.1020.0070.132
ct.gRNARankByReplicate0.1660.0190.237
ct.generateResults0.2120.0090.343
ct.guideCDF5.7652.1889.579
ct.keyCheck0.0570.0050.071
ct.makeContrastReport3.3530.4764.332
ct.makeQCReport1.5810.2082.084
ct.makeReport7.0470.9059.194
ct.makeRhoNull0.0010.0000.001
ct.normalizeBySlope0.6710.0340.799
ct.normalizeFQ0.3710.0300.438
ct.normalizeGuides1.4530.1161.842
ct.normalizeMedians0.3330.0270.401
ct.normalizeNTC0.3890.0240.447
ct.normalizeSpline0.4610.0350.537
ct.parseGeneSymbol0.0000.0000.001
ct.prepareAnnotation0.2570.0110.275
ct.preprocessFit0.5880.0760.750
ct.rankSimple1.3390.0081.514
ct.rawCountDensities0.0700.0060.086
ct.regularizeContrasts0.0420.0010.043
ct.resultCheck0.0290.0010.030
ct.scatter0.1290.0020.139
ct.seas4.2350.3575.598
ct.seasPrep0.7700.1141.028
ct.signalSummary0.5680.0110.615
ct.simpleResult0.4780.0630.680
ct.softLog000
ct.stackGuides2.0490.3802.808
ct.targetSetEnrichment0.4850.0960.603
ct.topTargets0.1610.0070.175
ct.upSet3.2340.3134.097
ct.viewControls0.1070.0100.125
ct.viewGuides0.1450.0050.159
es0.0290.0030.036
essential.genes0.0000.0010.002
fit0.0940.0040.118
resultsDF0.0290.0020.033