| Back to Multiple platform build/check report for BioC 3.22: simplified long |
|
This page was generated on 2025-10-25 12:04 -0400 (Sat, 25 Oct 2025).
| Hostname | OS | Arch (*) | R version | Installed pkgs |
|---|---|---|---|---|
| nebbiolo2 | Linux (Ubuntu 24.04.3 LTS) | x86_64 | 4.5.1 Patched (2025-08-23 r88802) -- "Great Square Root" | 4901 |
| lconway | macOS 12.7.6 Monterey | x86_64 | 4.5.1 Patched (2025-09-10 r88807) -- "Great Square Root" | 4691 |
| kjohnson3 | macOS 13.7.7 Ventura | arm64 | 4.5.1 Patched (2025-09-10 r88807) -- "Great Square Root" | 4637 |
| taishan | Linux (openEuler 24.03 LTS) | aarch64 | 4.5.0 (2025-04-11) -- "How About a Twenty-Six" | 4658 |
| Click on any hostname to see more info about the system (e.g. compilers) (*) as reported by 'uname -p', except on Windows and Mac OS X | ||||
| Package 758/2361 | Hostname | OS / Arch | INSTALL | BUILD | CHECK | BUILD BIN | ||||||||
| flowGraph 1.17.0 (landing page) Alice Yue
| nebbiolo2 | Linux (Ubuntu 24.04.3 LTS) / x86_64 | OK | OK | OK | |||||||||
| lconway | macOS 12.7.6 Monterey / x86_64 | OK | OK | OK | OK | |||||||||
| kjohnson3 | macOS 13.7.7 Ventura / arm64 | OK | OK | OK | OK | |||||||||
| taishan | Linux (openEuler 24.03 LTS) / aarch64 | OK | NA | NA | ||||||||||
|
To the developers/maintainers of the flowGraph package: - Allow up to 24 hours (and sometimes 48 hours) for your latest push to git@git.bioconductor.org:packages/flowGraph.git to reflect on this report. See Troubleshooting Build Report for more information. - Use the following Renviron settings to reproduce errors and warnings. - If 'R CMD check' started to fail recently on the Linux builder(s) over a missing dependency, add the missing dependency to 'Suggests:' in your DESCRIPTION file. See Renviron.bioc for more information. |
| Package: flowGraph |
| Version: 1.17.0 |
| Command: /Library/Frameworks/R.framework/Resources/bin/R CMD check --install=check:flowGraph.install-out.txt --library=/Library/Frameworks/R.framework/Resources/library --no-vignettes --timings flowGraph_1.17.0.tar.gz |
| StartedAt: 2025-10-24 21:16:51 -0400 (Fri, 24 Oct 2025) |
| EndedAt: 2025-10-24 21:22:05 -0400 (Fri, 24 Oct 2025) |
| EllapsedTime: 314.1 seconds |
| RetCode: 0 |
| Status: OK |
| CheckDir: flowGraph.Rcheck |
| Warnings: 0 |
##############################################################################
##############################################################################
###
### Running command:
###
### /Library/Frameworks/R.framework/Resources/bin/R CMD check --install=check:flowGraph.install-out.txt --library=/Library/Frameworks/R.framework/Resources/library --no-vignettes --timings flowGraph_1.17.0.tar.gz
###
##############################################################################
##############################################################################
* using log directory ‘/Users/biocbuild/bbs-3.22-bioc/meat/flowGraph.Rcheck’
* using R version 4.5.1 Patched (2025-09-10 r88807)
* using platform: x86_64-apple-darwin20
* R was compiled by
Apple clang version 14.0.0 (clang-1400.0.29.202)
GNU Fortran (GCC) 14.2.0
* running under: macOS Monterey 12.7.6
* using session charset: UTF-8
* using option ‘--no-vignettes’
* checking for file ‘flowGraph/DESCRIPTION’ ... OK
* checking extension type ... Package
* this is package ‘flowGraph’ version ‘1.17.0’
* checking package namespace information ... OK
* checking package dependencies ... OK
* checking if this is a source package ... OK
* checking if there is a namespace ... OK
* checking for hidden files and directories ... OK
* checking for portable file names ... OK
* checking for sufficient/correct file permissions ... OK
* checking whether package ‘flowGraph’ can be installed ... OK
* checking installed package size ... OK
* checking package directory ... OK
* checking ‘build’ directory ... OK
* checking DESCRIPTION meta-information ... OK
* checking top-level files ... OK
* checking for left-over files ... OK
* checking index information ... OK
* checking package subdirectories ... OK
* checking code files for non-ASCII characters ... OK
* checking R files for syntax errors ... OK
* checking whether the package can be loaded ... OK
* checking whether the package can be loaded with stated dependencies ... OK
* checking whether the package can be unloaded cleanly ... OK
* checking whether the namespace can be loaded with stated dependencies ... OK
* checking whether the namespace can be unloaded cleanly ... OK
* checking dependencies in R code ... OK
* checking S3 generic/method consistency ... OK
* checking replacement functions ... OK
* checking foreign function calls ... OK
* checking R code for possible problems ... NOTE
get_child: no visible binding for global variable ‘no_cores’
get_paren: no visible binding for global variable ‘no_cores’
ms_psig: no visible binding for global variable ‘meta’
Undefined global functions or variables:
meta no_cores
* checking Rd files ... NOTE
checkRd: (-1) fg_get_graph.Rd:13: Lost braces
13 | A list containing two data frames (\code{v} and ]code{e})
| ^
checkRd: (-1) ggdf.Rd:22: Lost braces
22 | code{ggdf} adds to the data frames \code{v} and \code{e} in slot
| ^
* checking Rd metadata ... OK
* checking Rd cross-references ... OK
* checking for missing documentation entries ... OK
* checking for code/documentation mismatches ... OK
* checking Rd \usage sections ... OK
* checking Rd contents ... OK
* checking for unstated dependencies in examples ... OK
* checking contents of ‘data’ directory ... OK
* checking data for non-ASCII characters ... OK
* checking data for ASCII and uncompressed saves ... OK
* checking files in ‘vignettes’ ... OK
* checking examples ... OK
Examples with CPU (user + system) or elapsed time > 5s
user system elapsed
fg_load 59.938 0.564 60.927
fg_save_plots 58.512 0.463 59.361
fg_save 57.995 0.396 58.737
* checking for unstated dependencies in ‘tests’ ... OK
* checking tests ...
Running ‘testthat.R’
OK
* checking for unstated dependencies in vignettes ... OK
* checking package vignettes ... OK
* checking running R code from vignettes ... SKIPPED
* checking re-building of vignette outputs ... SKIPPED
* checking PDF version of manual ... OK
* DONE
Status: 2 NOTEs
See
‘/Users/biocbuild/bbs-3.22-bioc/meat/flowGraph.Rcheck/00check.log’
for details.
flowGraph.Rcheck/00install.out
############################################################################## ############################################################################## ### ### Running command: ### ### /Library/Frameworks/R.framework/Resources/bin/R CMD INSTALL flowGraph ### ############################################################################## ############################################################################## * installing to library ‘/Library/Frameworks/R.framework/Versions/4.5-x86_64/Resources/library’ * installing *source* package ‘flowGraph’ ... ** this is package ‘flowGraph’ version ‘1.17.0’ ** using staged installation ** R ** data ** inst ** byte-compile and prepare package for lazy loading ** help Loading required namespace: flowGraph *** installing help indices ** building package indices ** installing vignettes ** testing if installed package can be loaded from temporary location ** testing if installed package can be loaded from final location ** testing if installed package keeps a record of temporary installation path * DONE (flowGraph)
flowGraph.Rcheck/tests/testthat.Rout
R version 4.5.1 Patched (2025-09-10 r88807) -- "Great Square Root"
Copyright (C) 2025 The R Foundation for Statistical Computing
Platform: x86_64-apple-darwin20
R is free software and comes with ABSOLUTELY NO WARRANTY.
You are welcome to redistribute it under certain conditions.
Type 'license()' or 'licence()' for distribution details.
R is a collaborative project with many contributors.
Type 'contributors()' for more information and
'citation()' on how to cite R or R packages in publications.
Type 'demo()' for some demos, 'help()' for on-line help, or
'help.start()' for an HTML browser interface to help.
Type 'q()' to quit R.
> library(testthat)
> library(flowGraph)
>
> test_check("flowGraph")
[ FAIL 0 | WARN 1 | SKIP 0 | PASS 34 ]
[ FAIL 0 | WARN 1 | SKIP 0 | PASS 34 ]
>
> proc.time()
user system elapsed
6.403 0.399 6.884
flowGraph.Rcheck/flowGraph-Ex.timings
| name | user | system | elapsed | |
| cell_type_layers | 0.003 | 0.000 | 0.004 | |
| fg_add_feature | 0.403 | 0.010 | 0.414 | |
| fg_add_summary | 1.051 | 0.013 | 1.070 | |
| fg_clean_phen | 0.000 | 0.001 | 0.000 | |
| fg_clear_features | 0.989 | 0.011 | 1.007 | |
| fg_clear_summary | 0.411 | 0.005 | 0.419 | |
| fg_extract_phenotypes | 0.329 | 0.005 | 0.334 | |
| fg_extract_raw | 0.993 | 0.011 | 1.009 | |
| fg_extract_samples | 0.315 | 0.004 | 0.320 | |
| fg_feat_cumsum | 0.328 | 0.004 | 0.333 | |
| fg_feat_edge_specenr | 0.510 | 0.006 | 0.519 | |
| fg_feat_mean_class | 0.327 | 0.005 | 0.335 | |
| fg_feat_node_prop | 0.320 | 0.004 | 0.325 | |
| fg_feat_node_specenr | 0.531 | 0.008 | 0.542 | |
| fg_feat_prop_edge | 0.349 | 0.005 | 0.355 | |
| fg_get_feature | 0.321 | 0.004 | 0.327 | |
| fg_get_feature_desc | 0.983 | 0.010 | 0.999 | |
| fg_get_feature_means | 1.462 | 0.012 | 1.483 | |
| fg_get_graph | 0.329 | 0.004 | 0.336 | |
| fg_get_markers | 0.323 | 0.003 | 0.328 | |
| fg_get_meta | 0.317 | 0.004 | 0.322 | |
| fg_get_summary | 1.928 | 0.034 | 1.968 | |
| fg_get_summary_desc | 0.876 | 0.010 | 0.890 | |
| fg_get_summary_index | 1.925 | 0.016 | 1.951 | |
| fg_get_summary_tables | 1.482 | 0.014 | 1.504 | |
| fg_gsub_ids | 0.292 | 0.005 | 0.298 | |
| fg_gsub_markers | 0.347 | 0.005 | 0.354 | |
| fg_load | 59.938 | 0.564 | 60.927 | |
| fg_merge | 0.337 | 0.005 | 0.344 | |
| fg_merge_samples | 0.341 | 0.004 | 0.347 | |
| fg_plot | 0.518 | 0.006 | 0.527 | |
| fg_plot_box | 0.864 | 0.008 | 0.879 | |
| fg_plot_pVSdiff | 0.457 | 0.005 | 0.466 | |
| fg_plot_qq | 1.803 | 0.127 | 2.016 | |
| fg_replace_meta | 0.338 | 0.005 | 0.345 | |
| fg_rm_feature | 1.004 | 0.009 | 1.016 | |
| fg_rm_summary | 0.723 | 0.007 | 0.734 | |
| fg_save | 57.995 | 0.396 | 58.737 | |
| fg_save_plots | 58.512 | 0.463 | 59.361 | |
| fg_set_layout | 0.323 | 0.005 | 0.332 | |
| fg_summary | 0.401 | 0.004 | 0.406 | |
| flowGraph-class | 0.001 | 0.001 | 0.001 | |
| flowGraph | 1.423 | 0.011 | 1.441 | |
| flowGraphSubset | 0 | 0 | 0 | |
| flowGraphSubset_summary_adjust | 0.000 | 0.001 | 0.000 | |
| flowGraphSubset_summary_pars | 0 | 0 | 0 | |
| get_phen_list | 0.012 | 0.000 | 0.012 | |
| get_phen_meta | 0.002 | 0.000 | 0.002 | |
| ggdf | 0.290 | 0.004 | 0.296 | |
| loop_ind_f | 0 | 0 | 0 | |
| meandiff | 0.001 | 0.000 | 0.000 | |
| plot_gr | 1.688 | 0.032 | 1.731 | |
| set_layout_graph | 0.364 | 0.043 | 0.409 | |
| summary_table | 0.004 | 0.000 | 0.005 | |
| time_output | 0 | 0 | 0 | |
| tstr | 0 | 0 | 0 | |