Back to Multiple platform build/check report for BioC 3.22:   simplified   long
ABC[D]EFGHIJKLMNOPQRSTUVWXYZ

This page was generated on 2025-11-20 12:06 -0500 (Thu, 20 Nov 2025).

HostnameOSArch (*)R versionInstalled pkgs
nebbiolo2Linux (Ubuntu 24.04.3 LTS)x86_644.5.2 (2025-10-31) -- "[Not] Part in a Rumble" 4615
merida1macOS 12.7.6 Montereyx86_644.5.2 Patched (2025-11-05 r88990) -- "[Not] Part in a Rumble" 4610
kjohnson1macOS 13.7.5 Venturaarm644.5.2 Patched (2025-11-04 r88984) -- "[Not] Part in a Rumble" 4598
taishanLinux (openEuler 24.03 LTS)aarch644.5.0 (2025-04-11) -- "How About a Twenty-Six" 4668
Click on any hostname to see more info about the system (e.g. compilers)      (*) as reported by 'uname -p', except on Windows and Mac OS X

Package 625/2361HostnameOS / ArchINSTALLBUILDCHECKBUILD BIN
drawProteins 1.30.0  (landing page)
Paul Brennan
Snapshot Date: 2025-11-17 13:45 -0500 (Mon, 17 Nov 2025)
git_url: https://git.bioconductor.org/packages/drawProteins
git_branch: RELEASE_3_22
git_last_commit: 1adb317
git_last_commit_date: 2025-10-29 10:42:38 -0500 (Wed, 29 Oct 2025)
nebbiolo2Linux (Ubuntu 24.04.3 LTS) / x86_64  OK    OK    ERROR  
merida1macOS 12.7.6 Monterey / x86_64  OK    OK    ERROR    OK  
kjohnson1macOS 13.7.5 Ventura / arm64  OK    OK    ERROR    OK  
taishanLinux (openEuler 24.03 LTS) / aarch64  OK    OK    ERROR  


CHECK results for drawProteins on kjohnson1

To the developers/maintainers of the drawProteins package:
- Allow up to 24 hours (and sometimes 48 hours) for your latest push to git@git.bioconductor.org:packages/drawProteins.git to reflect on this report. See Troubleshooting Build Report for more information.
- Use the following Renviron settings to reproduce errors and warnings.
- If 'R CMD check' started to fail recently on the Linux builder(s) over a missing dependency, add the missing dependency to 'Suggests:' in your DESCRIPTION file. See Renviron.bioc for more information.

raw results


Summary

Package: drawProteins
Version: 1.30.0
Command: /Library/Frameworks/R.framework/Resources/bin/R CMD check --install=check:drawProteins.install-out.txt --library=/Library/Frameworks/R.framework/Resources/library --no-vignettes --timings drawProteins_1.30.0.tar.gz
StartedAt: 2025-11-18 05:48:29 -0500 (Tue, 18 Nov 2025)
EndedAt: 2025-11-18 05:48:54 -0500 (Tue, 18 Nov 2025)
EllapsedTime: 25.2 seconds
RetCode: 1
Status:   ERROR  
CheckDir: drawProteins.Rcheck
Warnings: NA

Command output

##############################################################################
##############################################################################
###
### Running command:
###
###   /Library/Frameworks/R.framework/Resources/bin/R CMD check --install=check:drawProteins.install-out.txt --library=/Library/Frameworks/R.framework/Resources/library --no-vignettes --timings drawProteins_1.30.0.tar.gz
###
##############################################################################
##############################################################################


* using log directory ‘/Users/biocbuild/bbs-3.22-bioc/meat/drawProteins.Rcheck’
* using R version 4.5.2 Patched (2025-11-04 r88984)
* using platform: aarch64-apple-darwin20
* R was compiled by
    Apple clang version 16.0.0 (clang-1600.0.26.6)
    GNU Fortran (GCC) 14.2.0
* running under: macOS Ventura 13.7.8
* using session charset: UTF-8
* using option ‘--no-vignettes’
* checking for file ‘drawProteins/DESCRIPTION’ ... OK
* this is package ‘drawProteins’ version ‘1.30.0’
* package encoding: UTF-8
* checking package namespace information ... OK
* checking package dependencies ... OK
* checking if this is a source package ... OK
* checking if there is a namespace ... OK
* checking for hidden files and directories ... OK
* checking for portable file names ... OK
* checking for sufficient/correct file permissions ... OK
* checking whether package ‘drawProteins’ can be installed ... OK
* checking installed package size ... OK
* checking package directory ... OK
* checking ‘build’ directory ... OK
* checking DESCRIPTION meta-information ... NOTE
License stub is invalid DCF.
* checking top-level files ... OK
* checking for left-over files ... OK
* checking index information ... OK
* checking package subdirectories ... NOTE
Problems with news in ‘NEWS’:
  Cannot process chunk/lines:
    CHANGES VERSION 0.98.1
* checking code files for non-ASCII characters ... OK
* checking R files for syntax errors ... OK
* checking whether the package can be loaded ... OK
* checking whether the package can be loaded with stated dependencies ... OK
* checking whether the package can be unloaded cleanly ... OK
* checking whether the namespace can be loaded with stated dependencies ... OK
* checking whether the namespace can be unloaded cleanly ... OK
* checking dependencies in R code ... OK
* checking S3 generic/method consistency ... OK
* checking replacement functions ... OK
* checking foreign function calls ... OK
* checking R code for possible problems ... OK
* checking Rd files ... OK
* checking Rd metadata ... OK
* checking Rd cross-references ... OK
* checking for missing documentation entries ... OK
* checking for code/documentation mismatches ... OK
* checking Rd \usage sections ... OK
* checking Rd contents ... OK
* checking for unstated dependencies in examples ... OK
* checking contents of ‘data’ directory ... OK
* checking data for non-ASCII characters ... OK
* checking LazyData ... OK
* checking data for ASCII and uncompressed saves ... OK
* checking files in ‘vignettes’ ... OK
* checking examples ... OK
* checking for unstated dependencies in ‘tests’ ... OK
* checking tests ...
  Running ‘testthat.R’
 ERROR
Running the tests in ‘tests/testthat.R’ failed.
Last 13 lines of output:
  Expected `mode(p)` to equal "list".
  Differences:
  1/1 mismatches
  x[1]: "object"
  y[1]: "list"
  ── Failure ('test-parsers.R:79:3'): parse_gff ──────────────────────────────────
  Expected `length(p)` to equal 11.
  Differences:
  1/1 mismatches
  [1] 1 - 11 == -10
  
  [ FAIL 24 | WARN 1 | SKIP 0 | PASS 159 ]
  Error:
  ! Test failures.
  Execution halted
* checking for unstated dependencies in vignettes ... OK
* checking package vignettes ... OK
* checking running R code from vignettes ... SKIPPED
* checking re-building of vignette outputs ... SKIPPED
* checking PDF version of manual ... OK
* DONE

Status: 1 ERROR, 2 NOTEs
See
  ‘/Users/biocbuild/bbs-3.22-bioc/meat/drawProteins.Rcheck/00check.log’
for details.


Installation output

drawProteins.Rcheck/00install.out

##############################################################################
##############################################################################
###
### Running command:
###
###   /Library/Frameworks/R.framework/Resources/bin/R CMD INSTALL drawProteins
###
##############################################################################
##############################################################################


* installing to library ‘/Library/Frameworks/R.framework/Versions/4.5-arm64/Resources/library’
* installing *source* package ‘drawProteins’ ...
** this is package ‘drawProteins’ version ‘1.30.0’
** using staged installation
** R
** data
*** moving datasets to lazyload DB
** inst
** byte-compile and prepare package for lazy loading
** help
*** installing help indices
** building package indices
** installing vignettes
** testing if installed package can be loaded from temporary location
** testing if installed package can be loaded from final location
** testing if installed package keeps a record of temporary installation path
* DONE (drawProteins)

Tests output

drawProteins.Rcheck/tests/testthat.Rout.fail


R version 4.5.2 Patched (2025-11-04 r88984) -- "[Not] Part in a Rumble"
Copyright (C) 2025 The R Foundation for Statistical Computing
Platform: aarch64-apple-darwin20

R is free software and comes with ABSOLUTELY NO WARRANTY.
You are welcome to redistribute it under certain conditions.
Type 'license()' or 'licence()' for distribution details.

R is a collaborative project with many contributors.
Type 'contributors()' for more information and
'citation()' on how to cite R or R packages in publications.

Type 'demo()' for some demos, 'help()' for on-line help, or
'help.start()' for an HTML browser interface to help.
Type 'q()' to quit R.

> library(testthat)
> library(drawProteins)
> 
> test_check("drawProteins")
Saving _problems/test-geoms-18.R
Saving _problems/test-geoms-19.R
Saving _problems/test-geoms-47.R
Saving _problems/test-geoms-48.R
Saving _problems/test-geoms-81.R
Saving _problems/test-geoms-82.R
Saving _problems/test-geoms-119.R
Saving _problems/test-geoms-120.R
Saving _problems/test-geoms-153.R
Saving _problems/test-geoms-154.R
Saving _problems/test-geoms-198.R
Saving _problems/test-geoms-199.R
Saving _problems/test-geoms-244.R
Saving _problems/test-geoms-245.R
Saving _problems/test-geoms-288.R
Saving _problems/test-geoms-289.R
Saving _problems/test-geoms-315.R
Saving _problems/test-geoms-316.R
Saving _problems/test-geoms-373.R
Saving _problems/test-geoms-374.R
[1] "Download has worked"
[1] "An error has occured. Code: 400"
Saving _problems/test-parsers-30.R
Saving _problems/test-parsers-31.R
Saving _problems/test-parsers-78.R
Saving _problems/test-parsers-79.R
[ FAIL 24 | WARN 1 | SKIP 0 | PASS 159 ]

══ Failed tests ════════════════════════════════════════════════════════════════
── Failure ('test-geoms.R:18:3'): draw_canvas ──────────────────────────────────
Expected `mode(p)` to equal "list".
Differences:
1/1 mismatches
x[1]: "object"
y[1]: "list"
── Failure ('test-geoms.R:19:3'): draw_canvas ──────────────────────────────────
Expected `length(p)` to equal 11.
Differences:
1/1 mismatches
[1] 1 - 11 == -10
── Failure ('test-geoms.R:47:3'): draw_chains ──────────────────────────────────
Expected `mode(p)` to equal "list".
Differences:
1/1 mismatches
x[1]: "object"
y[1]: "list"
── Failure ('test-geoms.R:48:3'): draw_chains ──────────────────────────────────
Expected `length(p)` to equal 11.
Differences:
1/1 mismatches
[1] 1 - 11 == -10
── Failure ('test-geoms.R:81:3'): draw_domains ─────────────────────────────────
Expected `mode(p)` to equal "list".
Differences:
1/1 mismatches
x[1]: "object"
y[1]: "list"
── Failure ('test-geoms.R:82:3'): draw_domains ─────────────────────────────────
Expected `length(p)` to equal 11.
Differences:
1/1 mismatches
[1] 1 - 11 == -10
── Failure ('test-geoms.R:119:3'): draw_phospho ────────────────────────────────
Expected `mode(p)` to equal "list".
Differences:
1/1 mismatches
x[1]: "object"
y[1]: "list"
── Failure ('test-geoms.R:120:3'): draw_phospho ────────────────────────────────
Expected `length(p)` to equal 11.
Differences:
1/1 mismatches
[1] 1 - 11 == -10
── Failure ('test-geoms.R:153:3'): draw_motif ──────────────────────────────────
Expected `mode(p)` to equal "list".
Differences:
1/1 mismatches
x[1]: "object"
y[1]: "list"
── Failure ('test-geoms.R:154:3'): draw_motif ──────────────────────────────────
Expected `length(p)` to equal 11.
Differences:
1/1 mismatches
[1] 1 - 11 == -10
── Failure ('test-geoms.R:198:3'): draw_regions ────────────────────────────────
Expected `mode(p)` to equal "list".
Differences:
1/1 mismatches
x[1]: "object"
y[1]: "list"
── Failure ('test-geoms.R:199:3'): draw_regions ────────────────────────────────
Expected `length(p)` to equal 11.
Differences:
1/1 mismatches
[1] 1 - 11 == -10
── Failure ('test-geoms.R:244:3'): draw_repeat ─────────────────────────────────
Expected `mode(p)` to equal "list".
Differences:
1/1 mismatches
x[1]: "object"
y[1]: "list"
── Failure ('test-geoms.R:245:3'): draw_repeat ─────────────────────────────────
Expected `length(p)` to equal 11.
Differences:
1/1 mismatches
[1] 1 - 11 == -10
── Failure ('test-geoms.R:288:3'): draw_recept_dom ─────────────────────────────
Expected `mode(p)` to equal "list".
Differences:
1/1 mismatches
x[1]: "object"
y[1]: "list"
── Failure ('test-geoms.R:289:3'): draw_recept_dom ─────────────────────────────
Expected `length(p)` to equal 11.
Differences:
1/1 mismatches
[1] 1 - 11 == -10
── Failure ('test-geoms.R:315:3'): draw_recept_dom ─────────────────────────────
Expected `mode(p)` to equal "list".
Differences:
1/1 mismatches
x[1]: "object"
y[1]: "list"
── Failure ('test-geoms.R:316:3'): draw_recept_dom ─────────────────────────────
Expected `length(p)` to equal 11.
Differences:
1/1 mismatches
[1] 1 - 11 == -10
── Failure ('test-geoms.R:373:3'): draw_folding ────────────────────────────────
Expected `mode(p)` to equal "list".
Differences:
1/1 mismatches
x[1]: "object"
y[1]: "list"
── Failure ('test-geoms.R:374:3'): draw_folding ────────────────────────────────
Expected `length(p)` to equal 11.
Differences:
1/1 mismatches
[1] 1 - 11 == -10
── Failure ('test-parsers.R:30:3'): parse_gff ──────────────────────────────────
Expected `mode(p)` to equal "list".
Differences:
1/1 mismatches
x[1]: "object"
y[1]: "list"
── Failure ('test-parsers.R:31:3'): parse_gff ──────────────────────────────────
Expected `length(p)` to equal 11.
Differences:
1/1 mismatches
[1] 1 - 11 == -10
── Failure ('test-parsers.R:78:3'): parse_gff ──────────────────────────────────
Expected `mode(p)` to equal "list".
Differences:
1/1 mismatches
x[1]: "object"
y[1]: "list"
── Failure ('test-parsers.R:79:3'): parse_gff ──────────────────────────────────
Expected `length(p)` to equal 11.
Differences:
1/1 mismatches
[1] 1 - 11 == -10

[ FAIL 24 | WARN 1 | SKIP 0 | PASS 159 ]
Error:
! Test failures.
Execution halted

Example timings

drawProteins.Rcheck/drawProteins-Ex.timings

nameusersystemelapsed
draw_canvas0.0950.0040.108
draw_chains0.2040.0030.213
draw_domains0.1710.0020.175
draw_folding0.2070.0020.243
draw_motif0.1100.0010.119
draw_phospho0.0840.0010.089
draw_recept_dom0.1450.0020.186
draw_regions0.1180.0010.131
draw_repeat0.1040.0010.121
extract_feat_acc0.0030.0010.004
extract_names0.0020.0010.002
extract_transcripts0.0140.0010.017
feature_to_dataframe0.0070.0020.012
get_features0.0270.0050.150
parse_gff0.2230.0170.431
phospho_site_info0.0020.0010.002