| Back to Multiple platform build/check report for BioC 3.22: simplified long |
|
This page was generated on 2025-11-20 12:03 -0500 (Thu, 20 Nov 2025).
| Hostname | OS | Arch (*) | R version | Installed pkgs |
|---|---|---|---|---|
| nebbiolo2 | Linux (Ubuntu 24.04.3 LTS) | x86_64 | 4.5.2 (2025-10-31) -- "[Not] Part in a Rumble" | 4615 |
| merida1 | macOS 12.7.6 Monterey | x86_64 | 4.5.2 Patched (2025-11-05 r88990) -- "[Not] Part in a Rumble" | 4610 |
| kjohnson1 | macOS 13.7.5 Ventura | arm64 | 4.5.2 Patched (2025-11-04 r88984) -- "[Not] Part in a Rumble" | 4598 |
| taishan | Linux (openEuler 24.03 LTS) | aarch64 | 4.5.0 (2025-04-11) -- "How About a Twenty-Six" | 4668 |
| Click on any hostname to see more info about the system (e.g. compilers) (*) as reported by 'uname -p', except on Windows and Mac OS X | ||||
| Package 524/2361 | Hostname | OS / Arch | INSTALL | BUILD | CHECK | BUILD BIN | ||||||||
| dar 1.6.0 (landing page) Francesc Catala-Moll
| nebbiolo2 | Linux (Ubuntu 24.04.3 LTS) / x86_64 | OK | OK | OK | |||||||||
| merida1 | macOS 12.7.6 Monterey / x86_64 | OK | OK | OK | OK | |||||||||
| kjohnson1 | macOS 13.7.5 Ventura / arm64 | OK | OK | OK | OK | |||||||||
| taishan | Linux (openEuler 24.03 LTS) / aarch64 | OK | OK | OK | ||||||||||
|
To the developers/maintainers of the dar package: - Allow up to 24 hours (and sometimes 48 hours) for your latest push to git@git.bioconductor.org:packages/dar.git to reflect on this report. See Troubleshooting Build Report for more information. - Use the following Renviron settings to reproduce errors and warnings. - If 'R CMD check' started to fail recently on the Linux builder(s) over a missing dependency, add the missing dependency to 'Suggests:' in your DESCRIPTION file. See Renviron.bioc for more information. |
| Package: dar |
| Version: 1.6.0 |
| Command: /home/biocbuild/bbs-3.22-bioc/R/bin/R CMD check --install=check:dar.install-out.txt --library=/home/biocbuild/bbs-3.22-bioc/R/site-library --timings dar_1.6.0.tar.gz |
| StartedAt: 2025-11-18 02:43:07 -0500 (Tue, 18 Nov 2025) |
| EndedAt: 2025-11-18 02:57:28 -0500 (Tue, 18 Nov 2025) |
| EllapsedTime: 860.7 seconds |
| RetCode: 0 |
| Status: OK |
| CheckDir: dar.Rcheck |
| Warnings: 0 |
##############################################################################
##############################################################################
###
### Running command:
###
### /home/biocbuild/bbs-3.22-bioc/R/bin/R CMD check --install=check:dar.install-out.txt --library=/home/biocbuild/bbs-3.22-bioc/R/site-library --timings dar_1.6.0.tar.gz
###
##############################################################################
##############################################################################
* using log directory ‘/home/biocbuild/bbs-3.22-bioc/meat/dar.Rcheck’
* using R version 4.5.2 (2025-10-31)
* using platform: x86_64-pc-linux-gnu
* R was compiled by
gcc (Ubuntu 13.3.0-6ubuntu2~24.04) 13.3.0
GNU Fortran (Ubuntu 13.3.0-6ubuntu2~24.04) 13.3.0
* running under: Ubuntu 24.04.3 LTS
* using session charset: UTF-8
* checking for file ‘dar/DESCRIPTION’ ... OK
* this is package ‘dar’ version ‘1.6.0’
* package encoding: UTF-8
* checking package namespace information ... OK
* checking package dependencies ... INFO
Imports includes 21 non-default packages.
Importing from so many packages makes the package vulnerable to any of
them becoming unavailable. Move as many as possible to Suggests and
use conditionally.
* checking if this is a source package ... OK
* checking if there is a namespace ... OK
* checking for hidden files and directories ... OK
* checking for portable file names ... OK
* checking for sufficient/correct file permissions ... OK
* checking whether package ‘dar’ can be installed ... OK
* checking installed package size ... OK
* checking package directory ... OK
* checking ‘build’ directory ... OK
* checking DESCRIPTION meta-information ... OK
* checking top-level files ... OK
* checking for left-over files ... OK
* checking index information ... OK
* checking package subdirectories ... OK
* checking code files for non-ASCII characters ... OK
* checking R files for syntax errors ... OK
* checking whether the package can be loaded ... OK
* checking whether the package can be loaded with stated dependencies ... OK
* checking whether the package can be unloaded cleanly ... OK
* checking whether the namespace can be loaded with stated dependencies ... OK
* checking whether the namespace can be unloaded cleanly ... OK
* checking loading without being on the library search path ... OK
* checking dependencies in R code ... OK
* checking S3 generic/method consistency ... OK
* checking replacement functions ... OK
* checking foreign function calls ... OK
* checking R code for possible problems ... OK
* checking Rd files ... OK
* checking Rd metadata ... OK
* checking Rd cross-references ... OK
* checking for missing documentation entries ... OK
* checking for code/documentation mismatches ... OK
* checking Rd \usage sections ... OK
* checking Rd contents ... OK
* checking for unstated dependencies in examples ... OK
* checking contents of ‘data’ directory ... OK
* checking data for non-ASCII characters ... OK
* checking data for ASCII and uncompressed saves ... OK
* checking R/sysdata.rda ... OK
* checking files in ‘vignettes’ ... OK
* checking examples ... OK
Examples with CPU (user + system) or elapsed time > 5s
user system elapsed
step_aldex 13.897 0.550 14.447
prep 5.242 0.685 36.783
step_deseq 5.524 0.104 5.629
import_steps 3.627 0.346 31.691
step_metagenomeseq 3.200 0.116 8.898
export_steps 2.375 0.221 12.008
recipe 2.171 0.306 15.971
* checking for unstated dependencies in ‘tests’ ... OK
* checking tests ...
Running ‘testthat.R’
OK
* checking for unstated dependencies in vignettes ... OK
* checking package vignettes ... OK
* checking re-building of vignette outputs ... OK
* checking PDF version of manual ... OK
* DONE
Status: OK
dar.Rcheck/00install.out
############################################################################## ############################################################################## ### ### Running command: ### ### /home/biocbuild/bbs-3.22-bioc/R/bin/R CMD INSTALL dar ### ############################################################################## ############################################################################## * installing to library ‘/home/biocbuild/bbs-3.22-bioc/R/site-library’ * installing *source* package ‘dar’ ... ** this is package ‘dar’ version ‘1.6.0’ ** using staged installation ** R ** data ** inst ** byte-compile and prepare package for lazy loading ** help *** installing help indices *** copying figures ** building package indices ** installing vignettes ** testing if installed package can be loaded from temporary location ** testing if installed package can be loaded from final location ** testing if installed package keeps a record of temporary installation path * DONE (dar)
dar.Rcheck/tests/testthat.Rout
R version 4.5.2 (2025-10-31) -- "[Not] Part in a Rumble"
Copyright (C) 2025 The R Foundation for Statistical Computing
Platform: x86_64-pc-linux-gnu
R is free software and comes with ABSOLUTELY NO WARRANTY.
You are welcome to redistribute it under certain conditions.
Type 'license()' or 'licence()' for distribution details.
R is a collaborative project with many contributors.
Type 'contributors()' for more information and
'citation()' on how to cite R or R packages in publications.
Type 'demo()' for some demos, 'help()' for on-line help, or
'help.start()' for an HTML browser interface to help.
Type 'q()' to quit R.
> library(testthat)
> library(dar)
>
> test_check("dar")
Starting 2 test processes.
> test-roxytest-tests-lefse.R: ! Run lefse without rarefaction is not recommended (id = lefse__Rab_cake)
> test-roxytest-tests-recipe-class.R: Loading required namespace: TreeSummarizedExperiment
> test-roxytest-tests-recipe-class.R: Found more than one class "phylo" in cache; using the first, from namespace 'phyloseq'
> test-roxytest-tests-recipe-class.R: Also defined by 'tidytree'
> test-roxytest-tests-recipe-class.R: Found more than one class "phylo" in cache; using the first, from namespace 'phyloseq'
> test-roxytest-tests-recipe-class.R: Also defined by 'tidytree'
> test-roxytest-tests-recipe-class.R: Found more than one class "phylo" in cache; using the first, from namespace 'phyloseq'
> test-roxytest-tests-recipe-class.R: Also defined by 'tidytree'
> test-roxytest-tests-recipe-class.R: Found more than one class "phylo" in cache; using the first, from namespace 'phyloseq'
> test-roxytest-tests-recipe-class.R: Also defined by 'tidytree'
> test-roxytest-tests-recipe-class.R: Found more than one class "phylo" in cache; using the first, from namespace 'phyloseq'
> test-roxytest-tests-recipe-class.R: Also defined by 'tidytree'
> test-roxytest-tests-recipe-class.R: Found more than one class "phylo" in cache; using the first, from namespace 'phyloseq'
> test-roxytest-tests-recipe-class.R: Also defined by 'tidytree'
> test-roxytest-tests-recipe-class.R: Found more than one class "phylo" in cache; using the first, from namespace 'phyloseq'
> test-roxytest-tests-recipe-class.R: Also defined by 'tidytree'
> test-roxytest-tests-recipe-class.R: Found more than one class "phylo" in cache; using the first, from namespace 'phyloseq'
> test-roxytest-tests-recipe-class.R: Also defined by 'tidytree'
> test-roxytest-tests-recipe-class.R: Found more than one class "phylo" in cache; using the first, from namespace 'phyloseq'
> test-roxytest-tests-recipe-class.R: Also defined by 'tidytree'
> test-roxytest-tests-recipe-class.R: Found more than one class "phylo" in cache; using the first, from namespace 'phyloseq'
> test-roxytest-tests-recipe-class.R: Also defined by 'tidytree'
> test-roxytest-tests-recipe-class.R: Found more than one class "phylo" in cache; using the first, from namespace 'phyloseq'
> test-roxytest-tests-recipe-class.R: Also defined by 'tidytree'
> test-roxytest-tests-recipe-class.R: Found more than one class "phylo" in cache; using the first, from namespace 'phyloseq'
> test-roxytest-tests-recipe-class.R: Also defined by 'tidytree'
> test-roxytest-tests-recipe-class.R: Found more than one class "phylo" in cache; using the first, from namespace 'phyloseq'
> test-roxytest-tests-recipe-class.R: Also defined by 'tidytree'
> test-roxytest-tests-recipe-class.R: Found more than one class "phylo" in cache; using the first, from namespace 'phyloseq'
> test-roxytest-tests-recipe-class.R: Also defined by 'tidytree'
> test-roxytest-tests-recipe-class.R: Found more than one class "phylo" in cache; using the first, from namespace 'phyloseq'
> test-roxytest-tests-recipe-class.R: Also defined by 'tidytree'
[ FAIL 0 | WARN 3 | SKIP 10 | PASS 97 ]
══ Skipped tests (10) ══════════════════════════════════════════════════════════
• On CRAN (9): 'test-roxytest-tests-bake.R:5:1',
'test-roxytest-tests-maaslin2.R:5:1', 'test-roxytest-tests-lefse.R:5:1',
'test-roxytest-tests-pkg_check.R:5:1', 'test-roxytest-tests-misc.R:71:1',
'test-roxytest-tests-misc.R:97:1', 'test-roxytest-tests-misc.R:106:1',
'test-roxytest-tests-read_data.R:11:1',
'test-roxytest-tests-steps_and_checks.R:5:1'
• Temporary disabling due to problems with the ANCOM package (1):
'test-roxytest-tests-ancom.R:6:3'
[ FAIL 0 | WARN 3 | SKIP 10 | PASS 97 ]
>
> proc.time()
user system elapsed
134.979 8.012 155.639
dar.Rcheck/dar-Ex.timings
| name | user | system | elapsed | |
| abundance_plt | 2.559 | 0.044 | 2.604 | |
| add_tax | 0.141 | 0.001 | 0.142 | |
| add_var | 0.147 | 0.021 | 0.168 | |
| bake | 0.405 | 0.008 | 0.413 | |
| contains_rarefaction | 0.694 | 0.035 | 0.728 | |
| cool | 0.241 | 0.002 | 0.243 | |
| corr_heatmap | 3.900 | 0.096 | 3.997 | |
| exclusion_plt | 0.981 | 0.002 | 0.983 | |
| export_steps | 2.375 | 0.221 | 12.008 | |
| find_intersections | 0.149 | 0.001 | 0.151 | |
| get_comparisons | 0.018 | 0.000 | 0.018 | |
| get_phy | 0.019 | 0.001 | 0.020 | |
| get_tax | 0.023 | 0.000 | 0.023 | |
| get_var | 0.024 | 0.000 | 0.023 | |
| import_steps | 3.627 | 0.346 | 31.691 | |
| intersection_df | 0.141 | 0.000 | 0.142 | |
| intersection_plt | 1.998 | 0.033 | 2.031 | |
| mutual_plt | 2.206 | 0.102 | 2.308 | |
| otu_table | 0.368 | 0.002 | 0.370 | |
| overlap_df | 0.212 | 0.001 | 0.212 | |
| phy_qc | 1.044 | 0.042 | 1.085 | |
| prep | 5.242 | 0.685 | 36.783 | |
| rand_id | 0 | 0 | 0 | |
| read_data | 1.096 | 0.622 | 1.730 | |
| recipe | 2.171 | 0.306 | 15.971 | |
| required_deps | 0.037 | 0.000 | 0.037 | |
| sample_data | 0.031 | 0.000 | 0.031 | |
| step_aldex | 13.897 | 0.550 | 14.447 | |
| step_ancom | 0.000 | 0.000 | 0.001 | |
| step_corncob | 1.795 | 0.010 | 1.812 | |
| step_deseq | 5.524 | 0.104 | 5.629 | |
| step_filter_by_abundance | 0.034 | 0.000 | 0.034 | |
| step_filter_by_prevalence | 0.033 | 0.001 | 0.034 | |
| step_filter_by_rarity | 0.033 | 0.000 | 0.034 | |
| step_filter_by_variance | 0.034 | 0.000 | 0.033 | |
| step_filter_taxa | 0.033 | 0.001 | 0.034 | |
| step_lefse | 0.057 | 0.001 | 0.058 | |
| step_maaslin | 2.766 | 0.049 | 2.816 | |
| step_metagenomeseq | 3.200 | 0.116 | 8.898 | |
| step_rarefaction | 0.046 | 0.002 | 0.048 | |
| step_subset_taxa | 0.036 | 0.003 | 0.039 | |
| step_wilcox | 1.618 | 0.158 | 1.776 | |
| steps_ids | 0.008 | 0.002 | 0.010 | |
| tax_table | 0.046 | 0.010 | 0.056 | |
| tidyeval | 0.014 | 0.002 | 0.016 | |
| to_tibble | 0.376 | 0.030 | 0.406 | |
| use_rarefy | 0.014 | 0.001 | 0.015 | |
| zero_otu | 0.396 | 0.034 | 0.430 | |